Workbook

Sheet Contents
B2: Digital education at school in Europe: Bridging gaps in access, teaching and learning - 2026
B3: Eurydice report, 2026
B5: Statistical tables
B7: Tables 1: Chapters 1 and 2
B8: ='Table 1.1'!B9 -> Table 1.1: Percentage of students in schools where Wi-Fi is made available to students and teachers
B9: ='Table 1.2'!B9 -> Table 1.2: Percentage of students in schools where the use of ICT in teaching and learning is hindered by insufficient internet bandwidth or speed at least to some extent
B10: ='Table 1.3'!B9 -> Table 1.3: Percentage of students in schools where laptops and tablets are made available in most classrooms (80%)
B11: ='Table 1.4'!B9 -> Table 1.4: Percentage of students in schools where laptops and tablets are installed in computer laboratories
B12: ='Table 1.5'!B9 -> Table 1.5: Percentage of students in schools where video and photo software for capture and editing is made available to students and teachers
B13: ='Table 1.6'!B9 -> Table 1.6: Percentage of students in schools where graphing or drawing software is made available to students and teachers
B14: ='Table 1.7'!B9 -> Table 1.7: Percentage of students in schools where digital contents linked with textbooks is made available to students and teachers
B15: ='Table 1.8'!B9 -> Table 1.8: Percentage of students in schools where digital textbooks are made available to students and teachers
B16: ='Table 1.9'!B9 -> Table 1.9: Percentage of students in schools where interactive whiteboard software is made available to students and teachers
B17: ='Table 1.10'!B9 -> Table 1.10: Percentage of students in schools where internet-based applications for collaborative work are made available to students and teachers
B18: ='Table 1.11'!B9 -> Table 1.11: Percentage of students in schools where a school intranet with applications and workspaces is made available to students and teachers
B19: ='Table 1.12'!B9 -> Table 1.12: Percentage of students in schools where a learning management system is made available to students and teachers
B20: ='Table 1.13'!B9 -> Table 1.13: Percentage of students in schools where simulations and modelling software is made available to students and teachers
B21: ='Table 1.14'!B9 -> Table 1.14: Percentage of students in schools where educational virtual reality and/or augmented reality apps are made available to students and teachers
B22: ='Table 1.15'!B9 -> Table 1.15: Percentage of students in schools where adaptive learning systems are made available to students and teachers
B24: ="Tables 1: " &'Table 1.16'!B2 -> Tables 1: Chapter 1: Top-level governance for digital technologies in schools
B25: ='Table 1.16'!B9 -> Table 1.16: Percentage of students in schools where ICT use is hindered “to some extent” or “a lot” by insufficiently experienced staff to manage ICT support
B26: ='Table 1.17'!B9 -> Table 1.17: Percentage of students in schools where ICT use is hindered “to some extent” or “a lot” by insufficient technical ICT support
B28: ="Tables 2: " &'Table 2.1'!B2 -> Tables 2: Chapter 2: Digital equity and inclusion
B29: ='Table 2.1'!B8 -> Table 2.1: Percentage of students with internet quality problems at home
B30: ='Table 2.2'!B8 -> Table 2.2: Percentage of students who can always access specific devices for schoolwork whenever they need them - Desktop or laptop computers
B31: ='Table 2.3'!B8 -> Table 2.3: Percentage of students who can always access specific devices for schoolwork whenever they need them - Tablet devices
B32: ='Table 2.4'!B8 -> Table 2.4: Percentage of students who can always access specific devices for schoolwork whenever they need them - Smartphones
B33: ='Table 2.5'!B8 -> Table 2.5: Percentage of students in schools where 76% or more / 51-75% / 26-50% / 25% or less of the students are provided with portable computers for use both at home and at school
B34: ='Table 2.6'!B8 -> Table 2.6: Correlation between schools' socio-economic background and geographic location
B35: ='Table 2.7'!B8 -> Table 2.7: Average CIL scores of students, by school composition
B36: ='Table 2.8'!B8 -> Table 2.8: Average CIL scores of students, by school location
B38: ="Tables 3: " &'Table 3.1'!B2 -> Tables 3: Chapter 3: School-level digital planning and quality assurance
B39: ='Table 3.1'!B8 -> Table 3.1: Percentage of students in schools whose principals reported whether their school has a clear ICT plan/vision and whether this helps improve the effective use of ICT in teaching and learning.
B40: ='Table 3.2'!B8 -> Table 3.2: Percentage of students in schools whose principals reported how often their school’s ICT vision/plan is reviewed.
B41: ='Table 3.3'!B8 -> Table 3.3: Percentage of students in schools whose principals reported that high priority is given to increasing the number of computers per student in the school
B42: ='Table 3.4'!B8 -> Table 3.4: Percentage of students in schools whose principals reported that high priority is given to improving the speed and reliability of internet connectivity.
B43: ='Table 3.5'!B8 -> Table 3.5: Percentage of students in schools whose principals reported that high priority is given to increasing the variety of digital learning resources available for teaching and learning.
B45: ="Tables 4: " &'Table 4.1'!$B$2 -> Tables 4: Chapter 4: Digital competence in national curricula and assessment frameworks
B46: ='Table 4.1'!B8 -> Table 4.1: Percentage of students who learnt how to evaluate the reliability (trustworthiness) of information on the internet in school to a large extent or to a moderate extent
B47: ='Table 4.2'!B8 -> Table 4.2: Percentage of students who learnt how to evaluate the reliability (trustworthiness) of information on the internet outside school to a large extent or to a moderate extent
...

Sheet Table 1.1
A1: Title: | B1: =Contents!B2 -> Digital education at school in Europe: Bridging gaps in access, teaching and learning - 2026 | K1: Contents
A2: Chapters: | B2: Chapter 1: Top-level governance for digital technologies in schools
B3: Chapter 2: Digital equity and inclusion
A4: Figures: | B4: Figure 1.3: Relationship between Wi-Fi availability and bandwidth hindrance in schools
A7: Reference year: | B7: 2023
A9: Table: | B9: Table 1.1: Percentage of students in schools where Wi-Fi is made available to students and teachers
A10: Source: | B10: Eurydice, based on IEA, ICILS 2023 database.
B14: All schools | F14: Schools with more affluent than disadvantaged students | K14: Schools with more disadvantaged than affluent students | P14: Difference between the two sub-groups | S14: Schools in small communities/villages | X14: Schools in larger towns/cities | AC14: Difference between the two sub-groups
B15: Number of cases | C15: Weighted number of cases | D15: % | E15: S.E. | F15: Weighted percentage of students in this type of school | G15: Number of cases | H15: Weighted number of cases | I15: % | J15: S.E. | K15: Weighted percentage of students in this type of school | L15: Number of cases | M15: Weighted number of cases | N15: % | O15: S.E. | P15: Difference in percentage points | Q15: S.E. | R15: t value | S15: Weighted percentage of students in this type of school | T15: Number of cases | U15: Weighted number of cases | V15: % | W15: S.E. | X15: Weighted percentage of students in this type of school | Y15: Number of cases | Z15: Weighted number of cases | AA15: % | AB15: S.E. | AC15: Difference in percentage points | AD15: S.E. | AE15: t value
A16: Belgium (Flemish Community) | B16: 2972 | C16: 64420.687 | D16: 98.176729 | E16: 1.3120323 | F16: : | G16: : | H16: : | I16: : | J16: : | K16: : | L16: : | M16: : | N16: : | O16: : | P16: : | Q16: : | R16: : | S16: 14.323316 | T16: 330 | U16: 7353.5 | V16: 93.612045 | W16: 6.5643308 | X16: 15.59389 | Y16: 394 | Z16: 9188.2803 | AA16: 100 | AB16: 0 | AC16: 6.3879547 | AD16: 6.5643308 | AE16: 0.97313113
A17: Czechia | B17: 4736 | C17: 64126.716 | D17: 56.944111 | E17: 3.3875353 | F17: 77.215762 | G17: 3418 | H17: 46993.034 | I17: 54.740728 | J17: 3.9619036 | K17: 9.9559988 | L17: 544 | M17: 8007.1702 | N17: 71.592073 | O17: 10.252652 | P17: -16.851344 | Q17: 11.153451 | R17: -1.5108637 | S17: 52.240139 | T17: 2368 | U17: 37107.017 | V17: 63.526137 | W17: 5.1784352 | X17: 18.697311 | Y17: 699 | Z17: 7573.0089 | AA17: 38.569534 | AB17: 7.1757376 | AC17: -24.956602 | AD17: 8.7690861 | AE17: -2.8459753
A18: Denmark | B18: 2325 | C18: 47002.95 | D18: 99.368238 | E18: 0.6248015 | F18: 65.074226 | G18: 1172 | H18: 24170.994 | I18: 98.778762 | J18: 1.1980287 | K18: 17.850214 | L18: 303 | M18: 6476.3075 | N18: 100 | O18: 0 | P18: -1.2212383 | Q18: 1.1980286 | R18: -1.0193732 | S18: 50.33561 | T18: 955 | U18: 19459.965 | V18: 98.487586 | W18: 1.4778917 | X18: 22.436561 | Y18: 389 | Z18: 8571.247 | AA18: 100 | AB18: 0 | AC18: 1.5124143 | AD18: 1.4778917 | AE18: 1.0233593
A19: Germany | B19: 2979 | C19: 390574.9 | D19: 64.866705 | E19: 4.1855764 | F19: 29.722649 | G19: 995 | H19: 119212.36 | I19: 71.812997 | J19: 7.583972 | K19: 51.698222 | L19: 1145 | M19: 156574.38 | N19: 58.981362 | O19: 6.0074257 | P19: 12.831635 | Q19: 9.240229 | R19: 1.3886706 | S19: 23.01703 | T19: 327 | U19: 64663.68 | V19: 57.210657 | W19: 11.080145 | X19: 31.271936 | Y19: 1007 | Z19: 108628.67 | AA19: 63.203493 | AB19: 7.7359754 | AC19: 5.9928363 | AD19: 13.380199 | AE19: 0.44788843
A20: Greece | B20: 392 | C20: 10507.46 | D20: 12.803362 | E20: 2.9166904 | F20: 64.849305 | G20: 271 | H20: 6914.6478 | I20: 14.505816 | J20: 3.6533505 | K20: 20.040077 | L20: 67 | M20: 2116.6944 | N20: 14.632349 | O20: 6.9123534 | P20: -0.12653315 | Q20: 7.3370554 | R20: -0.017245767 | S20: 27.592206 | T20: 160 | U20: 4408.0362 | V20: 20.187537 | W20: 7.1318545 | X20: 29.182836 | Y20: 80 | Z20: 2490.4415 | AA20: 11.645263 | AB20: 5.48965 | AC20: -8.5422739 | AD20: 7.966384 | AE20: -1.07229
A21: Spain | B21: 9124 | C21: 389349.36 | D21: 82.832154 | E21: 2.2635851 | F21: 68.390599 | G21: 5866 | H21: 237336.21 | I21: 81.794089 | J21: 3.2377668 | K21: 16.788733 | L21: 1297 | M21: 59794.868 | N21: 81.156799 | O21: 7.2353163 | P21: 0.63728977 | Q21: 8.5830505 | R21: 0.074249798 | S21: 28.514488 | T21: 2088 | U21: 102230.28 | V21: 82.704577 | W21: 5.8178794 | X21: 37.613134 | Y21: 3519 | Z21: 140326.37 | AA21: 85.554316 | AB21: 2.7301078 | AC21: 2.8497392 | AD21: 6.5559223 | AE21: 0.43468166
A22: France | B22: 973 | C22: 228302.57 | D22: 35.555186 | E22: 4.8089557 | F22: 38.075107 | G22: 351 | H22: 77209.551 | I22: 34.344184 | J22: 7.8441056 | K22: 46.603719 | L22: 405 | M22: 104342.83 | N22: 41.121599 | O22: 7.5863114 | P22: -6.7774149 | Q22: 10.151901 | R22: -0.66760054 | S22: 49.41762 | T22: 518 | U22: 122611.36 | V22: 44.567025 | W22: 7.7340886 | X22: 14.308944 | Y22: 51 | Z22: 12244.792 | AA22: 16.533914 | AB22: 10.483105 | AC22: -28.033111 | AD22: 14.47166 | AE22: -1.937104
A23: Croatia | B23: 2308 | C23: 30459.784 | D23: 85.906181 | E23: 3.274311 | F23: 48.364748 | G23: 1050 | H23: 13301.693 | I23: 88.87125 | J23: 3.8857573 | K23: 25.86297 | L23: 426 | M23: 6752.7068 | N23: 82.983176 | O23: 6.8523339 | P23: 5.8880743 | Q23: 7.7733941 | R23: 0.75746504 | S23: 50.958543 | T23: 962 | U23: 14428.268 | V23: 87.172168 | W23: 4.5722413 | X23: 22.754847 | Y23: 514 | Z23: 6400.2961 | AA23: 90.049222 | AB23: 5.6456552 | AC23: 2.8770532 | AD23: 7.2700434 | AE23: 0.39574085
A24: Italy | B24: 1578 | C24: 240230.92 | D24: 47.812565 | E24: 4.2667671 | F24: 40.303078 | G24: 561 | H24: 85531.333 | I24: 48.604136 | J24: 7.1646551 | K24: 43.125409 | L24: 618 | M24: 102112.56 | N24: 54.023529 | O24: 6.8209911 | P24: -5.4193929 | Q24: 9.788806 | R24: -0.55363166 | S24: 40.477714 | T24: 547 | U24: 101820.02 | V24: 58.803493 | W24: 6.5626485 | X24: 24.352233 | Y24: 387 | Z24: 54244.177 | AA24: 48.29403 | AB24: 8.7652048 | AC24: -10.509463 | AD24: 10.496946 | AE24: -1.0011924
A25: Cyprus | B25: 607 | C25: 1876.6053 | D25: 21.153818 | E25: 2.4318375 | F25: 62.250489 | G25: 470 | H25: 1468.0263 | I25: 27.958902 | J25: 3.7879626 | K25: 18.43889 | L25: 21 | M25: 69 | N25: 4.3273754 | O25: 4.3312588 | P25: 23.631527 | Q25: 5.7555274 | R25: 4.1058838 | S25: 35.160558 | T25: 126 | U25: 380.76316 | V25: 12.226428 | W25: 4.4266842 | X25: 37.971513 | Y25: 274 | Z25: 847.02632 | AA25: 27.939619 | AB25: 5.9510298 | AC25: 15.713191 | AD25: 8.9995744 | AE25: 1.7459926
A26: Latvia | B26: 2065 | C26: 14450.893 | D26: 78.566583 | E26: 3.6383153 | F26: 47.751106 | G26: 873 | H26: 5814.5894 | I26: 74.341744 | J26: 6.3521164 | K26: 28.087997 | L26: 557 | M26: 4360.9867 | N26: 91.727495 | O26: 4.6347831 | P26: -17.385751 | Q26: 7.8497715 | R26: -2.2148098 | S26: 41.983911 | T26: 777 | U26: 6065.7529 | V26: 85.570969 | W26: 4.3832116 | X26: 28.510198 | Y26: 593 | Z26: 3701.9169 | AA26: 76.460075 | AB26: 7.5008979 | AC26: -9.1108938 | AD26: 8.6876932 | AE26: -1.0487126
A27: Luxembourg | B27: 2663 | C27: 3835.8863 | D27: 99.147041 | E27: 0.082066262 | F27: 26.003415 | G27: 230 | H27: 318.53498 | I27: 100 | J27: 0 | K27: 49.720352 | L27: 529 | M27: 753.73352 | N27: 100 | O27: 0 | P27: 0 | Q27: 0 | R27: : | S27: 48.715463 | T27: 943 | U27: 1320.3436 | V27: 100 | W27: 0 | X27: 23.671921 | Y27: 317 | Z27: 443.54487 | AA27: 100 | AB27: 0 | AC27: 0 | AD27: 0 | AE27: :
A28: Hungary | B28: 1851 | C28: 42524.619 | D28: 59.673408 | E28: 4.7641897 | F28: 65.777387 | G28: 1194 | H28: 26000.511 | I28: 62.208598 | J28: 6.7007083 | K28: 17.873216 | L28: 143 | M28: 4919.7843 | N28: 58.252725 | O28: 10.641755 | P28: 3.9558731 | Q28: 12.352912 | R28: 0.32023809 | S28: 41.898927 | T28: 499 | U28: 14817.94 | V28: 60.498398 | W28: 8.05725 | X28: 31.065132 | Y28: 487 | Z28: 11265.746 | AA28: 55.287563 | AB28: 9.7442719 | AC28: -5.210835 | AD28: 12.007367 | AE28: -0.43396982
A29: Malta | B29: 1553 | C29: 2386.6667 | D29: 62.045061 | E29: 0.61742359 | F29: 63.556914 | G29: 718 | H29: 1336.5 | I29: 58.631279 | J29: 0.8876351 | K29: 10.173067 | L29: 91 | M29: 192.5 | N29: 100 | O29: 0 | P29: -41.368721 | Q29: 0.8876351 | R29: -46.605549 | S29: 69.51524 | T29: 994 | U29: 1382.1667 | V29: 54.498259 | W29: 0.76732093 | X29: : | Y29: : | Z29: : | AA29: : | AB29: : | AC29: : | AD29: : | AE29: :
A30: Austria | B30: 3066 | C30: 67424.213 | D30: 97.254148 | E30: 1.3740941 | F30: 39.136298 | G30: 1147 | H30: 24502.622 | I30: 100 | J30: 0 | K30: 43.174121 | L30: 1119 | M30: 26046.128 | N30: 96.959861 | O30: 2.1838723 | P30: 3.0401386 | Q30: 2.1838723 | R30: 1.3920863 | S30: 59.898238 | T30: 1505 | U30: 37151.573 | V30: 98.62996 | W30: 1.3697623 | X30: 29.128402 | Y30: 958 | Z30: 18390.18 | AA30: 95.85131 | AB30: 2.8469622 | AC30: -2.7786502 | AD30: 3.1541488 | AE30: -0.88095089
A31: Portugal | B31: 3093 | C31: 86968.814 | D31: 90.420882 | E31: 2.4283046 | F31: 40.951143 | G31: 1118 | H31: 33256.489 | I31: 90.94931 | J31: 3.7293717 | K31: 41.486706 | L31: 1161 | M31: 32993.468 | N31: 88.310575 | O31: 4.2099175 | P31: 2.6387353 | Q31: 5.6625171 | R31: 0.46600041 | S31: 26.91522 | T31: 676 | U31: 22057.002 | V31: 90.603476 | W31: 5.2483499 | X31: 23.903578 | Y31: 820 | Z31: 21377.262 | AA31: 92.844968 | AB31: 4.0056876 | AC31: 2.2414924 | AD31: 6.4347004 | AE31: 0.34834449
A32: Romania | B32: 1727 | C32: 83572.135 | D32: 64.053403 | E32: 4.5756429 | F32: 40.988574 | G32: 717 | H32: 28818.858 | I32: 61.381653 | J32: 7.2455154 | K32: 43.034852 | L32: 436 | M32: 30424.178 | N32: 62.77075 | O32: 8.0627814 | P32: -1.3890968 | Q32: 10.452957 | R32: -0.13289032 | S32: 54.11195 | T32: 675 | U32: 44818.237 | V32: 69.570123 | W32: 6.6653391 | X32: 21.923392 | Y32: 521 | Z32: 17461.608 | AA32: 66.273789 | AB32: 11.104709 | AC32: -3.2963336 | AD32: 13.063863 | AE32: -0.25232456
A33: Slovenia | B33: 2069 | C33: 12931.14 | D33: 62.791469 | E33: 4.0785231 | F33: 61.655185 | G33: 1309 | H33: 8099.4075 | I33: 67.819348 | J33: 5.1837331 | K33: 17.775327 | L33: 314 | M33: 2114.7962 | N33: 60.771409 | O33: 9.2491568 | P33: 7.0479386 | Q33: 10.350934 | R33: 0.68089877 | S33: 73.139403 | T33: 1344 | U33: 8646.2848 | V33: 59.777294 | W33: 4.7858981 | X33: 11.473103 | Y33: 247 | Z33: 1448.9419 | AA33: 62.852998 | AB33: 10.367511 | AC33: 3.0757045 | AD33: 11.090621 | AE33: 0.27732481
A34: Slovak Republic | B34: 1485 | C34: 23984.527 | D34: 48.9265 | E34: 4.0026655 | F34: 88.765922 | G34: 1306 | H34: 21114.805 | I34: 50.452739 | J34: 4.0841985 | K34: 7.3775017 | L34: 130 | M34: 2022.4254 | N34: 58.144297 | O34: 13.463197 | P34: -7.6915585 | Q34: 13.653415 | R34: -0.56334321 | S34: 52.567315 | T34: 749 | U34: 12359.593 | V34: 48.631409 | W34: 5.3717224 | X34: 13.957999 | Y34: 272 | Z34: 4171.9806 | AA34: 61.822646 | AB34: 10.74041 | AC34: 13.191237 | AD34: 11.816154 | AE34: 1.1163732
A35: Finland | B35: 3955 | C35: 54497.994 | D35: 97.623162 | E35: 1.1976204 | F35: 39.800331 | G35: 1473 | H35: 20777.243 | I35: 100 | J35: 0 | K35: 31.027883 | L35: 1131 | M35: 14642.109 | N35: 95.944184 | O35: 2.8755095 | P35: 4.0558162 | Q35: 2.8755095 | R35: 1.4104687 | S35: 23.334255 | T35: 862 | U35: 12444.835 | V35: 100 | W35: 0 | X35: 32.627809 | Y35: 1270 | Z35: 16691.357 | AA35: 100 | AB35: 0 | AC35: 0 | AD35: 0 | AE35: :
A36: Sweden | B36: 2964 | C36: 95965.848 | D36: 97.247464 | E36: 1.4079526 | F36: 63.184828 | G36: 1520 | H36: 46698.372 | I36: 95.474864 | J36: 2.6440903 | K36: 21.769992 | L36: 460 | M36: 15543.033 | N36: 100 | O36: 0 | P36: -4.5251361 | Q36: 2.6440903 | R36: -1.7114151 | S36: 25.407581 | T36: 596 | U36: 20950.192 | V36: 97.479901 | W36: 2.5578031 | X36: 34.904527 | Y36: 859 | Z36: 25930.525 | AA36: 92.26247 | AB36: 4.5513709 | AC36: -5.2174305 | AD36: 5.2501313 | AE36: -0.99377144
A37: Bosnia and Herzegovina | B37: 365 | C37: 3647.0699 | D37: 32.893082 | E37: 6.652753 | F37: 75.459988 | G37: 249 | H37: 2396.7256 | I37: 37.566671 | J37: 9.8141836 | K37: 11.061626 | L37: 14 | M37: 182.23116 | N37: 20.126776 | O37: 21.417275 | P37: 17.439895 | Q37: 23.558817 | R37: 0.74027041 | S37: 66.129446 | T37: 207 | U37: 2083.4677 | V37: 34.910853 | W37: 10.060542 | X37: 15.221345 | Y37: 77 | Z37: 764.26972 | AA37: 41.435661 | AB37: 15.928966 | AC37: 6.5248079 | AD37: 19.085189 | AE37: 0.34187809
A38: Norway | B38: 3444 | C38: 46576.609 | D38: 95.500032 | E38: 1.7284002 | F38: : | G38: : | H38: : | I38: : | J38: : | K38: : | L38: : | M38: : | N38: : | O38: : | P38: : | Q38: : | R38: : | S38: 46.205448 | T38: 1020 | U38: 17083.305 | V38: 94.889629 | W38: 3.0155801 | X38: 22.718868 | Y38: 941 | Z38: 9632.9491 | AA38: 94.160253 | AB38: 4.198635 | AC38: -0.72937605 | AD38: 5.1483847 | AE38: -0.14167085
A39: Serbia | B39: 1503 | C39: 28283.81 | D39: 50.556017 | E39: 4.5545459 | F39: 38.233255 | G39: 505 | H39: 9457.4782 | I39: 45.868926 | J39: 7.9632818 | K39: 32.742481 | L39: 526 | M39: 9280.8423 | N39: 52.994958 | O39: 7.9173387 | P39: -7.126032 | Q39: 11.174422 | R39: -0.63770924 | S39: 41.969582 | T39: 591 | U39: 11867.203 | V39: 51.803734 | W39: 5.4980884 | X39: 32.020467 | Y39: 396 | Z39: 7438.7895 | AA39: 42.299564 | AB39: 9.6256692 | AC39: -9.5041701 | AD39: 11.334926 | AE39: -0.83848541
A40: Netherlands* | B40: 972 | C40: 130643.24 | D40: 100 | E40: 0 | F40: : | G40: : | H40: : | I40: : | J40: : | K40: : | L40: : | M40: : | N40: : | O40: : | P40: : | Q40: : | R40: : | S40: 13.389933 | T40: 58 | U40: 13390.084 | V40: 100 | W40: 0 | X40: 35.698552 | Y40: 132 | Z40: 26090.974 | AA40: 100 | AB40: 0 | AC40: 0 | AD40: 0 | AE40: :
A42: Notes:
A43: Variables | B43: ICT Resources/Availability of technology resources/Wi-Fi (II3G04B). Based on the question of the ICILS ICT Coordinator questionnaire: CQ04B “Are the following technology infrastructure resources made available by your school to teachers and students? – Wi-Fi”. Percentages reflect the share of students in schools who chose option 1.
B44: School composition (P_COMP).
B45: School location (IP3G05): The original categories of the school location variable (IP3G05) were transformed, merging the two first categories “1: In a community with fewer than 3,000 people” and “2: In a town with at least 3,000 but less than 15,000 people” and the two last categories “4: In a city with at least 100,000 but less than 1,000,000 people” and “5: In a city with 1,000,000 or more people”. The gaps show percentage point differences between schools located in towns/communities with less than 15,000 people and schools located in towns/cities with more than 100,000 people.
A46: * | B46: Did not meet guideline for sampling participation rate for reporting.

Sheet Table 1.2
A1: Title: | B1: =Contents!B2 -> Digital education at school in Europe: Bridging gaps in access, teaching and learning - 2026 | K1: Contents
A2: Chapters: | B2: ='Table 1.1'!B2 -> Chapter 1: Top-level governance for digital technologies in schools
B3: ='Table 1.1'!B3 -> Chapter 2: Digital equity and inclusion
A4: Figures: | B4: Figure 1.3: Relationship between Wi-Fi availability and bandwidth hindrance in schools
B5: Figure 2.5: Percentage point gaps between schools with more affluent and more disadvantageous socio-economic mix in reporting that the use of ICT in teaching and learning is hindered by insufficient internet bandwidth or speed at least to some extent
B6: Figure 2.10: Percentage point gaps between schools in small villages/towns and in big cities in reporting that the use of ICT in teaching and learning is hindered by insufficient internet bandwidth or speed at least to some extent
A7: Reference year: | B7: 2023
A9: Table: | B9: Table 1.2: Percentage of students in schools where the use of ICT in teaching and learning is hindered by insufficient internet bandwidth or speed at least to some extent
A10: Source: | B10: Eurydice, based on IEA, ICILS 2023 database.
B14: All schools | F14: Schools with more affluent than disadvantaged students | K14: Schools with more disadvantaged than affluent students | P14: Difference between the two sub-groups | S14: Schools in small communities/villages | X14: Schools in larger towns/cities | AC14: Difference between the two sub-groups
B15: Number of cases | C15: Weighted number of cases | D15: % | E15: S.E. | F15: Weighted percentage of students in this type of school | G15: Number of cases | H15: Weighted number of cases | I15: % | J15: S.E. | K15: Weighted percentage of students in this type of school | L15: Number of cases | M15: Weighted number of cases | N15: % | O15: S.E. | P15: Difference in percentage points | Q15: S.E. | R15: t value | S15: Weighted percentage of students in this type of school | T15: Number of cases | U15: Weighted number of cases | V15: % | W15: S.E. | X15: Weighted percentage of students in this type of school | Y15: Number of cases | Z15: Weighted number of cases | AA15: % | AB15: S.E. | AC15: Difference in percentage points | AD15: S.E. | AE15: t value
A16: Belgium (Flemish Community) | B16: 554 | C16: 12682.42 | D16: 20.922255 | E16: 4.341575 | F16: : | G16: : | H16: : | I16: : | J16: : | K16: : | L16: : | M16: : | N16: : | O16: : | P16: : | Q16: : | R16: : | S16: 14.323316 | T16: 100 | U16: 2476.5143 | V16: 31.526697 | W16: 11.219777 | X16: 15.59389 | Y16: 118 | Z16: 2754.587 | AA16: 31.786607 | AB16: 10.228142 | AC16: -0.25991036 | AD16: 15.868702 | AE16: -0.016378804
A17: Czechia | B17: 1914 | C17: 26640.084 | D17: 23.711657 | E17: 3.3480875 | F17: 77.215762 | G17: 141 | H17: 2052.2877 | I17: 18.349495 | J17: 9.723796 | K17: 9.9559988 | L17: 1529 | M17: 21378.034 | N17: 24.979215 | O17: 4.1995924 | P17: -6.6297201 | Q17: 10.819569 | R17: -0.61275268 | S17: 52.240139 | T17: 876 | U17: 13427.494 | V17: 22.987479 | W17: 5.0254918 | X17: 18.697311 | Y17: 563 | Z17: 6514.4384 | AA17: 33.178207 | AB17: 7.7621078 | AC17: -10.190727 | AD17: 8.8147904 | AE17: -1.1560941
A18: Denmark | B18: 151 | C18: 3832.7505 | D18: 9.1939228 | E18: 3.0781886 | F18: 65.074226 | G18: 40 | H18: 1363.3121 | I18: 22.115606 | J18: 11.694122 | K18: 17.850214 | L18: 75 | M18: 1563.189 | N18: 7.3247364 | O18: 3.831603 | P18: 14.79087 | Q18: 12.230679 | R18: 1.2093253 | S18: 50.33561 | T18: 72 | U18: 1823.0851 | V18: 10.46163 | W18: 5.0661071 | X18: 22.436561 | Y18: 14 | Z18: 508.65122 | AA18: 5.93439 | AB18: 6.0852464 | AC18: 4.5272403 | AD18: 7.7048282 | AE18: 0.58758485
A19: Germany | B19: 2553 | C19: 297543.18 | D19: 49.641118 | E19: 4.0627889 | F19: 29.722649 | G19: 1228 | H19: 140641.16 | I19: 52.979341 | J19: 6.2484178 | K19: 51.698222 | L19: 664 | M19: 69281.183 | N19: 41.734678 | O19: 8.5847685 | P19: 11.244663 | Q19: 10.791518 | R19: 1.0419908 | S19: 23.01703 | T19: 308 | U19: 56674.405 | V19: 50.142212 | W19: 11.773634 | X19: 31.271936 | Y19: 1014 | Z19: 89393.341 | AA19: 52.373874 | AB19: 7.651508 | AC19: -2.2316616 | AD19: 14.421835 | AE19: -0.15474187
A20: Greece | B20: 1783 | C20: 53517.677 | D20: 65.836386 | E20: 4.2579446 | F20: 64.849305 | G20: 363 | H20: 10734.511 | I20: 74.205857 | J20: 9.9157557 | K20: 20.040077 | L20: 998 | M20: 28807.226 | N20: 61.43702 | O20: 5.4521838 | P20: 12.768837 | Q20: 11.499403 | R20: 1.1103913 | S20: 27.592206 | T20: 569 | U20: 15790.108 | V20: 72.314151 | W20: 7.3458887 | X20: 29.182836 | Y20: 372 | Z20: 12216.208 | AA20: 59.282394 | AB20: 9.2169306 | AC20: 13.031757 | AD20: 11.537414 | AE20: 1.1295215
A21: Spain | B21: 4681 | C21: 211050.06 | D21: 45.533605 | E21: 3.0764655 | F21: 68.390599 | G21: 856 | H21: 40487.924 | I21: 57.611966 | J21: 9.3028251 | K21: 16.788733 | L21: 2867 | M21: 125670.93 | N21: 43.447576 | O21: 3.8287831 | P21: 14.164391 | Q21: 10.406283 | R21: 1.3611383 | S21: 28.514488 | T21: 1258 | U21: 61811.44 | V21: 51.815264 | W21: 6.6771747 | X21: 37.613134 | Y21: 1376 | Z21: 58483.856 | AA21: 35.656494 | AB21: 4.679485 | AC21: 16.15877 | AD21: 8.0244012 | AE21: 2.0137041
A22: France | B22: 749 | C22: 162964.79 | D22: 25.984675 | E22: 4.3488975 | F22: 38.075107 | G22: 311 | H22: 74664.902 | I22: 29.425501 | J22: 7.8098643 | K22: 46.603719 | L22: 263 | M22: 53940.016 | N22: 25.099349 | O22: 6.8451046 | P22: 4.3261517 | Q22: 10.056108 | R22: 0.4302014 | S22: 49.41762 | T22: 350 | U22: 74579.865 | V22: 27.580494 | W22: 6.2392332 | X22: 14.308944 | Y22: 50 | Z22: 11612.603 | AA22: 16.863515 | AB22: 10.699098 | AC22: 10.716979 | AD22: 11.646922 | AE22: 0.92015549
A23: Croatia | B23: 1024 | C23: 14182.052 | D23: 41.439053 | E23: 4.5539359 | F23: 48.364748 | G23: 289 | H23: 4509.0347 | I23: 55.410968 | J23: 8.4397171 | K23: 25.86297 | L23: 332 | M23: 4627.8128 | N23: 31.432557 | O23: 6.9560689 | P23: 23.97841 | Q23: 10.762199 | R23: 2.2280216 | S23: 50.958543 | T23: 536 | U23: 8503.4884 | V23: 51.376058 | W23: 6.7138403 | X23: 22.754847 | Y23: 192 | Z23: 2290.2785 | AA23: 32.223165 | AB23: 9.2018154 | AC23: 19.152893 | AD23: 12.072353 | AE23: 1.5865087
A24: Italy | B24: 1280 | C24: 200233.08 | D24: 40.29949 | E24: 4.2038297 | F24: 40.303078 | G24: 481 | H24: 81239.121 | I24: 44.26217 | J24: 6.9411931 | K24: 43.125409 | L24: 476 | M24: 67723.714 | N24: 38.484758 | O24: 6.8045035 | P24: 5.7774127 | Q24: 9.1648969 | R24: 0.63038491 | S24: 40.477714 | T24: 437 | U24: 76904.178 | V24: 44.441282 | W24: 7.1532151 | X24: 24.352233 | Y24: 241 | Z24: 35170.634 | AA24: 32.916988 | AB24: 9.3485311 | AC24: 11.524293 | AD24: 11.481114 | AE24: 1.0037609
A25: Cyprus | B25: 520 | C25: 1414 | D25: 15.975169 | E25: 0.74956843 | F25: 62.250489 | G25: 225 | H25: 546.5 | I25: 34.274067 | J25: 3.7114414 | K25: 18.43889 | L25: 251 | M25: 777.5 | N25: 14.864287 | O25: 0.78226961 | P25: 19.40978 | Q25: 3.7881381 | R25: 5.1238311 | S25: 35.160558 | T25: 338 | U25: 989 | V25: 31.962375 | W25: 2.1010687 | X25: 37.971513 | Y25: 59 | Z25: 166 | AA25: 5.4755994 | AB25: 0.61596244 | AC25: 26.486776 | AD25: 2.3280236 | AE25: 11.377365
A26: Latvia | B26: 1549 | C26: 10643.32 | D26: 59.302487 | E26: 4.1485361 | F26: 47.751106 | G26: 334 | H26: 2660.0333 | I26: 57.356706 | J26: 7.9226218 | K26: 28.087997 | L26: 742 | M26: 4848.9632 | N26: 61.995844 | O26: 6.4889329 | P26: -4.6391376 | Q26: 10.148549 | R26: -0.45712326 | S26: 41.983911 | T26: 677 | U26: 5032.3126 | V26: 72.179091 | W26: 6.7238963 | X26: 28.510198 | Y26: 281 | Z26: 1716.3258 | AA26: 35.449309 | AB26: 7.6321514 | AC26: 36.729782 | AD26: 10.171554 | AE26: 3.6110294
A27: Luxembourg | B27: 682 | C27: 1084.3535 | D27: 30.075427 | E27: 2.2450764 | F27: 26.003415 | G27: 0 | H27: 0 | I27: 0 | J27: 0 | K27: 49.720352 | L27: 0 | M27: 0 | N27: 0 | O27: 0 | P27: 0 | Q27: 0 | R27: : | S27: 48.715463 | T27: 431 | U27: 601.24725 | V27: 45.537181 | W27: 3.9079554 | X27: 23.671921 | Y27: 0 | Z27: 0 | AA27: 0 | AB27: 0 | AC27: 45.537181 | AD27: 3.9079554 | AE27: 11.652431
A28: Hungary | B28: 927 | C28: 22040.386 | D28: 31.417528 | E28: 4.4682567 | F28: 65.777387 | G28: 106 | H28: 3551.5617 | I28: 42.05228 | J28: 13.364528 | K28: 17.873216 | L28: 522 | M28: 12158.784 | N28: 29.726386 | O28: 5.388109 | P28: 12.325894 | Q28: 14.022907 | R28: 0.87898283 | S28: 41.898927 | T28: 264 | U28: 8013.0072 | V28: 33.953776 | W28: 7.617135 | X28: 31.065132 | Y28: 251 | Z28: 5313.1642 | AA28: 26.074784 | AB28: 8.1392273 | AC28: 7.878992 | AD28: 10.905209 | AE28: 0.72249806
A29: Malta | B29: 1092 | C29: 1837.1667 | D29: 57.842263 | E29: 0.62983161 | F29: 63.556914 | G29: : | H29: : | I29: : | J29: : | K29: 10.173067 | L29: 649 | M29: 1252.5 | N29: 64.214304 | O29: 0.77219288 | P29: : | Q29: : | R29: : | S29: 69.51524 | T29: 528 | U29: 833.66667 | V29: 42.671899 | W29: 0.93032566 | X29: : | Y29: : | Z29: : | AA29: : | AB29: : | AC29: : | AD29: : | AE29: :
A30: Austria | B30: 1106 | C30: 24879.677 | D30: 36.696481 | E30: 4.3336771 | F30: 39.136298 | G30: 570 | H30: 13445.369 | I30: 53.073526 | J30: 7.4879964 | K30: 43.174121 | L30: 354 | M30: 7125.6508 | N30: 29.081176 | O30: 7.5159297 | P30: 23.99235 | Q30: 10.509813 | R30: 2.2828521 | S30: 59.898238 | T30: 411 | U30: 10574.499 | V30: 28.073171 | W30: 5.6637372 | X30: 29.128402 | Y30: 430 | Z30: 8695.1435 | AA30: 47.858779 | AB30: 9.462346 | AC30: -19.785608 | AD30: 10.947811 | AE30: -1.8072661
A31: Portugal | B31: 2872 | C31: 79573.619 | D31: 82.720768 | E31: 2.3322701 | F31: 40.951143 | G31: 1187 | H31: 32573.029 | I31: 85.962877 | J31: 4.2081673 | K31: 41.486706 | L31: 927 | M31: 27273.358 | N31: 74.407344 | O31: 5.0096499 | P31: 11.555533 | Q31: 7.3125106 | R31: 1.5802415 | S31: 26.91522 | T31: 724 | U31: 22499.792 | V31: 90.448543 | W31: 4.5928759 | X31: 23.903578 | Y31: 559 | Z31: 15527.477 | AA31: 67.43839 | AB31: 7.0976329 | AC31: 23.010153 | AD31: 9.3694007 | AE31: 2.4558831
A32: Romania | B32: 1043 | C32: 56489.286 | D32: 43.319391 | E32: 4.6863122 | F32: 40.988574 | G32: 325 | H32: 24233.853 | I32: 49.377073 | J32: 7.7535051 | K32: 43.034852 | L32: 493 | M32: 16912.937 | N32: 36.023081 | O32: 9.026016 | P32: 13.353991 | Q32: 12.111312 | R32: 1.1026048 | S32: 54.11195 | T32: 427 | U32: 33330.81 | V32: 51.252847 | W32: 6.529128 | X32: 21.923392 | Y32: 342 | Z32: 8153.2201 | AA32: 30.944733 | AB32: 11.909377 | AC32: 20.308114 | AD32: 13.711164 | AE32: 1.4811371
A33: Slovenia | B33: 738 | C33: 4784.9937 | D33: 23.356384 | E33: 3.0473616 | F33: 61.655185 | G33: 158 | H33: 974.65173 | I33: 28.00788 | J33: 8.5168614 | K33: 17.775327 | L33: 380 | M33: 2469.7108 | N33: 20.684322 | O33: 3.7926558 | P33: 7.3235579 | Q33: 9.377369 | R33: 0.78098217 | S33: 73.139403 | T33: 620 | U33: 4111.2921 | V33: 28.175108 | W33: 4.0753233 | X33: 11.473103 | Y33: 35 | Z33: 198.00787 | AA33: 9.104179 | AB33: 6.2183415 | AC33: 19.07093 | AD33: 7.7850814 | AE33: 2.4496763
A34: Slovak Republic | B34: 1363 | C34: 22413.991 | D34: 46.273474 | E34: 3.8411535 | F34: 88.765922 | G34: 136 | H34: 2074.6966 | I34: 59.647083 | J34: 16.395515 | K34: 7.3775017 | L34: 1137 | M34: 18778.17 | N34: 45.503847 | O34: 4.2573629 | P34: 14.143236 | Q34: 17.638566 | R34: 0.80183592 | S34: 52.567315 | T34: 788 | U34: 13061.166 | V34: 52.599416 | W34: 5.5411293 | X34: 13.957999 | Y34: 148 | Z34: 2709.715 | AA34: 40.15401 | AB34: 8.2391642 | AC34: 12.445406 | AD34: 9.5992111 | AE34: 1.296503
A35: Finland | B35: 971 | C35: 13292.565 | D35: 23.9413 | E35: 3.7901804 | F35: 39.800331 | G35: 309 | H35: 4335.3942 | I35: 28.984376 | J35: 6.7766147 | K35: 31.027883 | L35: 343 | M35: 4097.7714 | N35: 19.722402 | O35: 5.3578688 | P35: 9.2619732 | Q35: 8.5180707 | R35: 1.0873323 | S35: 23.334255 | T35: 111 | U35: 1478.0305 | V35: 12.173418 | W35: 5.5790568 | X35: 32.627809 | Y35: 281 | Z35: 3850.1166 | AA35: 23.066529 | AB35: 7.2883069 | AC35: -10.893111 | AD35: 8.846306 | AE35: -1.2313739
A36: Sweden | B36: 358 | C36: 12216.159 | D36: 12.623596 | E36: 2.8285699 | F36: 63.184828 | G36: 43 | H36: 1664.716 | I36: 10.287925 | J36: 7.1343454 | K36: 21.769992 | L36: 148 | M36: 4529.4548 | N36: 9.6250673 | O36: 3.1037725 | P36: 0.6628576 | Q36: 8.2711523 | R36: 0.080140901 | S36: 25.407581 | T36: 73 | U36: 2336.5416 | V36: 10.871778 | W36: 5.2552556 | X36: 34.904527 | Y36: 92 | Z36: 2499.0452 | AA36: 8.9237819 | AB36: 4.6296433 | AC36: 1.9479964 | AD36: 7.6987343 | AE36: 0.25302813
A37: Bosnia and Herzegovina | B37: 832 | C37: 8432.5436 | D37: 79.125477 | E37: 4.8304573 | F37: 75.459988 | G37: 76 | H37: 905.41656 | I37: 100 | J37: 0 | K37: 11.061626 | L37: 477 | M37: 4983.7884 | N37: 78.116719 | O37: 6.5792746 | P37: 21.883281 | Q37: 6.5792746 | R37: 3.3260933 | S37: 66.129446 | T37: 501 | U37: 5174.7852 | V37: 86.709365 | W37: 5.4780193 | X37: 15.221345 | Y37: 123 | Z37: 1131.184 | AA37: 61.328293 | AB37: 15.256396 | AC37: 25.381071 | AD37: 15.315351 | AE37: 1.6572308
A38: Norway | B38: 405 | C38: 4945.1801 | D38: 10.403651 | E38: 2.9061467 | F38: : | G38: : | H38: : | I38: : | J38: : | K38: : | L38: : | M38: : | N38: : | O38: : | P38: : | Q38: : | R38: : | S38: 46.205448 | T38: 139 | U38: 1718.742 | V38: 9.761512 | W38: 4.4425893 | X38: 22.718868 | Y38: 90 | Z38: 924.32432 | AA38: 9.0350952 | AB38: 6.2127196 | AC38: 0.72641679 | AD38: 7.6914129 | AE38: 0.094445168
A39: Serbia | B39: 1144 | C39: 21844.61 | D39: 38.231985 | E39: 4.3427529 | F39: 38.233255 | G39: 370 | H39: 7250.9317 | I39: 41.403874 | J39: 7.3192717 | K39: 32.742481 | L39: 471 | M39: 8468.476 | N39: 39.338458 | O39: 7.388374 | P39: 2.0654162 | Q39: 9.6801285 | R39: 0.21336661 | S39: 41.969582 | T39: 527 | U39: 10898.153 | V39: 46.662571 | W39: 6.4877042 | X39: 32.020467 | Y39: 303 | Z39: 5534.4926 | AA39: 31.471064 | AB39: 7.1390168 | AC39: 15.191506 | AD39: 9.4479842 | AE39: 1.6079098
A40: Netherlands* | B40: 51 | C40: 10841.761 | D40: 8.7791652 | E40: 5.2710279 | F40: : | G40: : | H40: : | I40: : | J40: : | K40: : | L40: : | M40: : | N40: : | O40: : | P40: : | Q40: : | R40: : | S40: 13.389933 | T40: 11 | U40: 3789.6175 | V40: 38.321089 | W40: 72.614006 | X40: 35.698552 | Y40: 40 | Z40: 7052.1434 | AA40: 27.029054 | AB40: 22.435542 | AC40: 11.292034 | AD40: 76.00097 | AE40: 0.1485775
A42: Notes:
A43: Variables | B43: ICT Support/Use of ICT hindered/Insufficient Internet bandwidth or speed (II3G14B). Based on the question of the ICILS ICT Coordinator questionnaire: CQ14B “To what extent is the use of ICT in teaching and learning at your school hindered by each of the following obstacles? - Insufficient internet bandwidth or speed”. Percentages reflect the share of students in schools who chose option 1 (A lot) or 2 (to some extent).
B44: School composition (P_COMP).
B45: School location (IP3G05): The original categories of the school location variable (IP3G05) were transformed, merging the two first categories “1: In a community with fewer than 3,000 people” and “2: In a town with at least 3,000 but less than 15,000 people” and the two last categories “4: In a city with at least 100,000 but less than 1,000,000 people” and “5: In a city with 1,000,000 or more people”. The gaps show percentage point differences between schools located in towns/communities with less than 15,000 people and schools located in towns/cities with more than 100,000 people.
...

Sheet Table 1.3
A1: Title: | B1: =Contents!B2 -> Digital education at school in Europe: Bridging gaps in access, teaching and learning - 2026 | K1: Contents
A2: Chapters: | B2: ='Table 1.1'!B2 -> Chapter 1: Top-level governance for digital technologies in schools
B3: ='Table 1.1'!B3 -> Chapter 2: Digital equity and inclusion
A4: Figures: | B4: Figure 1.6: Availability of laptops and tablets in classrooms and computer labs
B5: Figure 2.6: Percentage point gaps between schools with more advantageous and more disadvantageous socio-economic mix in the availability of laptops and tablets in classrooms
A7: Reference year: | B7: 2023
A9: Table: | B9: Table 1.3: Percentage of students in schools where laptops and tablets are made available in most classrooms (80%)
A10: Source: | B10: Eurydice, based on IEA, ICILS 2023 database.
B14: All schools | F14: Schools with more affluent than disadvantaged students | K14: Schools with more disadvantaged than affluent students | P14: Difference between the two sub-groups | S14: Schools in small communities/villages | X14: Schools in larger towns/cities | AC14: Difference between the two sub-groups
B15: Number of cases | C15: Weighted number of cases | D15: % | E15: S.E. | F15: Weighted percentage of students in this type of school | G15: Number of cases | H15: Weighted number of cases | I15: % | J15: S.E. | K15: Weighted percentage of students in this type of school | L15: Number of cases | M15: Weighted number of cases | N15: % | O15: S.E. | P15: Difference in percentage points | Q15: S.E. | R15: t value | S15: Weighted percentage of students in this type of school | T15: Number of cases | U15: Weighted number of cases | V15: % | W15: S.E. | X15: Weighted percentage of students in this type of school | Y15: Number of cases | Z15: Weighted number of cases | AA15: % | AB15: S.E. | AC15: Difference in percentage points | AD15: S.E. | AE15: t value
A16: Belgium (Flemish Community) | B16: 363 | C16: 7608.1812 | D16: 12.43 | E16: 2.94 | F16: : | G16: : | H16: : | I16: : | J16: : | K16: : | L16: : | M16: : | N16: : | O16: : | P16: : | Q16: : | R16: : | S16: 14.323316 | T16: 77 | U16: 1264.3863 | V16: 16.09598 | W16: 9.5640512 | X16: 15.59389 | Y16: 107 | Z16: 2156.2303 | AA16: 24.881859 | AB16: 11.447215 | AC16: -8.7858789 | AD16: 14.551219 | AE16: -0.60378987
A17: Czechia | B17: 3183 | C17: 45014.517 | D17: 40.07 | E17: 3.69 | F17: 77.215762 | G17: 2389 | H17: 34862.362 | I17: 40.735009 | J17: 4.6150028 | K17: 9.9559988 | L17: 313 | M17: 3471.8505 | N17: 31.041799 | O17: 10.206873 | P17: -9.69321 | Q17: 12.032232 | R17: -0.80560365 | S17: 52.240139 | T17: 1332 | U17: 22195.045 | V17: 37.997273 | W17: 5.7601112 | X17: 18.697311 | Y17: 655 | Z17: 8531.7731 | AA17: 43.452546 | AB17: 9.2233545 | AC17: -5.455273 | AD17: 10.542957 | AE17: -0.51743292
A18: Denmark | B18: 1117 | C18: 23212.219 | D18: 55.22 | E18: 5.1 | F18: 65.074226 | G18: 476 | H18: 9355.2587 | I18: 44.747228 | J18: 7.344018 | K18: 17.850214 | L18: 188 | M18: 4658.9299 | N18: 75.577016 | O18: 9.6940747 | P18: 30.829788 | Q18: 12.48129 | R18: 2.4700802 | S18: 50.33561 | T18: 480 | U18: 9181.381 | V18: 52.686631 | W18: 7.9851851 | X18: 22.436561 | Y18: 207 | Z18: 4617.5486 | AA18: 56.748144 | AB18: 12.125948 | AC18: -4.0615137 | AD18: 13.284865 | AE18: -0.30572488
A19: Germany | B19: 1258 | C19: 170910.67 | D19: 28.38 | E19: 3.78 | F19: 29.722649 | G19: 252 | H19: 24807.51 | I19: 14.943934 | J19: 5.445212 | K19: 51.698222 | L19: 553 | M19: 93845.137 | N19: 35.35134 | O19: 5.2653173 | P19: 20.407406 | Q19: 7.9038796 | R19: 2.5819479 | S19: 23.01703 | T19: 115 | U19: 29336.277 | V19: 25.955029 | W19: 10.565578 | X19: 31.271936 | Y19: 450 | Z19: 62436.838 | AA19: 36.327669 | AB19: 6.7460738 | AC19: -10.37264 | AD19: 13.564389 | AE19: -0.7646964
A20: Greece | B20: 927 | C20: 24967.749 | D20: 30.71 | E20: 4.31 | F20: 64.849305 | G20: 557 | H20: 14340.888 | I20: 30.584736 | J20: 5.0538812 | K20: 20.040077 | L20: 98 | M20: 2591.6664 | N20: 17.915751 | O20: 7.4148858 | P20: -12.668985 | Q20: 8.1394452 | R20: -1.5564925 | S20: 27.592206 | T20: 277 | U20: 6717.4546 | V20: 30.764009 | W20: 8.3802192 | X20: 29.182836 | Y20: 175 | Z20: 5122.2705 | AA20: 24.857179 | AB20: 7.1251319 | AC20: 5.90683 | AD20: 11.295129 | AE20: 0.52295374
A21: Spain | B21: 3221 | C21: 129638.41 | D21: 28.02 | E21: 2.73 | F21: 68.390599 | G21: 2147 | H21: 80908.512 | I21: 28.049541 | J21: 3.1707443 | K21: 16.788733 | L21: 482 | M21: 17799.234 | N21: 25.327277 | O21: 7.1099814 | P21: -2.7222644 | Q21: 8.0009056 | R21: -0.34024453 | S21: 28.514488 | T21: 666 | U21: 27579.576 | V21: 23.119393 | W21: 5.2468978 | X21: 37.613134 | Y21: 1201 | Z21: 47559.074 | AA21: 28.995862 | AB21: 4.9594954 | AC21: -5.8764689 | AD21: 7.249011 | AE21: -0.81065802
A22: France | B22: 1045 | C22: 228495.17 | D22: 36.43 | E22: 4.64 | F22: 38.075107 | G22: 442 | H22: 92293.303 | I22: 41.931987 | J22: 8.3771293 | K22: 46.603719 | L22: 343 | M22: 80008.844 | N22: 32.179095 | O22: 7.201623 | P22: -9.7528925 | Q22: 11.445935 | R22: -0.85208352 | S22: 49.41762 | T22: 473 | U22: 101115.59 | V22: 38.113399 | W22: 6.7638965 | X22: 14.308944 | Y22: 107 | Z22: 22366.015 | AA22: 30.200415 | AB22: 12.41474 | AC22: 7.9129846 | AD22: 14.365068 | AE22: 0.55084909
A23: Croatia | B23: 717 | C23: 9306.454 | D23: 27.19 | E23: 4.19 | F23: 48.364748 | G23: 303 | H23: 3776.9415 | I23: 25.653357 | J23: 7.4928821 | K23: 25.86297 | L23: 158 | M23: 2242.5754 | N23: 27.55873 | O23: 6.495365 | P23: 1.9053737 | Q23: 10.328679 | R23: 0.1844741 | S23: 50.958543 | T23: 265 | U23: 4102.4042 | V23: 24.785752 | W23: 6.1697705 | X23: 22.754847 | Y23: 207 | Z23: 2271.0969 | AA23: 31.953288 | AB23: 9.2100234 | AC23: -7.1675365 | AD23: 10.679207 | AE23: -0.6711675
A24: Italy | B24: 1457 | C24: 223711.58 | D24: 44.69 | E24: 4.18 | F24: 40.303078 | G24: 538 | H24: 89674.656 | I24: 50.958626 | J24: 7.0679667 | K24: 43.125409 | L24: 456 | M24: 74063.33 | N24: 40.352526 | O24: 6.983442 | P24: -10.6061 | Q24: 9.9767535 | R24: -1.0630813 | S24: 40.477714 | T24: 484 | U24: 84447.066 | V24: 47.759664 | W24: 6.9570742 | X24: 24.352233 | Y24: 278 | Z24: 44074.009 | AA24: 41.249858 | AB24: 9.5938856 | AC24: 6.5098063 | AD24: 12.004122 | AE24: 0.5422976
A25: Cyprus | B25: 1158 | C25: 3516.5526 | D25: 40.05 | E25: 1.91 | F25: 62.250489 | G25: 578 | H25: 1765.5526 | I25: 33.62536 | J25: 2.8179145 | K25: 18.43889 | L25: 225 | M25: 663 | N25: 41.580433 | O25: 2.0886388 | P25: 7.9550725 | Q25: 3.4986517 | R25: 2.2737538 | S25: 35.160558 | T25: 480 | U25: 1409 | V25: 46.589861 | W25: 2.7844526 | X25: 37.971513 | Y25: 363 | Z25: 1129.7105 | AA25: 37.26411 | AB25: 5.5446331 | AC25: 9.325751 | AD25: 6.8072243 | AE25: 1.3699785
A26: Latvia | B26: 565 | C26: 3740.2226 | D26: 20.99 | E26: 3.66 | F26: 47.751106 | G26: 255 | H26: 1590.6183 | I26: 20.684845 | J26: 5.6634044 | K26: 28.087997 | L26: 79 | M26: 615.66906 | N26: 13.275304 | O26: 5.7905896 | P26: -7.4095416 | Q26: 8.4186636 | R26: -0.88013275 | S26: 41.983911 | T26: 156 | U26: 1132.2535 | V26: 16.552629 | W26: 4.6661843 | X26: 28.510198 | Y26: 134 | Z26: 819.14045 | AA26: 17.416968 | AB26: 7.16313 | AC26: -0.86433953 | AD26: 8.5489009 | AE26: -0.10110534
A27: Luxembourg | B27: 453 | C27: 600.16941 | D27: 15.51 | E27: 1.56 | F27: 26.003415 | G27: 0 | H27: 0 | I27: 0 | J27: 0 | K27: 49.720352 | L27: 63 | M27: 78.357143 | N27: 10.395868 | O27: 1.3009178 | P27: 10.395868 | Q27: 1.3009178 | R27: 7.99118 | S27: 48.715463 | T27: 111 | U27: 164.51557 | V27: 12.460057 | W27: 2.8904199 | X27: 23.671921 | Y27: 63 | Z27: 78.357143 | AA27: 17.666114 | AB27: 2.6063383 | AC27: -5.2060567 | AD27: 3.9538642 | AE27: -1.3167009
A28: Hungary | B28: 1313 | C28: 28106.682 | D28: 39.86 | E28: 4.74 | F28: 65.777387 | G28: 846 | H28: 17382.543 | I28: 41.589322 | J28: 6.6383692 | K28: 17.873216 | L28: 128 | M28: 4114.2514 | N28: 52.03309 | O28: 12.279988 | P28: 10.443768 | Q28: 14.368006 | R28: 0.72687666 | S28: 41.898927 | T28: 361 | U28: 10034.191 | V28: 40.967399 | W28: 7.4229182 | X28: 31.065132 | Y28: 373 | Z28: 8041.1201 | AA28: 39.462448 | AB28: 8.6461846 | AC28: 1.5049514 | AD28: 11.427052 | AE28: 0.13170075
A29: Malta | B29: 920 | C29: 1420.8333 | D29: 39.94 | E29: 0.75 | F29: 63.556914 | G29: 657 | H29: 1145.8333 | I29: 52.500955 | J29: 1.0295281 | K29: 10.173067 | L29: : | M29: : | N29: : | O29: : | P29: : | Q29: : | R29: : | S29: 69.51524 | T29: 635 | U29: 783 | V29: 34.851632 | W29: 0.76884371 | X29: : | Y29: : | Z29: : | AA29: : | AB29: : | AC29: : | AD29: : | AE29: :
A30: Austria | B30: 683 | C30: 13290.681 | D30: 19.93 | E30: 3.44 | F30: 39.136298 | G30: 226 | H30: 4976.1735 | I30: 20.759852 | J30: 6.2107255 | K30: 43.174121 | L30: 235 | M30: 4432.349 | N30: 17.496016 | O30: 5.4717721 | P30: -3.2638361 | Q30: 8.5569507 | R30: -0.38142515 | S30: 59.898238 | T30: 369 | U30: 8568.2358 | V30: 22.746944 | W30: 4.5410928 | X30: 29.128402 | Y30: 169 | Z30: 2558.7587 | AA30: 14.993632 | AB30: 5.6973778 | AC30: 7.7533126 | AD30: 6.9544864 | AE30: 1.1148649
A31: Portugal | B31: 828 | C31: 20363.414 | D31: 21.34 | E31: 3.83 | F31: 40.951143 | G31: 225 | H31: 7222.5305 | I31: 20.129873 | J31: 6.2388511 | K31: 41.486706 | L31: 390 | M31: 9105.6216 | N31: 24.030478 | O31: 5.6248363 | P31: 3.9006048 | Q31: 7.8974857 | R31: 0.49390464 | S31: 26.91522 | T31: 242 | U31: 6372.5504 | V31: 25.617477 | W31: 6.7168501 | X31: 23.903578 | Y31: 255 | Z31: 5986.0516 | AA31: 25.998408 | AB31: 8.6101569 | AC31: -0.38093112 | AD31: 11.17599 | AE31: -0.034084776
A32: Romania | B32: 1411 | C32: 55341.513 | D32: 42.44 | E32: 5.16 | F32: 40.988574 | G32: 676 | H32: 24026.5 | I32: 51.17435 | J32: 8.6005846 | K32: 43.034852 | L32: 179 | M32: 12154.933 | N32: 24.765975 | O32: 7.2374438 | P32: -26.408375 | Q32: 10.97348 | R32: -2.4065634 | S32: 54.11195 | T32: 300 | U32: 19366.879 | V32: 29.780486 | W32: 6.9466264 | X32: 21.923392 | Y32: 602 | Z32: 17716.89 | AA32: 67.242688 | AB32: 10.461047 | AC32: -37.462203 | AD32: 12.759755 | AE32: -2.9359656
A33: Slovenia | B33: 1067 | C33: 6560.9645 | D33: 32.16 | E33: 3.65 | F33: 61.655185 | G33: 676 | H33: 3988.5255 | I33: 33.404699 | J33: 4.9127202 | K33: 17.775327 | L33: 176 | M33: 1213.3277 | N33: 36.910699 | O33: 9.1381605 | P33: 3.5059998 | Q33: 10.192784 | R33: 0.34396882 | S33: 73.139403 | T33: 663 | U33: 4181.8115 | V33: 28.833807 | W33: 4.0905968 | X33: 11.473103 | Y33: 192 | Z33: 1086.1119 | AA33: 49.938203 | AB33: 13.141936 | AC33: -21.104396 | AD33: 13.655227 | AE33: -1.5455178
A34: Slovak Republic | B34: 868 | C34: 14121.455 | D34: 28.81 | E34: 3.78 | F34: 88.765922 | G34: 762 | H34: 12656.104 | I34: 30.241109 | J34: 4.2212913 | K34: 7.3775017 | L34: 77 | M34: 1023.5154 | N34: 29.42585 | O34: 7.6341207 | P34: -0.81525919 | Q34: 8.6616359 | R34: -0.094123004 | S34: 52.567315 | T34: 362 | U34: 6035.7837 | V34: 23.749056 | W34: 4.9341733 | X34: 13.957999 | Y34: 138 | Z34: 2465.78 | AA34: 36.539251 | AB34: 11.152171 | AC34: -12.790195 | AD34: 12.346088 | AE34: -1.0359715
A35: Finland | B35: 191 | C35: 2379.0767 | D35: 4.28 | E35: 1.6 | F35: 39.800331 | G35: 65 | H35: 1095.4 | I35: 5.2721145 | J35: 2.8317844 | K35: 31.027883 | L35: 21 | M35: 327.53702 | N35: 2.1897561 | O35: 2.1162037 | P35: -3.0823584 | Q35: 3.5234924 | R35: -0.87480205 | S35: 23.334255 | T35: 70 | U35: 1210.4348 | V35: 9.9694345 | W35: 5.1372387 | X35: 32.627809 | Y35: 14 | Z35: 134.71634 | AA35: 0.80710241 | AB35: 0.81323517 | AC35: 9.1623321 | AD35: 5.194161 | AE35: 1.7639677
A36: Sweden | B36: 534 | C36: 16490.662 | D36: 17.23 | E36: 3.26 | F36: 63.184828 | G36: 250 | H36: 7232.104 | I36: 15.368182 | J36: 4.1508767 | K36: 21.769992 | L36: 113 | M36: 2997.471 | N36: 18.524335 | O36: 8.6816551 | P36: 3.1561529 | Q36: 9.5646305 | R36: 0.32998169 | S36: 25.407581 | T36: 101 | U36: 3251.5229 | V36: 15.913087 | W36: 7.1412242 | X36: 34.904527 | Y36: 140 | Z36: 3286.1392 | AA36: 11.734398 | AB36: 5.3338583 | AC36: 4.1786897 | AD36: 8.9949308 | AE36: 0.46456052
A37: Bosnia and Herzegovina | B37: 262 | C37: 2535.4899 | D37: 24.26 | E37: 6.94 | F37: 75.459988 | G37: 175 | H37: 1752.4928 | I37: 27.468861 | J37: 8.8564079 | K37: 11.061626 | L37: 5 | M37: 5 | N37: 0.552232 | O37: 0.26788384 | P37: -26.916629 | Q37: 8.8604583 | R37: -3.037837 | S37: 66.129446 | T37: 92 | U37: 1013.8171 | V37: 16.987649 | W37: 8.6730496 | X37: 15.221345 | Y37: 88 | Z37: 743.67576 | AA37: 45.356759 | AB37: 16.302722 | AC37: -28.36911 | AD37: 18.423515 | AE37: -1.5398315
A38: Norway | B38: 1136 | C38: 14754.729 | D38: 30.56 | E38: 4.2 | F38: : | G38: : | H38: : | I38: : | J38: : | K38: : | L38: : | M38: : | N38: : | O38: : | P38: : | Q38: : | R38: : | S38: 46.205448 | T38: 351 | U38: 6587.5769 | V38: 36.590855 | W38: 7.5651165 | X38: 22.718868 | Y38: 395 | Z38: 3170.8986 | AA38: 30.994933 | AB38: 7.5223662 | AC38: 5.5959212 | AD38: 10.61173 | AE38: 0.52733353
A39: Serbia | B39: 1032 | C39: 17732.108 | D39: 31.03 | E39: 3.9 | F39: 38.233255 | G39: 372 | H39: 5910.9887 | I39: 27.458208 | J39: 5.6427073 | K39: 32.742481 | L39: 324 | M39: 5047.7916 | N39: 28.823624 | O39: 6.3899894 | P39: 1.3654156 | Q39: 8.782722 | R39: 0.15546611 | S39: 41.969582 | T39: 382 | U39: 6285.8915 | V39: 26.914271 | W39: 5.6926119 | X39: 32.020467 | Y39: 373 | Z39: 6198.4271 | AA39: 35.246429 | AB39: 7.4997597 | AC39: -8.3321576 | AD39: 9.3253361 | AE39: -0.89349676
A40: Netherlands* | B40: 82 | C40: 17885.243 | D40: 14.48 | E40: 7.85 | F40: : | G40: : | H40: : | I40: : | J40: : | K40: : | L40: : | M40: : | N40: : | O40: : | P40: : | Q40: : | R40: : | S40: 13.389933 | T40: 0 | U40: 0 | V40: 0 | W40: 0 | X40: 35.698552 | Y40: 44 | Z40: 11839.343 | AA40: 45.377162 | AB40: 26.718108 | AC40: -45.377162 | AD40: 26.718108 | AE40: -1.6983673
A42: Notes:
A43: Variables | B43: ICT Resources/Location of school computers/In most classrooms (80% or more) (II3G10A). Based on the question of the ICILS ICT Coordinator questionnaire: CQ10A “Where are the ICT devices used by students in [target grade] located? - In most classrooms (80% or more)”. Percentages reflect the share of students in schools who indicated "Yes".
B44: School composition (P_COMP).
B45: School location (IP3G05): The original categories of the school location variable (IP3G05) were transformed, merging the two first categories “1: In a community with fewer than 3,000 people” and “2: In a town with at least 3,000 but less than 15,000 people” and the two last categories “4: In a city with at least 100,000 but less than 1,000,000 people” and “5: In a city with 1,000,000 or more people”. The gaps show percentage point differences between schools located in towns/communities with less than 15,000 people and schools located in towns/cities with more than 100,000 people.
A46: * | B46: Did not meet guideline for sampling participation rate for reporting.

Sheet Table 1.4
A1: Title: | B1: =Contents!B2 -> Digital education at school in Europe: Bridging gaps in access, teaching and learning - 2026 | K1: Contents
A2: Chapters: | B2: ='Table 1.1'!B2 -> Chapter 1: Top-level governance for digital technologies in schools
B3: ='Table 1.1'!B3 -> Chapter 2: Digital equity and inclusion
A4: Figures: | B4: Figure 1.6: Availability of laptops and tablets in classrooms and computer labs
A7: Reference year: | B7: 2023
A9: Table: | B9: Table 1.4: Percentage of students in schools where laptops and tablets are installed in computer laboratories
A10: Source: | B10: Eurydice, based on IEA, ICILS 2023 database.
B14: All schools | F14: Schools with more affluent than disadvantaged students | K14: Schools with more disadvantaged than affluent students | P14: Difference between the two sub-groups | S14: Schools in small communities/villages | X14: Schools in larger towns/cities | AC14: Difference between the two sub-groups
B15: Number of cases | C15: Weighted number of cases | D15: % | E15: S.E. | F15: Weighted percentage of students in this type of school | G15: Number of cases | H15: Weighted number of cases | I15: % | J15: S.E. | K15: Weighted percentage of students in this type of school | L15: Number of cases | M15: Weighted number of cases | N15: % | O15: S.E. | P15: Difference in percentage points | Q15: S.E. | R15: t value | S15: Weighted percentage of students in this type of school | T15: Number of cases | U15: Weighted number of cases | V15: % | W15: S.E. | X15: Weighted percentage of students in this type of school | Y15: Number of cases | Z15: Weighted number of cases | AA15: % | AB15: S.E. | AC15: Difference in percentage points | AD15: S.E. | AE15: t value
A16: Belgium (Flemish Community) | B16: 1097 | C16: 22895.996 | D16: 37.4 | E16: 5.44 | F16: : | G16: : | H16: : | I16: : | J16: : | K16: : | L16: : | M16: : | N16: : | O16: : | P16: : | Q16: : | R16: : | S16: 14.323316 | T16: 133 | U16: 2928.7467 | V16: 37.283738 | W16: 13.349934 | X16: 15.59389 | Y16: 152 | Z16: 4304.3341 | AA16: 49.669942 | AB16: 13.248161 | AC16: -12.386204 | AD16: 17.441737 | AE16: -0.71014739
A17: Czechia | B17: 7962 | C17: 110381.19 | D17: 98.25 | E17: 1.34 | F17: 77.215762 | G17: 5954 | H17: 84148.749 | I17: 98.323806 | J17: 1.6968475 | K17: 9.9559988 | L17: 765 | M17: 11184.437 | N17: 100 | O17: 0 | P17: 1.6761939 | Q17: 1.6968475 | R17: 0.98782829 | S17: 52.240139 | T17: 3573 | U17: 56977.663 | V17: 97.544106 | W17: 2.4665055 | X17: 18.697311 | Y17: 1527 | Z17: 19100.267 | AA17: 97.278162 | AB17: 2.1310288 | AC17: 0.26594379 | AD17: 3.1927814 | AE17: 0.083295332
A18: Denmark | B18: 150 | C18: 2972.9847 | D18: 7.07 | E18: 2.31 | F18: 65.074226 | G18: 89 | H18: 2168.9807 | I18: 10.374472 | J18: 3.6383634 | K18: 17.850214 | L18: 0 | M18: 0 | N18: 0 | O18: 0 | P18: -10.374472 | Q18: 3.6383634 | R18: -2.8514118 | S18: 50.33561 | T18: 106 | U18: 1975.9154 | V18: 11.338635 | W18: 4.8098644 | X18: 22.436561 | Y18: 25 | Z18: 604.16626 | AA18: 7.4250034 | AB18: 1.8889477 | AC18: 3.9136314 | AD18: 5.2861168 | AE18: 0.74036037
A19: Germany | B19: 3970 | C19: 542092.67 | D19: 90.03 | E19: 2.29 | F19: 29.722649 | G19: 1066 | H19: 136148.35 | I19: 82.015165 | J19: 4.2620129 | K19: 51.698222 | L19: 1822 | M19: 247431.5 | N19: 93.207121 | O19: 3.7737369 | P19: 11.191956 | Q19: 5.4779055 | R19: 2.0431086 | S19: 23.01703 | T19: 490 | U19: 99584.073 | V19: 88.106186 | W19: 8.4417421 | X19: 31.271936 | Y19: 1471 | Z19: 159279.48 | AA19: 92.67369 | AB19: 3.870707 | AC19: -4.5675035 | AD19: 9.0438956 | AE19: -0.50503718
A20: Greece | B20: 2858 | C20: 81664.632 | D20: 99.51 | E20: 0.49 | F20: 64.849305 | G20: 1741 | H20: 47264.764 | I20: 99.153855 | J20: 0.84407124 | K20: 20.040077 | L20: 481 | M20: 14465.854 | N20: 100 | O20: 0 | P20: 0.84614508 | Q20: 0.84407124 | R20: 1.0024569 | S20: 27.592206 | T20: 802 | U20: 21835.433 | V20: 100 | W20: 0 | X20: 29.182836 | Y20: 702 | Z20: 21385.875 | AA20: 100 | AB20: 0 | AC20: 0 | AD20: 0 | AE20: :
A21: Spain | B21: 8700 | C21: 320203.45 | D21: 69.08 | E21: 3.14 | F21: 68.390599 | G21: 5630 | H21: 208347.14 | I21: 72.030806 | J21: 3.6695417 | K21: 16.788733 | L21: 1408 | M21: 49875.32 | N21: 70.969687 | O21: 7.5302412 | P21: -1.061119 | Q21: 8.4444592 | R21: -0.1256586 | S21: 28.514488 | T21: 1913 | U21: 84225.968 | V21: 70.604902 | W21: 5.3195596 | X21: 37.613134 | Y21: 3049 | Z21: 105525.13 | AA21: 64.336663 | AB21: 5.1942351 | AC21: 6.268239 | AD21: 7.7074309 | AE21: 0.81327216
A22: France | B22: 2749 | C22: 614474.5 | D22: 97.17 | E22: 1.64 | F22: 38.075107 | G22: 1016 | H22: 214793.87 | I22: 97.588163 | J22: 2.4312448 | K22: 46.603719 | L22: 1026 | M22: 248110.56 | N22: 97.780581 | O22: 2.2343431 | P22: 0.19241825 | Q22: 3.3076137 | R22: 0.058174341 | S22: 49.41762 | T22: 1159 | U22: 263468.94 | V22: 97.433854 | W22: 2.5447038 | X22: 14.308944 | Y22: 349 | Z22: 74058.637 | AA22: 100 | AB22: 0 | AC22: -2.5661463 | AD22: 2.5447038 | AE22: -1.0084263
A23: Croatia | B23: 2112 | C23: 26269.928 | D23: 76.76 | E23: 3.8 | F23: 48.364748 | G23: 1025 | H23: 12388.894 | I23: 84.146579 | J23: 4.622464 | K23: 25.86297 | L23: 399 | M23: 5931.0937 | N23: 72.886475 | O23: 7.7051837 | P23: -11.260104 | Q23: 8.6546394 | R23: -1.3010484 | S23: 50.958543 | T23: 902 | U23: 12640.755 | V23: 76.372443 | W23: 4.8267635 | X23: 22.754847 | Y23: 464 | Z23: 5621.0818 | AA23: 79.086035 | AB23: 6.8449373 | AC23: -2.7135916 | AD23: 8.0375767 | AE23: -0.33761316
A24: Italy | B24: 2925 | C24: 457645.27 | D24: 91.41 | E24: 2.47 | F24: 40.303078 | G24: 1089 | H24: 165917.17 | I24: 94.284285 | J24: 3.2770355 | K24: 43.125409 | L24: 946 | M24: 158486.21 | N24: 86.349328 | O24: 4.926208 | P24: -7.9349573 | Q24: 5.8622756 | R24: -1.3535626 | S24: 40.477714 | T24: 880 | U24: 155894.3 | V24: 88.167179 | W24: 4.3964502 | X24: 24.352233 | Y24: 675 | Z24: 99846.94 | AA24: 93.448999 | AB24: 4.4889697 | AC24: -5.2818203 | AD24: 5.9730972 | AE24: -0.88426826
A25: Cyprus | B25: 2938 | C25: 8773.7368 | D25: 98.9 | E25: 0.04 | F25: 62.250489 | G25: 1675 | H25: 5250.6579 | I25: 100 | J25: 0 | K25: 18.43889 | L25: 592 | M25: 1594.5 | N25: 100 | O25: 0 | P25: 0 | Q25: 0 | R25: : | S25: 35.160558 | T25: 1090 | U25: 3114.2632 | V25: 100 | W25: 0 | X25: 37.971513 | Y25: 986 | Z25: 3031.6316 | AA25: 100 | AB25: 0 | AC25: 0 | AD25: 0
A26: Latvia | B26: 2474 | C26: 17222.974 | D26: 95.23 | E26: 1.95 | F26: 47.751106 | G26: 1142 | H26: 7670.5332 | I26: 98.070694 | J26: 1.9372559 | K26: 28.087997 | L26: 561 | M26: 4378.9225 | N26: 94.420087 | O26: 3.9775426 | P26: -3.650607 | Q26: 4.4347649 | R26: -0.82317936 | S26: 41.983911 | T26: 866 | U26: 6705.2664 | V26: 96.174477 | W26: 2.6730941 | X26: 28.510198 | Y26: 698 | Z26: 4536.9647 | AA26: 93.707307 | AB26: 4.3836293 | AC26: 2.4671698 | AD26: 5.1343585 | AE26: 0.48052152
A27: Luxembourg | B27: 2030 | C27: 3004.0623 | D27: 77.65 | E27: 1.9 | F27: 26.003415 | G27: 230 | H27: 318.53498 | I27: 100 | J27: 0 | K27: 49.720352 | L27: 466 | M27: 675.37637 | N27: 89.604132 | O27: 1.3009178 | P27: -10.395868 | Q27: 1.3009178 | R27: -7.99118 | S27: 48.715463 | T27: 788 | U27: 1106.2648 | V27: 83.786133 | W27: 3.4390717 | X27: 23.671921 | Y27: 254 | Z27: 365.18773 | AA27: 82.333886 | AB27: 2.6063383 | AC27: 1.452247 | AD27: 3.918599 | AE27: 0.37060362
A28: Hungary | B28: 2982 | C28: 69424.055 | D28: 97.72 | E28: 1.32 | F28: 65.777387 | G28: 1792 | H28: 40703.381 | I28: 97.386559 | J28: 1.8327893 | K28: 17.873216 | L28: 248 | M28: 8445.5866 | N28: 100 | O28: 0 | P28: 2.6134414 | Q28: 1.8327893 | R28: 1.4259366 | S28: 41.898927 | T28: 804 | U28: 23971.981 | V28: 97.872339 | W28: 2.1229334 | X28: 31.065132 | Y28: 893 | Z28: 19805.462 | AA28: 97.196911 | AB28: 2.8233152 | AC28: 0.67542806 | AD28: 3.5306821 | AE28: 0.19130243
A29: Malta | B29: 2406 | C29: 3285.1667 | D29: 92.35 | E29: 0.52 | F29: 63.556914 | G29: 1216 | H29: 1910.5 | I29: 87.537228 | J29: 0.81881906 | K29: 10.173067 | L29: : | M29: : | N29: : | O29: : | P29: : | Q29: : | R29: : | S29: 69.51524 | T29: 1554 | U29: 1974.6667 | V29: 87.893175 | W29: 0.78138836 | X29: : | Y29: : | Z29: : | AA29: : | AB29: : | AC29: : | AD29: : | AE29: :
A30: Austria | B30: 2746 | C30: 60267.863 | D30: 89.65 | E30: 2.91 | F30: 39.136298 | G30: 1111 | H30: 23500.362 | I30: 95.90958 | J30: 3.0284278 | K30: 43.174121 | L30: 884 | M30: 20831.456 | N30: 82.228967 | O30: 5.9778501 | P30: -13.680613 | Q30: 6.5996921 | R30: -2.0729168 | S30: 59.898238 | T30: 1434 | U30: 34487.189 | V30: 91.556557 | W30: 3.6604103 | X30: 29.128402 | Y30: 751 | Z30: 14464.648 | AA30: 82.194464 | AB30: 7.0218885 | AC30: 9.3620931 | AD30: 7.9117938 | AE30: 1.1833085
A31: Portugal | B31: 3157 | C31: 87171.064 | D31: 91.35 | E31: 2.19 | F31: 40.951143 | G31: 1184 | H31: 34364.049 | I31: 95.775842 | J31: 2.4451488 | K31: 41.486706 | L31: 1287 | M31: 34796.817 | N31: 91.831634 | O31: 3.3149468 | P31: -3.9442074 | Q31: 4.5294767 | R31: -0.87078656 | S31: 26.91522 | T31: 687 | U31: 21305.549 | V31: 85.647719 | W31: 6.3494232 | X31: 23.903578 | Y31: 790 | Z31: 20951.896 | AA31: 90.997533 | AB31: 4.2824657 | AC31: -5.3498136 | AD31: 7.6955922 | AE31: -0.69517893
