Workbook

Sheet Contents
B2: Digital education at school in Europe: Bridging gaps in access, teaching and learning - 2026
B3: Eurydice report, 2026
B5: Statistical tables
B7: Tables 1: Chapters 1 and 2
B8: ='Table 1.1'!B9 -> Table 1.1: Percentage of students in schools where Wi-Fi is made available to students and teachers
B9: ='Table 1.2'!B9 -> Table 1.2: Percentage of students in schools where the use of ICT in teaching and learning is hindered by insufficient internet bandwidth or speed at least to some extent
B10: ='Table 1.3'!B9 -> Table 1.3: Percentage of students in schools where laptops and tablets are made available in most classrooms (80%)
B11: ='Table 1.4'!B9 -> Table 1.4: Percentage of students in schools where laptops and tablets are installed in computer laboratories
B12: ='Table 1.5'!B9 -> Table 1.5: Percentage of students in schools where video and photo software for capture and editing is made available to students and teachers
B13: ='Table 1.6'!B9 -> Table 1.6: Percentage of students in schools where graphing or drawing software is made available to students and teachers
B14: ='Table 1.7'!B9 -> Table 1.7: Percentage of students in schools where digital contents linked with textbooks is made available to students and teachers
B15: ='Table 1.8'!B9 -> Table 1.8: Percentage of students in schools where digital textbooks are made available to students and teachers
B16: ='Table 1.9'!B9 -> Table 1.9: Percentage of students in schools where interactive whiteboard software is made available to students and teachers
B17: ='Table 1.10'!B9 -> Table 1.10: Percentage of students in schools where internet-based applications for collaborative work are made available to students and teachers
B18: ='Table 1.11'!B9 -> Table 1.11: Percentage of students in schools where a school intranet with applications and workspaces is made available to students and teachers
B19: ='Table 1.12'!B9 -> Table 1.12: Percentage of students in schools where a learning management system is made available to students and teachers
B20: ='Table 1.13'!B9 -> Table 1.13: Percentage of students in schools where simulations and modelling software is made available to students and teachers
B21: ='Table 1.14'!B9 -> Table 1.14: Percentage of students in schools where educational virtual reality and/or augmented reality apps are made available to students and teachers
B22: ='Table 1.15'!B9 -> Table 1.15: Percentage of students in schools where adaptive learning systems are made available to students and teachers
B24: ="Tables 1: " &'Table 1.16'!B2 -> Tables 1: Chapter 1: Top-level governance for digital technologies in schools
B25: ='Table 1.16'!B9 -> Table 1.16: Percentage of students in schools where ICT use is hindered “to some extent” or “a lot” by insufficiently experienced staff to manage ICT support
B26: ='Table 1.17'!B9 -> Table 1.17: Percentage of students in schools where ICT use is hindered “to some extent” or “a lot” by insufficient technical ICT support
B28: ="Tables 2: " &'Table 2.1'!B2 -> Tables 2: Chapter 2: Digital equity and inclusion
B29: ='Table 2.1'!B8 -> Table 2.1: Percentage of students with internet quality problems at home
B30: ='Table 2.2'!B8 -> Table 2.2: Percentage of students who can always access specific devices for schoolwork whenever they need them - Desktop or laptop computers
B31: ='Table 2.3'!B8 -> Table 2.3: Percentage of students who can always access specific devices for schoolwork whenever they need them - Tablet devices
B32: ='Table 2.4'!B8 -> Table 2.4: Percentage of students who can always access specific devices for schoolwork whenever they need them - Smartphones
B33: ='Table 2.5'!B8 -> Table 2.5: Percentage of students in schools where 76% or more / 51-75% / 26-50% / 25% or less of the students are provided with portable computers for use both at home and at school
B34: ='Table 2.6'!B8 -> Table 2.6: Correlation between schools' socio-economic background and geographic location
B35: ='Table 2.7'!B8 -> Table 2.7: Average CIL scores of students, by school composition
B36: ='Table 2.8'!B8 -> Table 2.8: Average CIL scores of students, by school location
B38: ="Tables 3: " &'Table 3.1'!B2 -> Tables 3: Chapter 3: School-level digital planning and quality assurance
B39: ='Table 3.1'!B8 -> Table 3.1: Percentage of students in schools whose principals reported whether their school has a clear ICT plan/vision and whether this helps improve the effective use of ICT in teaching and learning.
B40: ='Table 3.2'!B8 -> Table 3.2: Percentage of students in schools whose principals reported how often their school’s ICT vision/plan is reviewed.
B41: ='Table 3.3'!B8 -> Table 3.3: Percentage of students in schools whose principals reported that high priority is given to increasing the number of computers per student in the school
B42: ='Table 3.4'!B8 -> Table 3.4: Percentage of students in schools whose principals reported that high priority is given to improving the speed and reliability of internet connectivity.
B43: ='Table 3.5'!B8 -> Table 3.5: Percentage of students in schools whose principals reported that high priority is given to increasing the variety of digital learning resources available for teaching and learning.
B45: ="Tables 4: " &'Table 4.1'!$B$2 -> Tables 4: Chapter 4: Digital competence in national curricula and assessment frameworks
B46: ='Table 4.1'!B8 -> Table 4.1: Percentage of students who learnt how to evaluate the reliability (trustworthiness) of information on the internet in school to a large extent or to a moderate extent
B47: ='Table 4.2'!B8 -> Table 4.2: Percentage of students who learnt how to evaluate the reliability (trustworthiness) of information on the internet outside school to a large extent or to a moderate extent
B48: ='Table 4.3'!B8 -> Table 4.3: Percentage of students who learnt how to manage privacy settings for internet accounts and ICT devices in school to a large extent or to a moderate extent
B49: ='Table 4.4'!B8 -> Table 4.4: Percentage of students who learnt how to manage privacy settings for internet accounts and ICT devices outside school to a large extent or to a moderate extent
B50: ='Table 4.5'!B8 -> Table 4.5: Percentage of students who learnt about responsible and respectful use of social media (including the use of images and personal information) in school to a large extent or to a moderate extent
B52: ="Tables 5: " &'Table 5.1'!$B$2 -> Tables 5: Chapter 5: Integrating digital technologies into teaching
B53: ='Table 5.1'!B8 -> Table 5.1: Percentage of teachers who learnt general approaches to using ICT to enhance teaching during their ITE
B54: ='Table 5.2'!B8 -> Table 5.2: Percentage of teachers who learnt subject-specific approaches to using ICT to enhance teaching during their ITE
B55: ='Table 5.3'!B8 -> Table 5.3: Percentage of teachers who learnt using ICT to collaborate with other teachers during their ITE
B56: ='Table 5.4'!B8 -> Table 5.4: Percentage of teachers who learnt using ICT to assess student learning during their ITE
B57: ='Table 5.5'!B8 -> Table 5.5: Percentage of teachers who learnt supporting students' capabilities to evaluate the reliability of internet-based information sources during their ITE
B58: ='Table 5.6'!B8 -> Table 5.6: Percentage of teachers who learnt managing social problems that students experience when using ICT to communicate with others during their ITE
B59: ='Table 5.7'!B8 -> Table 5.7: Percentage of teachers who learnt the use of productivity applications during their ITE
B60: ='Table 5.8'!B8 -> Table 5.8: Percentage of teachers who participated in CPD on integrating ICT into teaching in the past two years
B61: ='Table 5.9'!B8 -> Table 5.9: Percentage of teachers who participated in CPD on using subject-specific digital learning in the past two years
B62: ='Table 5.10'!B8 -> Table 5.10: Percentage of teachers who participated in CPD on using ICT to support personalised learning in the past two years
B63: ='Table 5.11'!B8 -> Table 5.11: Percentage of teachers who participated in CPD on managing social problems that students experience when using ICT to communicate with others in the past two years
B64: ='Table 5.12'!B8 -> Table 5.12: Percentage of teachers who participated in CPD on supporting students' capabilities to evaluate the reliability of internet-based information soruces in the past two years
B65: ='Table 5.13'!B8 -> Table 5.13: Percentage of teachers who participated in CPD on using visual coding platforms in the past two years
B66: ='Table 5.14'!$B$8 -> Table 5.14: Percentage of teachers who did not participate but need more professional training on integrating ICT into teaching in the past two years
B67: ='Table 5.15'!$B$8 -> Table 5.15: Percentage of teachers who did not participate but need more professional training on using subject-specific digital learning in the past two years
B68: ='Table 5.16'!$B$8 -> Table 5.16: Percentage of teachers who did not participate but need more professional training on using ICT to support personalised learning in the past two years
B69: ='Table 5.17'!$B$8 -> Table 5.17: Percentage of teachers who did not participate but need more professional training on managing social problems that students experience when using ICT to communicate with others in the past two years
B70: ='Table 5.18'!$B$8 -> Table 5.18: Percentage of teachers who did not participate but need more professional training on supporting students' capabilities to evaluate the reliability of internet-based information soruces in the past two years
B71: ='Table 5.19'!$B$8 -> Table 5.19: Percentage of teachers who did not participate but need more professional training on using visual coding platforms in the past two years
B72: ='Table 5.20'!$B$8 -> Table 5.20: Percentage of teachers who did not participate in CPD on integrating ICT into teaching in the past two years and percentage of teachers who do not need to do more professional learning
B73: ='Table 5.21'!$B$8 -> Table 5.21: Percentage of teachers who did not participate in CPD on the use of productivity applications in the past two years and percentage of teachers who do not need to do more professional learning
B74: ='Table 5.22'!$B$8 -> Table 5.22: Percentage of teachers who did not participate in CPD on managing social problems that students experience when using ICT to communicate with others in the past two years and percentage of teachers who do not need to do more professional learning
B75: ='Table 5.23'!$B$8 -> Table 5.23: Percentage of teachers who did not participate in CPD on supporting students' capabilities to evaluate the reliability of internet-based information soruces in the past two years and percentage of teachers who do not need to do more professional learning
B76: ='Table 5.24'!$B$8 -> Table 5.24: Percentage of teachers that their school has enough ICT equipment
B77: ='Table 5.25'!$B$8 -> Table 5.25: Percentage of teachers with access to reliable ICT equipment
B78: ='Table 5.26'!$B$8 -> Table 5.26: Percentage of teachers that have sufficient technical support
B79: ='Table 5.27'!$B$8 -> Table 5.27: Percentage of teachers that their school has good connectivity
B80: ='Table 5.28'!$B$8 -> Table 5.28: Percentage of teachers with access to sufficient learning resources
B81: ='Table 5.29'!$B$8 -> Table 5.29: Percentage of teachers that have enough time to prepare lessons that incorporate ICT
B82: ='Table 5.30'!$B$8 -> Table 5.30: Percentage of teachers that have sufficient opportunity to develop the necessary expertise
B83: ='Table 5.31'!$B$8 -> Table 5.31: Percentage of teachers who can prepare lessons that involve the use of ICT
B84: ='Table 5.32'!$B$8 -> Table 5.32: Percentage of teachers who use ICT for teaching every day
B85: ='Table 5.33'!$B$8 -> Table 5.33: Percentage of teachers who agree that using ICT for teaching results in students copying material from internet sources without attribution
B86: ='Table 5.34'!$B$8 -> Table 5.34: Percentage of teachers who agree that using ICT for teaching results in poorer written expression among students
B87: ='Table 5.35'!$B$8 -> Table 5.35: Percentage of teachers who agree that using ICT for teaching results in shorter attention spans among students.
B88: ='Table 5.36'!$B$8 -> Table 5.36: Percentage of teachers who agree that using ICT for teaching limits the amount of personal communication among students.
B89: ='Table 5.37'!$B$8 -> Table 5.37: Percentage of teachers who agree that using ICT for teaching results in poorer calculation and estimation skills among students.
B90: ='Table 5.38'!$B$8 -> Table 5.38: Percentage of teachers who agree that using ICT for teaching confuses students with false or misleading information.
B91: ='Table 5.39'!$B$8 -> Table 5.39: Percentage of teachers who agree that using ICT for teaching distracts students from learning
B92: ='Table 5.40'!$B$8 -> Table 5.40: Percentage of teachers who agree that using ICT for teaching enables students to access better sources of information
B93: ='Table 5.41'!$B$8 -> Table 5.41: Percentage of teachers who agree that using ICT for teaching helps students develop a greater interest in learning
B94: ='Table 5.42'!$B$8 -> Table 5.42: Percentage of teachers who agree that using ICT for teaching helps students work at a level appropriate to their learning needs
B95: ='Table 5.43'!$B$8 -> Table 5.43: Percentage of teachers who agree that using ICT for teaching enables students to collaborate more effectively
B96: ='Table 5.44'!$B$8 -> Table 5.44: Percentage of teachers who agree that using ICT for teaching helps students develop problem-solving skills
B97: ='Table 5.45'!$B$8 -> Table 5.45: Percentage of teachers who agree that using ICT for teaching helps students develop skills in planning and self-regulation of their work
B98: ='Table 5.46'!$B$8 -> Table 5.46: Percentage of teachers who agree that using ICT for teaching improves academic performance of students

Sheet Table 1.1
A1: Title: | B1: =Contents!B2 -> Digital education at school in Europe: Bridging gaps in access, teaching and learning - 2026 | K1: Contents
A2: Chapters: | B2: Chapter 1: Top-level governance for digital technologies in schools
B3: Chapter 2: Digital equity and inclusion
A4: Figures: | B4: Figure 1.3: Relationship between Wi-Fi availability and bandwidth hindrance in schools
A7: Reference year: | B7: 2023
A9: Table: | B9: Table 1.1: Percentage of students in schools where Wi-Fi is made available to students and teachers
A10: Source: | B10: Eurydice, based on IEA, ICILS 2023 database.
B14: All schools | F14: Schools with more affluent than disadvantaged students | K14: Schools with more disadvantaged than affluent students | P14: Difference between the two sub-groups | S14: Schools in small communities/villages | X14: Schools in larger towns/cities | AC14: Difference between the two sub-groups
B15: Number of cases | C15: Weighted number of cases | D15: % | E15: S.E. | F15: Weighted percentage of students in this type of school | G15: Number of cases | H15: Weighted number of cases | I15: % | J15: S.E. | K15: Weighted percentage of students in this type of school | L15: Number of cases | M15: Weighted number of cases | N15: % | O15: S.E. | P15: Difference in percentage points | Q15: S.E. | R15: t value | S15: Weighted percentage of students in this type of school | T15: Number of cases | U15: Weighted number of cases | V15: % | W15: S.E. | X15: Weighted percentage of students in this type of school | Y15: Number of cases | Z15: Weighted number of cases | AA15: % | AB15: S.E. | AC15: Difference in percentage points | AD15: S.E. | AE15: t value
A16: Belgium (Flemish Community) | B16: 2972 | C16: 64420.687 | D16: 98.176729 | E16: 1.3120323 | F16: : | G16: : | H16: : | I16: : | J16: : | K16: : | L16: : | M16: : | N16: : | O16: : | P16: : | Q16: : | R16: : | S16: 14.323316 | T16: 330 | U16: 7353.5 | V16: 93.612045 | W16: 6.5643308 | X16: 15.59389 | Y16: 394 | Z16: 9188.2803 | AA16: 100 | AB16: 0 | AC16: 6.3879547 | AD16: 6.5643308 | AE16: 0.97313113
A17: Czechia | B17: 4736 | C17: 64126.716 | D17: 56.944111 | E17: 3.3875353 | F17: 77.215762 | G17: 3418 | H17: 46993.034 | I17: 54.740728 | J17: 3.9619036 | K17: 9.9559988 | L17: 544 | M17: 8007.1702 | N17: 71.592073 | O17: 10.252652 | P17: -16.851344 | Q17: 11.153451 | R17: -1.5108637 | S17: 52.240139 | T17: 2368 | U17: 37107.017 | V17: 63.526137 | W17: 5.1784352 | X17: 18.697311 | Y17: 699 | Z17: 7573.0089 | AA17: 38.569534 | AB17: 7.1757376 | AC17: -24.956602 | AD17: 8.7690861 | AE17: -2.8459753
A18: Denmark | B18: 2325 | C18: 47002.95 | D18: 99.368238 | E18: 0.6248015 | F18: 65.074226 | G18: 1172 | H18: 24170.994 | I18: 98.778762 | J18: 1.1980287 | K18: 17.850214 | L18: 303 | M18: 6476.3075 | N18: 100 | O18: 0 | P18: -1.2212383 | Q18: 1.1980286 | R18: -1.0193732 | S18: 50.33561 | T18: 955 | U18: 19459.965 | V18: 98.487586 | W18: 1.4778917 | X18: 22.436561 | Y18: 389 | Z18: 8571.247 | AA18: 100 | AB18: 0 | AC18: 1.5124143 | AD18: 1.4778917 | AE18: 1.0233593
A19: Germany | B19: 2979 | C19: 390574.9 | D19: 64.866705 | E19: 4.1855764 | F19: 29.722649 | G19: 995 | H19: 119212.36 | I19: 71.812997 | J19: 7.583972 | K19: 51.698222 | L19: 1145 | M19: 156574.38 | N19: 58.981362 | O19: 6.0074257 | P19: 12.831635 | Q19: 9.240229 | R19: 1.3886706 | S19: 23.01703 | T19: 327 | U19: 64663.68 | V19: 57.210657 | W19: 11.080145 | X19: 31.271936 | Y19: 1007 | Z19: 108628.67 | AA19: 63.203493 | AB19: 7.7359754 | AC19: 5.9928363 | AD19: 13.380199 | AE19: 0.44788843
A20: Greece | B20: 392 | C20: 10507.46 | D20: 12.803362 | E20: 2.9166904 | F20: 64.849305 | G20: 271 | H20: 6914.6478 | I20: 14.505816 | J20: 3.6533505 | K20: 20.040077 | L20: 67 | M20: 2116.6944 | N20: 14.632349 | O20: 6.9123534 | P20: -0.12653315 | Q20: 7.3370554 | R20: -0.017245767 | S20: 27.592206 | T20: 160 | U20: 4408.0362 | V20: 20.187537 | W20: 7.1318545 | X20: 29.182836 | Y20: 80 | Z20: 2490.4415 | AA20: 11.645263 | AB20: 5.48965 | AC20: -8.5422739 | AD20: 7.966384 | AE20: -1.07229
A21: Spain | B21: 9124 | C21: 389349.36 | D21: 82.832154 | E21: 2.2635851 | F21: 68.390599 | G21: 5866 | H21: 237336.21 | I21: 81.794089 | J21: 3.2377668 | K21: 16.788733 | L21: 1297 | M21: 59794.868 | N21: 81.156799 | O21: 7.2353163 | P21: 0.63728977 | Q21: 8.5830505 | R21: 0.074249798 | S21: 28.514488 | T21: 2088 | U21: 102230.28 | V21: 82.704577 | W21: 5.8178794 | X21: 37.613134 | Y21: 3519 | Z21: 140326.37 | AA21: 85.554316 | AB21: 2.7301078 | AC21: 2.8497392 | AD21: 6.5559223 | AE21: 0.43468166
A22: France | B22: 973 | C22: 228302.57 | D22: 35.555186 | E22: 4.8089557 | F22: 38.075107 | G22: 351 | H22: 77209.551 | I22: 34.344184 | J22: 7.8441056 | K22: 46.603719 | L22: 405 | M22: 104342.83 | N22: 41.121599 | O22: 7.5863114 | P22: -6.7774149 | Q22: 10.151901 | R22: -0.66760054 | S22: 49.41762 | T22: 518 | U22: 122611.36 | V22: 44.567025 | W22: 7.7340886 | X22: 14.308944 | Y22: 51 | Z22: 12244.792 | AA22: 16.533914 | AB22: 10.483105 | AC22: -28.033111 | AD22: 14.47166 | AE22: -1.937104
A23: Croatia | B23: 2308 | C23: 30459.784 | D23: 85.906181 | E23: 3.274311 | F23: 48.364748 | G23: 1050 | H23: 13301.693 | I23: 88.87125 | J23: 3.8857573 | K23: 25.86297 | L23: 426 | M23: 6752.7068 | N23: 82.983176 | O23: 6.8523339 | P23: 5.8880743 | Q23: 7.7733941 | R23: 0.75746504 | S23: 50.958543 | T23: 962 | U23: 14428.268 | V23: 87.172168 | W23: 4.5722413 | X23: 22.754847 | Y23: 514 | Z23: 6400.2961 | AA23: 90.049222 | AB23: 5.6456552 | AC23: 2.8770532 | AD23: 7.2700434 | AE23: 0.39574085
A24: Italy | B24: 1578 | C24: 240230.92 | D24: 47.812565 | E24: 4.2667671 | F24: 40.303078 | G24: 561 | H24: 85531.333 | I24: 48.604136 | J24: 7.1646551 | K24: 43.125409 | L24: 618 | M24: 102112.56 | N24: 54.023529 | O24: 6.8209911 | P24: -5.4193929 | Q24: 9.788806 | R24: -0.55363166 | S24: 40.477714 | T24: 547 | U24: 101820.02 | V24: 58.803493 | W24: 6.5626485 | X24: 24.352233 | Y24: 387 | Z24: 54244.177 | AA24: 48.29403 | AB24: 8.7652048 | AC24: -10.509463 | AD24: 10.496946 | AE24: -1.0011924
A25: Cyprus | B25: 607 | C25: 1876.6053 | D25: 21.153818 | E25: 2.4318375 | F25: 62.250489 | G25: 470 | H25: 1468.0263 | I25: 27.958902 | J25: 3.7879626 | K25: 18.43889 | L25: 21 | M25: 69 | N25: 4.3273754 | O25: 4.3312588 | P25: 23.631527 | Q25: 5.7555274 | R25: 4.1058838 | S25: 35.160558 | T25: 126 | U25: 380.76316 | V25: 12.226428 | W25: 4.4266842 | X25: 37.971513 | Y25: 274 | Z25: 847.02632 | AA25: 27.939619 | AB25: 5.9510298 | AC25: 15.713191 | AD25: 8.9995744 | AE25: 1.7459926
A26: Latvia | B26: 2065 | C26: 14450.893 | D26: 78.566583 | E26: 3.6383153 | F26: 47.751106 | G26: 873 | H26: 5814.5894 | I26: 74.341744 | J26: 6.3521164 | K26: 28.087997 | L26: 557 | M26: 4360.9867 | N26: 91.727495 | O26: 4.6347831 | P26: -17.385751 | Q26: 7.8497715 | R26: -2.2148098 | S26: 41.983911 | T26: 777 | U26: 6065.7529 | V26: 85.570969 | W26: 4.3832116 | X26: 28.510198 | Y26: 593 | Z26: 3701.9169 | AA26: 76.460075 | AB26: 7.5008979 | AC26: -9.1108938 | AD26: 8.6876932 | AE26: -1.0487126
A27: Luxembourg | B27: 2663 | C27: 3835.8863 | D27: 99.147041 | E27: 0.082066262 | F27: 26.003415 | G27: 230 | H27: 318.53498 | I27: 100 | J27: 0 | K27: 49.720352 | L27: 529 | M27: 753.73352 | N27: 100 | O27: 0 | P27: 0 | Q27: 0 | R27: : | S27: 48.715463 | T27: 943 | U27: 1320.3436 | V27: 100 | W27: 0 | X27: 23.671921 | Y27: 317 | Z27: 443.54487 | AA27: 100 | AB27: 0 | AC27: 0 | AD27: 0 | AE27: :
A28: Hungary | B28: 1851 | C28: 42524.619 | D28: 59.673408 | E28: 4.7641897 | F28: 65.777387 | G28: 1194 | H28: 26000.511 | I28: 62.208598 | J28: 6.7007083 | K28: 17.873216 | L28: 143 | M28: 4919.7843 | N28: 58.252725 | O28: 10.641755 | P28: 3.9558731 | Q28: 12.352912 | R28: 0.32023809 | S28: 41.898927 | T28: 499 | U28: 14817.94 | V28: 60.498398 | W28: 8.05725 | X28: 31.065132 | Y28: 487 | Z28: 11265.746 | AA28: 55.287563 | AB28: 9.7442719 | AC28: -5.210835 | AD28: 12.007367 | AE28: -0.43396982
A29: Malta | B29: 1553 | C29: 2386.6667 | D29: 62.045061 | E29: 0.61742359 | F29: 63.556914 | G29: 718 | H29: 1336.5 | I29: 58.631279 | J29: 0.8876351 | K29: 10.173067 | L29: 91 | M29: 192.5 | N29: 100 | O29: 0 | P29: -41.368721 | Q29: 0.8876351 | R29: -46.605549 | S29: 69.51524 | T29: 994 | U29: 1382.1667 | V29: 54.498259 | W29: 0.76732093 | X29: : | Y29: : | Z29: : | AA29: : | AB29: : | AC29: : | AD29: : | AE29: :
A30: Austria | B30: 3066 | C30: 67424.213 | D30: 97.254148 | E30: 1.3740941 | F30: 39.136298 | G30: 1147 | H30: 24502.622 | I30: 100 | J30: 0 | K30: 43.174121 | L30: 1119 | M30: 26046.128 | N30: 96.959861 | O30: 2.1838723 | P30: 3.0401386 | Q30: 2.1838723 | R30: 1.3920863 | S30: 59.898238 | T30: 1505 | U30: 37151.573 | V30: 98.62996 | W30: 1.3697623 | X30: 29.128402 | Y30: 958 | Z30: 18390.18 | AA30: 95.85131 | AB30: 2.8469622 | AC30: -2.7786502 | AD30: 3.1541488 | AE30: -0.88095089
A31: Portugal | B31: 3093 | C31: 86968.814 | D31: 90.420882 | E31: 2.4283046 | F31: 40.951143 | G31: 1118 | H31: 33256.489 | I31: 90.94931 | J31: 3.7293717 | K31: 41.486706 | L31: 1161 | M31: 32993.468 | N31: 88.310575 | O31: 4.2099175 | P31: 2.6387353 | Q31: 5.6625171 | R31: 0.46600041 | S31: 26.91522 | T31: 676 | U31: 22057.002 | V31: 90.603476 | W31: 5.2483499 | X31: 23.903578 | Y31: 820 | Z31: 21377.262 | AA31: 92.844968 | AB31: 4.0056876 | AC31: 2.2414924 | AD31: 6.4347004 | AE31: 0.34834449
A32: Romania | B32: 1727 | C32: 83572.135 | D32: 64.053403 | E32: 4.5756429 | F32: 40.988574 | G32: 717 | H32: 28818.858 | I32: 61.381653 | J32: 7.2455154 | K32: 43.034852 | L32: 436 | M32: 30424.178 | N32: 62.77075 | O32: 8.0627814 | P32: -1.3890968 | Q32: 10.452957 | R32: -0.13289032 | S32: 54.11195 | T32: 675 | U32: 44818.237 | V32: 69.570123 | W32: 6.6653391 | X32: 21.923392 | Y32: 521 | Z32: 17461.608 | AA32: 66.273789 | AB32: 11.104709 | AC32: -3.2963336 | AD32: 13.063863 | AE32: -0.25232456
A33: Slovenia | B33: 2069 | C33: 12931.14 | D33: 62.791469 | E33: 4.0785231 | F33: 61.655185 | G33: 1309 | H33: 8099.4075 | I33: 67.819348 | J33: 5.1837331 | K33: 17.775327 | L33: 314 | M33: 2114.7962 | N33: 60.771409 | O33: 9.2491568 | P33: 7.0479386 | Q33: 10.350934 | R33: 0.68089877 | S33: 73.139403 | T33: 1344 | U33: 8646.2848 | V33: 59.777294 | W33: 4.7858981 | X33: 11.473103 | Y33: 247 | Z33: 1448.9419 | AA33: 62.852998 | AB33: 10.367511 | AC33: 3.0757045 | AD33: 11.090621 | AE33: 0.27732481
A34: Slovak Republic | B34: 1485 | C34: 23984.527 | D34: 48.9265 | E34: 4.0026655 | F34: 88.765922 | G34: 1306 | H34: 21114.805 | I34: 50.452739 | J34: 4.0841985 | K34: 7.3775017 | L34: 130 | M34: 2022.4254 | N34: 58.144297 | O34: 13.463197 | P34: -7.6915585 | Q34: 13.653415 | R34: -0.56334321 | S34: 52.567315 | T34: 749 | U34: 12359.593 | V34: 48.631409 | W34: 5.3717224 | X34: 13.957999 | Y34: 272 | Z34: 4171.9806 | AA34: 61.822646 | AB34: 10.74041 | AC34: 13.191237 | AD34: 11.816154 | AE34: 1.1163732
A35: Finland | B35: 3955 | C35: 54497.994 | D35: 97.623162 | E35: 1.1976204 | F35: 39.800331 | G35: 1473 | H35: 20777.243 | I35: 100 | J35: 0 | K35: 31.027883 | L35: 1131 | M35: 14642.109 | N35: 95.944184 | O35: 2.8755095 | P35: 4.0558162 | Q35: 2.8755095 | R35: 1.4104687 | S35: 23.334255 | T35: 862 | U35: 12444.835 | V35: 100 | W35: 0 | X35: 32.627809 | Y35: 1270 | Z35: 16691.357 | AA35: 100 | AB35: 0 | AC35: 0 | AD35: 0 | AE35: :
A36: Sweden | B36: 2964 | C36: 95965.848 | D36: 97.247464 | E36: 1.4079526 | F36: 63.184828 | G36: 1520 | H36: 46698.372 | I36: 95.474864 | J36: 2.6440903 | K36: 21.769992 | L36: 460 | M36: 15543.033 | N36: 100 | O36: 0 | P36: -4.5251361 | Q36: 2.6440903 | R36: -1.7114151 | S36: 25.407581 | T36: 596 | U36: 20950.192 | V36: 97.479901 | W36: 2.5578031 | X36: 34.904527 | Y36: 859 | Z36: 25930.525 | AA36: 92.26247 | AB36: 4.5513709 | AC36: -5.2174305 | AD36: 5.2501313 | AE36: -0.99377144
A37: Bosnia and Herzegovina | B37: 365 | C37: 3647.0699 | D37: 32.893082 | E37: 6.652753 | F37: 75.459988 | G37: 249 | H37: 2396.7256 | I37: 37.566671 | J37: 9.8141836 | K37: 11.061626 | L37: 14 | M37: 182.23116 | N37: 20.126776 | O37: 21.417275 | P37: 17.439895 | Q37: 23.558817 | R37: 0.74027041 | S37: 66.129446 | T37: 207 | U37: 2083.4677 | V37: 34.910853 | W37: 10.060542 | X37: 15.221345 | Y37: 77 | Z37: 764.26972 | AA37: 41.435661 | AB37: 15.928966 | AC37: 6.5248079 | AD37: 19.085189 | AE37: 0.34187809
A38: Norway | B38: 3444 | C38: 46576.609 | D38: 95.500032 | E38: 1.7284002 | F38: : | G38: : | H38: : | I38: : | J38: : | K38: : | L38: : | M38: : | N38: : | O38: : | P38: : | Q38: : | R38: : | S38: 46.205448 | T38: 1020 | U38: 17083.305 | V38: 94.889629 | W38: 3.0155801 | X38: 22.718868 | Y38: 941 | Z38: 9632.9491 | AA38: 94.160253 | AB38: 4.198635 | AC38: -0.72937605 | AD38: 5.1483847 | AE38: -0.14167085
A39: Serbia | B39: 1503 | C39: 28283.81 | D39: 50.556017 | E39: 4.5545459 | F39: 38.233255 | G39: 505 | H39: 9457.4782 | I39: 45.868926 | J39: 7.9632818 | K39: 32.742481 | L39: 526 | M39: 9280.8423 | N39: 52.994958 | O39: 7.9173387 | P39: -7.126032 | Q39: 11.174422 | R39: -0.63770924 | S39: 41.969582 | T39: 591 | U39: 11867.203 | V39: 51.803734 | W39: 5.4980884 | X39: 32.020467 | Y39: 396 | Z39: 7438.7895 | AA39: 42.299564 | AB39: 9.6256692 | AC39: -9.5041701 | AD39: 11.334926 | AE39: -0.83848541
A40: Netherlands* | B40: 972 | C40: 130643.24 | D40: 100 | E40: 0 | F40: : | G40: : | H40: : | I40: : | J40: : | K40: : | L40: : | M40: : | N40: : | O40: : | P40: : | Q40: : | R40: : | S40: 13.389933 | T40: 58 | U40: 13390.084 | V40: 100 | W40: 0 | X40: 35.698552 | Y40: 132 | Z40: 26090.974 | AA40: 100 | AB40: 0 | AC40: 0 | AD40: 0 | AE40: :
A42: Notes:
A43: Variables | B43: ICT Resources/Availability of technology resources/Wi-Fi (II3G04B). Based on the question of the ICILS ICT Coordinator questionnaire: CQ04B “Are the following technology infrastructure resources made available by your school to teachers and students? – Wi-Fi”. Percentages reflect the share of students in schools who chose option 1.
B44: School composition (P_COMP).
B45: School location (IP3G05): The original categories of the school location variable (IP3G05) were transformed, merging the two first categories “1: In a community with fewer than 3,000 people” and “2: In a town with at least 3,000 but less than 15,000 people” and the two last categories “4: In a city with at least 100,000 but less than 1,000,000 people” and “5: In a city with 1,000,000 or more people”. The gaps show percentage point differences between schools located in towns/communities with less than 15,000 people and schools located in towns/cities with more than 100,000 people.
A46: * | B46: Did not meet guideline for sampling participation rate for reporting.

Sheet Table 1.2
A1: Title: | B1: =Contents!B2 -> Digital education at school in Europe: Bridging gaps in access, teaching and learning - 2026 | K1: Contents
A2: Chapters: | B2: ='Table 1.1'!B2 -> Chapter 1: Top-level governance for digital technologies in schools
B3: ='Table 1.1'!B3 -> Chapter 2: Digital equity and inclusion
A4: Figures: | B4: Figure 1.3: Relationship between Wi-Fi availability and bandwidth hindrance in schools
B5: Figure 2.5: Percentage point gaps between schools with more affluent and more disadvantageous socio-economic mix in reporting that the use of ICT in teaching and learning is hindered by insufficient internet bandwidth or speed at least to some extent
B6: Figure 2.10: Percentage point gaps between schools in small villages/towns and in big cities in reporting that the use of ICT in teaching and learning is hindered by insufficient internet bandwidth or speed at least to some extent
A7: Reference year: | B7: 2023
A9: Table: | B9: Table 1.2: Percentage of students in schools where the use of ICT in teaching and learning is hindered by insufficient internet bandwidth or speed at least to some extent
A10: Source: | B10: Eurydice, based on IEA, ICILS 2023 database.
B14: All schools | F14: Schools with more affluent than disadvantaged students | K14: Schools with more disadvantaged than affluent students | P14: Difference between the two sub-groups | S14: Schools in small communities/villages | X14: Schools in larger towns/cities | AC14: Difference between the two sub-groups
B15: Number of cases | C15: Weighted number of cases | D15: % | E15: S.E. | F15: Weighted percentage of students in this type of school | G15: Number of cases | H15: Weighted number of cases | I15: % | J15: S.E. | K15: Weighted percentage of students in this type of school | L15: Number of cases | M15: Weighted number of cases | N15: % | O15: S.E. | P15: Difference in percentage points | Q15: S.E. | R15: t value | S15: Weighted percentage of students in this type of school | T15: Number of cases | U15: Weighted number of cases | V15: % | W15: S.E. | X15: Weighted percentage of students in this type of school | Y15: Number of cases | Z15: Weighted number of cases | AA15: % | AB15: S.E. | AC15: Difference in percentage points | AD15: S.E. | AE15: t value
A16: Belgium (Flemish Community) | B16: 554 | C16: 12682.42 | D16: 20.922255 | E16: 4.341575 | F16: : | G16: : | H16: : | I16: : | J16: : | K16: : | L16: : | M16: : | N16: : | O16: : | P16: : | Q16: : | R16: : | S16: 14.323316 | T16: 100 | U16: 2476.5143 | V16: 31.526697 | W16: 11.219777 | X16: 15.59389 | Y16: 118 | Z16: 2754.587 | AA16: 31.786607 | AB16: 10.228142 | AC16: -0.25991036 | AD16: 15.868702 | AE16: -0.016378804
A17: Czechia | B17: 1914 | C17: 26640.084 | D17: 23.711657 | E17: 3.3480875 | F17: 77.215762 | G17: 141 | H17: 2052.2877 | I17: 18.349495 | J17: 9.723796 | K17: 9.9559988 | L17: 1529 | M17: 21378.034 | N17: 24.979215 | O17: 4.1995924 | P17: -6.6297201 | Q17: 10.819569 | R17: -0.61275268 | S17: 52.240139 | T17: 876 | U17: 13427.494 | V17: 22.987479 | W17: 5.0254918 | X17: 18.697311 | Y17: 563 | Z17: 6514.4384 | AA17: 33.178207 | AB17: 7.7621078 | AC17: -10.190727 | AD17: 8.8147904 | AE17: -1.1560941
A18: Denmark | B18: 151 | C18: 3832.7505 | D18: 9.1939228 | E18: 3.0781886 | F18: 65.074226 | G18: 40 | H18: 1363.3121 | I18: 22.115606 | J18: 11.694122 | K18: 17.850214 | L18: 75 | M18: 1563.189 | N18: 7.3247364 | O18: 3.831603 | P18: 14.79087 | Q18: 12.230679 | R18: 1.2093253 | S18: 50.33561 | T18: 72 | U18: 1823.0851 | V18: 10.46163 | W18: 5.0661071 | X18: 22.436561 | Y18: 14 | Z18: 508.65122 | AA18: 5.93439 | AB18: 6.0852464 | AC18: 4.5272403 | AD18: 7.7048282 | AE18: 0.58758485
A19: Germany | B19: 2553 | C19: 297543.18 | D19: 49.641118 | E19: 4.0627889 | F19: 29.722649 | G19: 1228 | H19: 140641.16 | I19: 52.979341 | J19: 6.2484178 | K19: 51.698222 | L19: 664 | M19: 69281.183 | N19: 41.734678 | O19: 8.5847685 | P19: 11.244663 | Q19: 10.791518 | R19: 1.0419908 | S19: 23.01703 | T19: 308 | U19: 56674.405 | V19: 50.142212 | W19: 11.773634 | X19: 31.271936 | Y19: 1014 | Z19: 89393.341 | AA19: 52.373874 | AB19: 7.651508 | AC19: -2.2316616 | AD19: 14.421835 | AE19: -0.15474187
A20: Greece | B20: 1783 | C20: 53517.677 | D20: 65.836386 | E20: 4.2579446 | F20: 64.849305 | G20: 363 | H20: 10734.511 | I20: 74.205857 | J20: 9.9157557 | K20: 20.040077 | L20: 998 | M20: 28807.226 | N20: 61.43702 | O20: 5.4521838 | P20: 12.768837 | Q20: 11.499403 | R20: 1.1103913 | S20: 27.592206 | T20: 569 | U20: 15790.108 | V20: 72.314151 | W20: 7.3458887 | X20: 29.182836 | Y20: 372 | Z20: 12216.208 | AA20: 59.282394 | AB20: 9.2169306 | AC20: 13.031757 | AD20: 11.537414 | AE20: 1.1295215
A21: Spain | B21: 4681 | C21: 211050.06 | D21: 45.533605 | E21: 3.0764655 | F21: 68.390599 | G21: 856 | H21: 40487.924 | I21: 57.611966 | J21: 9.3028251 | K21: 16.788733 | L21: 2867 | M21: 125670.93 | N21: 43.447576 | O21: 3.8287831 | P21: 14.164391 | Q21: 10.406283 | R21: 1.3611383 | S21: 28.514488 | T21: 1258 | U21: 61811.44 | V21: 51.815264 | W21: 6.6771747 | X21: 37.613134 | Y21: 1376 | Z21: 58483.856 | AA21: 35.656494 | AB21: 4.679485 | AC21: 16.15877 | AD21: 8.0244012 | AE21: 2.0137041
A22: France | B22: 749 | C22: 162964.79 | D22: 25.984675 | E22: 4.3488975 | F22: 38.075107 | G22: 311 | H22: 74664.902 | I22: 29.425501 | J22: 7.8098643 | K22: 46.603719 | L22: 263 | M22: 53940.016 | N22: 25.099349 | O22: 6.8451046 | P22: 4.3261517 | Q22: 10.056108 | R22: 0.4302014 | S22: 49.41762 | T22: 350 | U22: 74579.865 | V22: 27.580494 | W22: 6.2392332 | X22: 14.308944 | Y22: 50 | Z22: 11612.603 | AA22: 16.863515 | AB22: 10.699098 | AC22: 10.716979 | AD22: 11.646922 | AE22: 0.92015549
A23: Croatia | B23: 1024 | C23: 14182.052 | D23: 41.439053 | E23: 4.5539359 | F23: 48.364748 | G23: 289 | H23: 4509.0347 | I23: 55.410968 | J23: 8.4397171 | K23: 25.86297 | L23: 332 | M23: 4627.8128 | N23: 31.432557 | O23: 6.9560689 | P23: 23.97841 | Q23: 10.762199 | R23: 2.2280216 | S23: 50.958543 | T23: 536 | U23: 8503.4884 | V23: 51.376058 | W23: 6.7138403 | X23: 22.754847 | Y23: 192 | Z23: 2290.2785 | AA23: 32.223165 | AB23: 9.2018154 | AC23: 19.152893 | AD23: 12.072353 | AE23: 1.5865087
A24: Italy | B24: 1280 | C24: 200233.08 | D24: 40.29949 | E24: 4.2038297 | F24: 40.303078 | G24: 481 | H24: 81239.121 | I24: 44.26217 | J24: 6.9411931 | K24: 43.125409 | L24: 476 | M24: 67723.714 | N24: 38.484758 | O24: 6.8045035 | P24: 5.7774127 | Q24: 9.1648969 | R24: 0.63038491 | S24: 40.477714 | T24: 437 | U24: 76904.178 | V24: 44.441282 | W24: 7.1532151 | X24: 24.352233 | Y24: 241 | Z24: 35170.634 | AA24: 32.916988 | AB24: 9.3485311 | AC24: 11.524293 | AD24: 11.481114 | AE24: 1.0037609
A25: Cyprus | B25: 520 | C25: 1414 | D25: 15.975169 | E25: 0.74956843 | F25: 62.250489 | G25: 225 | H25: 546.5 | I25: 34.274067 | J25: 3.7114414 | K25: 18.43889 | L25: 251 | M25: 777.5 | N25: 14.864287 | O25: 0.78226961 | P25: 19.40978 | Q25: 3.7881381 | R25: 5.1238311 | S25: 35.160558 | T25: 338 | U25: 989 | V25: 31.962375 | W25: 2.1010687 | X25: 37.971513 | Y25: 59 | Z25: 166 | AA25: 5.4755994 | AB25: 0.61596244 | AC25: 26.486776 | AD25: 2.3280236 | AE25: 11.377365
A26: Latvia | B26: 1549 | C26: 10643.32 | D26: 59.302487 | E26: 4.1485361 | F26: 47.751106 | G26: 334 | H26: 2660.0333 | I26: 57.356706 | J26: 7.9226218 | K26: 28.087997 | L26: 742 | M26: 4848.9632 | N26: 61.995844 | O26: 6.4889329 | P26: -4.6391376 | Q26: 10.148549 | R26: -0.45712326 | S26: 41.983911 | T26: 677 | U26: 5032.3126 | V26: 72.179091 | W26: 6.7238963 | X26: 28.510198 | Y26: 281 | Z26: 1716.3258 | AA26: 35.449309 | AB26: 7.6321514 | AC26: 36.729782 | AD26: 10.171554 | AE26: 3.6110294
A27: Luxembourg | B27: 682 | C27: 1084.3535 | D27: 30.075427 | E27: 2.2450764 | F27: 26.003415 | G27: 0 | H27: 0 | I27: 0 | J27: 0 | K27: 49.720352 | L27: 0 | M27: 0 | N27: 0 | O27: 0 | P27: 0 | Q27: 0 | R27: : | S27: 48.715463 | T27: 431 | U27: 601.24725 | V27: 45.537181 | W27: 3.9079554 | X27: 23.671921 | Y27: 0 | Z27: 0 | AA27: 0 | AB27: 0 | AC27: 45.537181 | AD27: 3.9079554 | AE27: 11.652431
A28: Hungary | B28: 927 | C28: 22040.386 | D28: 31.417528 | E28: 4.4682567 | F28: 65.777387 | G28: 106 | H28: 3551.5617 | I28: 42.05228 | J28: 13.364528 | K28: 17.873216 | L28: 522 | M28: 12158.784 | N28: 29.726386 | O28: 5.388109 | P28: 12.325894 | Q28: 14.022907 | R28: 0.87898283 | S28: 41.898927 | T28: 264 | U28: 8013.0072 | V28: 33.953776 | W28: 7.617135 | X28: 31.065132 | Y28: 251 | Z28: 5313.1642 | AA28: 26.074784 | AB28: 8.1392273 | AC28: 7.878992 | AD28: 10.905209 | AE28: 0.72249806
A29: Malta | B29: 1092 | C29: 1837.1667 | D29: 57.842263 | E29: 0.62983161 | F29: 63.556914 | G29: : | H29: : | I29: : | J29: : | K29: 10.173067 | L29: 649 | M29: 1252.5 | N29: 64.214304 | O29: 0.77219288 | P29: : | Q29: : | R29: : | S29: 69.51524 | T29: 528 | U29: 833.66667 | V29: 42.671899 | W29: 0.93032566 | X29: : | Y29: : | Z29: : | AA29: : | AB29: : | AC29: : | AD29: : | AE29: :
A30: Austria | B30: 1106 | C30: 24879.677 | D30: 36.696481 | E30: 4.3336771 | F30: 39.136298 | G30: 570 | H30: 13445.369 | I30: 53.073526 | J30: 7.4879964 | K30: 43.174121 | L30: 354 | M30: 7125.6508 | N30: 29.081176 | O30: 7.5159297 | P30: 23.99235 | Q30: 10.509813 | R30: 2.2828521 | S30: 59.898238 | T30: 411 | U30: 10574.499 | V30: 28.073171 | W30: 5.6637372 | X30: 29.128402 | Y30: 430 | Z30: 8695.1435 | AA30: 47.858779 | AB30: 9.462346 | AC30: -19.785608 | AD30: 10.947811 | AE30: -1.8072661
A31: Portugal | B31: 2872 | C31: 79573.619 | D31: 82.720768 | E31: 2.3322701 | F31: 40.951143 | G31: 1187 | H31: 32573.029 | I31: 85.962877 | J31: 4.2081673 | K31: 41.486706 | L31: 927 | M31: 27273.358 | N31: 74.407344 | O31: 5.0096499 | P31: 11.555533 | Q31: 7.3125106 | R31: 1.5802415 | S31: 26.91522 | T31: 724 | U31: 22499.792 | V31: 90.448543 | W31: 4.5928759 | X31: 23.903578 | Y31: 559 | Z31: 15527.477 | AA31: 67.43839 | AB31: 7.0976329 | AC31: 23.010153 | AD31: 9.3694007 | AE31: 2.4558831
A32: Romania | B32: 1043 | C32: 56489.286 | D32: 43.319391 | E32: 4.6863122 | F32: 40.988574 | G32: 325 | H32: 24233.853 | I32: 49.377073 | J32: 7.7535051 | K32: 43.034852 | L32: 493 | M32: 16912.937 | N32: 36.023081 | O32: 9.026016 | P32: 13.353991 | Q32: 12.111312 | R32: 1.1026048 | S32: 54.11195 | T32: 427 | U32: 33330.81 | V32: 51.252847 | W32: 6.529128 | X32: 21.923392 | Y32: 342 | Z32: 8153.2201 | AA32: 30.944733 | AB32: 11.909377 | AC32: 20.308114 | AD32: 13.711164 | AE32: 1.4811371
A33: Slovenia | B33: 738 | C33: 4784.9937 | D33: 23.356384 | E33: 3.0473616 | F33: 61.655185 | G33: 158 | H33: 974.65173 | I33: 28.00788 | J33: 8.5168614 | K33: 17.775327 | L33: 380 | M33: 2469.7108 | N33: 20.684322 | O33: 3.7926558 | P33: 7.3235579 | Q33: 9.377369 | R33: 0.78098217 | S33: 73.139403 | T33: 620 | U33: 4111.2921 | V33: 28.175108 | W33: 4.0753233 | X33: 11.473103 | Y33: 35 | Z33: 198.00787 | AA33: 9.104179 | AB33: 6.2183415 | AC33: 19.07093 | AD33: 7.7850814 | AE33: 2.4496763
A34: Slovak Republic | B34: 1363 | C34: 22413.991 | D34: 46.273474 | E34: 3.8411535 | F34: 88.765922 | G34: 136 | H34: 2074.6966 | I34: 59.647083 | J34: 16.395515 | K34: 7.3775017 | L34: 1137 | M34: 18778.17 | N34: 45.503847 | O34: 4.2573629 | P34: 14.143236 | Q34: 17.638566 | R34: 0.80183592 | S34: 52.567315 | T34: 788 | U34: 13061.166 | V34: 52.599416 | W34: 5.5411293 | X34: 13.957999 | Y34: 148 | Z34: 2709.715 | AA34: 40.15401 | AB34: 8.2391642 | AC34: 12.445406 | AD34: 9.5992111 | AE34: 1.296503
A35: Finland | B35: 971 | C35: 13292.565 | D35: 23.9413 | E35: 3.7901804 | F35: 39.800331 | G35: 309 | H35: 4335.3942 | I35: 28.984376 | J35: 6.7766147 | K35: 31.027883 | L35: 343 | M35: 4097.7714 | N35: 19.722402 | O35: 5.3578688 | P35: 9.2619732 | Q35: 8.5180707 | R35: 1.0873323 | S35: 23.334255 | T35: 111 | U35: 1478.0305 | V35: 12.173418 | W35: 5.5790568 | X35: 32.627809 | Y35: 281 | Z35: 3850.1166 | AA35: 23.066529 | AB35: 7.2883069 | AC35: -10.893111 | AD35: 8.846306 | AE35: -1.2313739
A36: Sweden | B36: 358 | C36: 12216.159 | D36: 12.623596 | E36: 2.8285699 | F36: 63.184828 | G36: 43 | H36: 1664.716 | I36: 10.287925 | J36: 7.1343454 | K36: 21.769992 | L36: 148 | M36: 4529.4548 | N36: 9.6250673 | O36: 3.1037725 | P36: 0.6628576 | Q36: 8.2711523 | R36: 0.080140901 | S36: 25.407581 | T36: 73 | U36: 2336.5416 | V36: 10.871778 | W36: 5.2552556 | X36: 34.904527 | Y36: 92 | Z36: 2499.0452 | AA36: 8.9237819 | AB36: 4.6296433 | AC36: 1.9479964 | AD36: 7.6987343 | AE36: 0.25302813
A37: Bosnia and Herzegovina | B37: 832 | C37: 8432.5436 | D37: 79.125477 | E37: 4.8304573 | F37: 75.459988 | G37: 76 | H37: 905.41656 | I37: 100 | J37: 0 | K37: 11.061626 | L37: 477 | M37: 4983.7884 | N37: 78.116719 | O37: 6.5792746 | P37: 21.883281 | Q37: 6.5792746 | R37: 3.3260933 | S37: 66.129446 | T37: 501 | U37: 5174.7852 | V37: 86.709365 | W37: 5.4780193 | X37: 15.221345 | Y37: 123 | Z37: 1131.184 | AA37: 61.328293 | AB37: 15.256396 | AC37: 25.381071 | AD37: 15.315351 | AE37: 1.6572308
A38: Norway | B38: 405 | C38: 4945.1801 | D38: 10.403651 | E38: 2.9061467 | F38: : | G38: : | H38: : | I38: : | J38: : | K38: : | L38: : | M38: : | N38: : | O38: : | P38: : | Q38: : | R38: : | S38: 46.205448 | T38: 139 | U38: 1718.742 | V38: 9.761512 | W38: 4.4425893 | X38: 22.718868 | Y38: 90 | Z38: 924.32432 | AA38: 9.0350952 | AB38: 6.2127196 | AC38: 0.72641679 | AD38: 7.6914129 | AE38: 0.094445168
A39: Serbia | B39: 1144 | C39: 21844.61 | D39: 38.231985 | E39: 4.3427529 | F39: 38.233255 | G39: 370 | H39: 7250.9317 | I39: 41.403874 | J39: 7.3192717 | K39: 32.742481 | L39: 471 | M39: 8468.476 | N39: 39.338458 | O39: 7.388374 | P39: 2.0654162 | Q39: 9.6801285 | R39: 0.21336661 | S39: 41.969582 | T39: 527 | U39: 10898.153 | V39: 46.662571 | W39: 6.4877042 | X39: 32.020467 | Y39: 303 | Z39: 5534.4926 | AA39: 31.471064 | AB39: 7.1390168 | AC39: 15.191506 | AD39: 9.4479842 | AE39: 1.6079098
A40: Netherlands* | B40: 51 | C40: 10841.761 | D40: 8.7791652 | E40: 5.2710279 | F40: : | G40: : | H40: : | I40: : | J40: : | K40: : | L40: : | M40: : | N40: : | O40: : | P40: : | Q40: : | R40: : | S40: 13.389933 | T40: 11 | U40: 3789.6175 | V40: 38.321089 | W40: 72.614006 | X40: 35.698552 | Y40: 40 | Z40: 7052.1434 | AA40: 27.029054 | AB40: 22.435542 | AC40: 11.292034 | AD40: 76.00097 | AE40: 0.1485775
A42: Notes:
A43: Variables | B43: ICT Support/Use of ICT hindered/Insufficient Internet bandwidth or speed (II3G14B). Based on the question of the ICILS ICT Coordinator questionnaire: CQ14B “To what extent is the use of ICT in teaching and learning at your school hindered by each of the following obstacles? - Insufficient internet bandwidth or speed”. Percentages reflect the share of students in schools who chose option 1 (A lot) or 2 (to some extent).
B44: School composition (P_COMP).
B45: School location (IP3G05): The original categories of the school location variable (IP3G05) were transformed, merging the two first categories “1: In a community with fewer than 3,000 people” and “2: In a town with at least 3,000 but less than 15,000 people” and the two last categories “4: In a city with at least 100,000 but less than 1,000,000 people” and “5: In a city with 1,000,000 or more people”. The gaps show percentage point differences between schools located in towns/communities with less than 15,000 people and schools located in towns/cities with more than 100,000 people.
A46: * | B46: Did not meet guideline for sampling participation rate for reporting.

Sheet Table 1.3
A1: Title: | B1: =Contents!B2 -> Digital education at school in Europe: Bridging gaps in access, teaching and learning - 2026 | K1: Contents
A2: Chapters: | B2: ='Table 1.1'!B2 -> Chapter 1: Top-level governance for digital technologies in schools
B3: ='Table 1.1'!B3 -> Chapter 2: Digital equity and inclusion
A4: Figures: | B4: Figure 1.6: Availability of laptops and tablets in classrooms and computer labs
B5: Figure 2.6: Percentage point gaps between schools with more advantageous and more disadvantageous socio-economic mix in the availability of laptops and tablets in classrooms
A7: Reference year: | B7: 2023
A9: Table: | B9: Table 1.3: Percentage of students in schools where laptops and tablets are made available in most classrooms (80%)
A10: Source: | B10: Eurydice, based on IEA, ICILS 2023 database.
B14: All schools | F14: Schools with more affluent than disadvantaged students | K14: Schools with more disadvantaged than affluent students | P14: Difference between the two sub-groups | S14: Schools in small communities/villages | X14: Schools in larger towns/cities | AC14: Difference between the two sub-groups
B15: Number of cases | C15: Weighted number of cases | D15: % | E15: S.E. | F15: Weighted percentage of students in this type of school | G15: Number of cases | H15: Weighted number of cases | I15: % | J15: S.E. | K15: Weighted percentage of students in this type of school | L15: Number of cases | M15: Weighted number of cases | N15: % | O15: S.E. | P15: Difference in percentage points | Q15: S.E. | R15: t value | S15: Weighted percentage of students in this type of school | T15: Number of cases | U15: Weighted number of cases | V15: % | W15: S.E. | X15: Weighted percentage of students in this type of school | Y15: Number of cases | Z15: Weighted number of cases | AA15: % | AB15: S.E. | AC15: Difference in percentage points | AD15: S.E. | AE15: t value
A16: Belgium (Flemish Community) | B16: 363 | C16: 7608.1812 | D16: 12.43 | E16: 2.94 | F16: : | G16: : | H16: : | I16: : | J16: : | K16: : | L16: : | M16: : | N16: : | O16: : | P16: : | Q16: : | R16: : | S16: 14.323316 | T16: 77 | U16: 1264.3863 | V16: 16.09598 | W16: 9.5640512 | X16: 15.59389 | Y16: 107 | Z16: 2156.2303 | AA16: 24.881859 | AB16: 11.447215 | AC16: -8.7858789 | AD16: 14.551219 | AE16: -0.60378987
A17: Czechia | B17: 3183 | C17: 45014.517 | D17: 40.07 | E17: 3.69 | F17: 77.215762 | G17: 2389 | H17: 34862.362 | I17: 40.735009 | J17: 4.6150028 | K17: 9.9559988 | L17: 313 | M17: 3471.8505 | N17: 31.041799 | O17: 10.206873 | P17: -9.69321 | Q17: 12.032232 | R17: -0.80560365 | S17: 52.240139 | T17: 1332 | U17: 22195.045 | V17: 37.997273 | W17: 5.7601112 | X17: 18.697311 | Y17: 655 | Z17: 8531.7731 | AA17: 43.452546 | AB17: 9.2233545 | AC17: -5.455273 | AD17: 10.542957 | AE17: -0.51743292
A18: Denmark | B18: 1117 | C18: 23212.219 | D18: 55.22 | E18: 5.1 | F18: 65.074226 | G18: 476 | H18: 9355.2587 | I18: 44.747228 | J18: 7.344018 | K18: 17.850214 | L18: 188 | M18: 4658.9299 | N18: 75.577016 | O18: 9.6940747 | P18: 30.829788 | Q18: 12.48129 | R18: 2.4700802 | S18: 50.33561 | T18: 480 | U18: 9181.381 | V18: 52.686631 | W18: 7.9851851 | X18: 22.436561 | Y18: 207 | Z18: 4617.5486 | AA18: 56.748144 | AB18: 12.125948 | AC18: -4.0615137 | AD18: 13.284865 | AE18: -0.30572488
A19: Germany | B19: 1258 | C19: 170910.67 | D19: 28.38 | E19: 3.78 | F19: 29.722649 | G19: 252 | H19: 24807.51 | I19: 14.943934 | J19: 5.445212 | K19: 51.698222 | L19: 553 | M19: 93845.137 | N19: 35.35134 | O19: 5.2653173 | P19: 20.407406 | Q19: 7.9038796 | R19: 2.5819479 | S19: 23.01703 | T19: 115 | U19: 29336.277 | V19: 25.955029 | W19: 10.565578 | X19: 31.271936 | Y19: 450 | Z19: 62436.838 | AA19: 36.327669 | AB19: 6.7460738 | AC19: -10.37264 | AD19: 13.564389 | AE19: -0.7646964
A20: Greece | B20: 927 | C20: 24967.749 | D20: 30.71 | E20: 4.31 | F20: 64.849305 | G20: 557 | H20: 14340.888 | I20: 30.584736 | J20: 5.0538812 | K20: 20.040077 | L20: 98 | M20: 2591.6664 | N20: 17.915751 | O20: 7.4148858 | P20: -12.668985 | Q20: 8.1394452 | R20: -1.5564925 | S20: 27.592206 | T20: 277 | U20: 6717.4546 | V20: 30.764009 | W20: 8.3802192 | X20: 29.182836 | Y20: 175 | Z20: 5122.2705 | AA20: 24.857179 | AB20: 7.1251319 | AC20: 5.90683 | AD20: 11.295129 | AE20: 0.52295374
A21: Spain | B21: 3221 | C21: 129638.41 | D21: 28.02 | E21: 2.73 | F21: 68.390599 | G21: 2147 | H21: 80908.512 | I21: 28.049541 | J21: 3.1707443 | K21: 16.788733 | L21: 482 | M21: 17799.234 | N21: 25.327277 | O21: 7.1099814 | P21: -2.7222644 | Q21: 8.0009056 | R21: -0.34024453 | S21: 28.514488 | T21: 666 | U21: 27579.576 | V21: 23.119393 | W21: 5.2468978 | X21: 37.613134 | Y21: 1201 | Z21: 47559.074 | AA21: 28.995862 | AB21: 4.9594954 | AC21: -5.8764689 | AD21: 7.249011 | AE21: -0.81065802
A22: France | B22: 1045 | C22: 228495.17 | D22: 36.43 | E22: 4.64 | F22: 38.075107 | G22: 442 | H22: 92293.303 | I22: 41.931987 | J22: 8.3771293 | K22: 46.603719 | L22: 343 | M22: 80008.844 | N22: 32.179095 | O22: 7.201623 | P22: -9.7528925 | Q22: 11.445935 | R22: -0.85208352 | S22: 49.41762 | T22: 473 | U22: 101115.59 | V22: 38.113399 | W22: 6.7638965 | X22: 14.308944 | Y22: 107 | Z22: 22366.015 | AA22: 30.200415 | AB22: 12.41474 | AC22: 7.9129846 | AD22: 14.365068 | AE22: 0.55084909
A23: Croatia | B23: 717 | C23: 9306.454 | D23: 27.19 | E23: 4.19 | F23: 48.364748 | G23: 303 | H23: 3776.9415 | I23: 25.653357 | J23: 7.4928821 | K23: 25.86297 | L23: 158 | M23: 2242.5754 | N23: 27.55873 | O23: 6.495365 | P23: 1.9053737 | Q23: 10.328679 | R23: 0.1844741 | S23: 50.958543 | T23: 265 | U23: 4102.4042 | V23: 24.785752 | W23: 6.1697705 | X23: 22.754847 | Y23: 207 | Z23: 2271.0969 | AA23: 31.953288 | AB23: 9.2100234 | AC23: -7.1675365 | AD23: 10.679207 | AE23: -0.6711675
A24: Italy | B24: 1457 | C24: 223711.58 | D24: 44.69 | E24: 4.18 | F24: 40.303078 | G24: 538 | H24: 89674.656 | I24: 50.958626 | J24: 7.0679667 | K24: 43.125409 | L24: 456 | M24: 74063.33 | N24: 40.352526 | O24: 6.983442 | P24: -10.6061 | Q24: 9.9767535 | R24: -1.0630813 | S24: 40.477714 | T24: 484 | U24: 84447.066 | V24: 47.759664 | W24: 6.9570742 | X24: 24.352233 | Y24: 278 | Z24: 44074.009 | AA24: 41.249858 | AB24: 9.5938856 | AC24: 6.5098063 | AD24: 12.004122 | AE24: 0.5422976
A25: Cyprus | B25: 1158 | C25: 3516.5526 | D25: 40.05 | E25: 1.91 | F25: 62.250489 | G25: 578 | H25: 1765.5526 | I25: 33.62536 | J25: 2.8179145 | K25: 18.43889 | L25: 225 | M25: 663 | N25: 41.580433 | O25: 2.0886388 | P25: 7.9550725 | Q25: 3.4986517 | R25: 2.2737538 | S25: 35.160558 | T25: 480 | U25: 1409 | V25: 46.589861 | W25: 2.7844526 | X25: 37.971513 | Y25: 363 | Z25: 1129.7105 | AA25: 37.26411 | AB25: 5.5446331 | AC25: 9.325751 | AD25: 6.8072243 | AE25: 1.3699785
A26: Latvia | B26: 565 | C26: 3740.2226 | D26: 20.99 | E26: 3.66 | F26: 47.751106 | G26: 255 | H26: 1590.6183 | I26: 20.684845 | J26: 5.6634044 | K26: 28.087997 | L26: 79 | M26: 615.66906 | N26: 13.275304 | O26: 5.7905896 | P26: -7.4095416 | Q26: 8.4186636 | R26: -0.88013275 | S26: 41.983911 | T26: 156 | U26: 1132.2535 | V26: 16.552629 | W26: 4.6661843 | X26: 28.510198 | Y26: 134 | Z26: 819.14045 | AA26: 17.416968 | AB26: 7.16313 | AC26: -0.86433953 | AD26: 8.5489009 | AE26: -0.10110534
A27: Luxembourg | B27: 453 | C27: 600.16941 | D27: 15.51 | E27: 1.56 | F27: 26.003415 | G27: 0 | H27: 0 | I27: 0 | J27: 0 | K27: 49.720352 | L27: 63 | M27: 78.357143 | N27: 10.395868 | O27: 1.3009178 | P27: 10.395868 | Q27: 1.3009178 | R27: 7.99118 | S27: 48.715463 | T27: 111 | U27: 164.51557 | V27: 12.460057 | W27: 2.8904199 | X27: 23.671921 | Y27: 63 | Z27: 78.357143 | AA27: 17.666114 | AB27: 2.6063383 | AC27: -5.2060567 | AD27: 3.9538642 | AE27: -1.3167009
A28: Hungary | B28: 1313 | C28: 28106.682 | D28: 39.86 | E28: 4.74 | F28: 65.777387 | G28: 846 | H28: 17382.543 | I28: 41.589322 | J28: 6.6383692 | K28: 17.873216 | L28: 128 | M28: 4114.2514 | N28: 52.03309 | O28: 12.279988 | P28: 10.443768 | Q28: 14.368006 | R28: 0.72687666 | S28: 41.898927 | T28: 361 | U28: 10034.191 | V28: 40.967399 | W28: 7.4229182 | X28: 31.065132 | Y28: 373 | Z28: 8041.1201 | AA28: 39.462448 | AB28: 8.6461846 | AC28: 1.5049514 | AD28: 11.427052 | AE28: 0.13170075
A29: Malta | B29: 920 | C29: 1420.8333 | D29: 39.94 | E29: 0.75 | F29: 63.556914 | G29: 657 | H29: 1145.8333 | I29: 52.500955 | J29: 1.0295281 | K29: 10.173067 | L29: : | M29: : | N29: : | O29: : | P29: : | Q29: : | R29: : | S29: 69.51524 | T29: 635 | U29: 783 | V29: 34.851632 | W29: 0.76884371 | X29: : | Y29: : | Z29: : | AA29: : | AB29: : | AC29: : | AD29: : | AE29: :
A30: Austria | B30: 683 | C30: 13290.681 | D30: 19.93 | E30: 3.44 | F30: 39.136298 | G30: 226 | H30: 4976.1735 | I30: 20.759852 | J30: 6.2107255 | K30: 43.174121 | L30: 235 | M30: 4432.349 | N30: 17.496016 | O30: 5.4717721 | P30: -3.2638361 | Q30: 8.5569507 | R30: -0.38142515 | S30: 59.898238 | T30: 369 | U30: 8568.2358 | V30: 22.746944 | W30: 4.5410928 | X30: 29.128402 | Y30: 169 | Z30: 2558.7587 | AA30: 14.993632 | AB30: 5.6973778 | AC30: 7.7533126 | AD30: 6.9544864 | AE30: 1.1148649
A31: Portugal | B31: 828 | C31: 20363.414 | D31: 21.34 | E31: 3.83 | F31: 40.951143 | G31: 225 | H31: 7222.5305 | I31: 20.129873 | J31: 6.2388511 | K31: 41.486706 | L31: 390 | M31: 9105.6216 | N31: 24.030478 | O31: 5.6248363 | P31: 3.9006048 | Q31: 7.8974857 | R31: 0.49390464 | S31: 26.91522 | T31: 242 | U31: 6372.5504 | V31: 25.617477 | W31: 6.7168501 | X31: 23.903578 | Y31: 255 | Z31: 5986.0516 | AA31: 25.998408 | AB31: 8.6101569 | AC31: -0.38093112 | AD31: 11.17599 | AE31: -0.034084776
A32: Romania | B32: 1411 | C32: 55341.513 | D32: 42.44 | E32: 5.16 | F32: 40.988574 | G32: 676 | H32: 24026.5 | I32: 51.17435 | J32: 8.6005846 | K32: 43.034852 | L32: 179 | M32: 12154.933 | N32: 24.765975 | O32: 7.2374438 | P32: -26.408375 | Q32: 10.97348 | R32: -2.4065634 | S32: 54.11195 | T32: 300 | U32: 19366.879 | V32: 29.780486 | W32: 6.9466264 | X32: 21.923392 | Y32: 602 | Z32: 17716.89 | AA32: 67.242688 | AB32: 10.461047 | AC32: -37.462203 | AD32: 12.759755 | AE32: -2.9359656
A33: Slovenia | B33: 1067 | C33: 6560.9645 | D33: 32.16 | E33: 3.65 | F33: 61.655185 | G33: 676 | H33: 3988.5255 | I33: 33.404699 | J33: 4.9127202 | K33: 17.775327 | L33: 176 | M33: 1213.3277 | N33: 36.910699 | O33: 9.1381605 | P33: 3.5059998 | Q33: 10.192784 | R33: 0.34396882 | S33: 73.139403 | T33: 663 | U33: 4181.8115 | V33: 28.833807 | W33: 4.0905968 | X33: 11.473103 | Y33: 192 | Z33: 1086.1119 | AA33: 49.938203 | AB33: 13.141936 | AC33: -21.104396 | AD33: 13.655227 | AE33: -1.5455178
A34: Slovak Republic | B34: 868 | C34: 14121.455 | D34: 28.81 | E34: 3.78 | F34: 88.765922 | G34: 762 | H34: 12656.104 | I34: 30.241109 | J34: 4.2212913 | K34: 7.3775017 | L34: 77 | M34: 1023.5154 | N34: 29.42585 | O34: 7.6341207 | P34: -0.81525919 | Q34: 8.6616359 | R34: -0.094123004 | S34: 52.567315 | T34: 362 | U34: 6035.7837 | V34: 23.749056 | W34: 4.9341733 | X34: 13.957999 | Y34: 138 | Z34: 2465.78 | AA34: 36.539251 | AB34: 11.152171 | AC34: -12.790195 | AD34: 12.346088 | AE34: -1.0359715
A35: Finland | B35: 191 | C35: 2379.0767 | D35: 4.28 | E35: 1.6 | F35: 39.800331 | G35: 65 | H35: 1095.4 | I35: 5.2721145 | J35: 2.8317844 | K35: 31.027883 | L35: 21 | M35: 327.53702 | N35: 2.1897561 | O35: 2.1162037 | P35: -3.0823584 | Q35: 3.5234924 | R35: -0.87480205 | S35: 23.334255 | T35: 70 | U35: 1210.4348 | V35: 9.9694345 | W35: 5.1372387 | X35: 32.627809 | Y35: 14 | Z35: 134.71634 | AA35: 0.80710241 | AB35: 0.81323517 | AC35: 9.1623321 | AD35: 5.194161 | AE35: 1.7639677
A36: Sweden | B36: 534 | C36: 16490.662 | D36: 17.23 | E36: 3.26 | F36: 63.184828 | G36: 250 | H36: 7232.104 | I36: 15.368182 | J36: 4.1508767 | K36: 21.769992 | L36: 113 | M36: 2997.471 | N36: 18.524335 | O36: 8.6816551 | P36: 3.1561529 | Q36: 9.5646305 | R36: 0.32998169 | S36: 25.407581 | T36: 101 | U36: 3251.5229 | V36: 15.913087 | W36: 7.1412242 | X36: 34.904527 | Y36: 140 | Z36: 3286.1392 | AA36: 11.734398 | AB36: 5.3338583 | AC36: 4.1786897 | AD36: 8.9949308 | AE36: 0.46456052
A37: Bosnia and Herzegovina | B37: 262 | C37: 2535.4899 | D37: 24.26 | E37: 6.94 | F37: 75.459988 | G37: 175 | H37: 1752.4928 | I37: 27.468861 | J37: 8.8564079 | K37: 11.061626 | L37: 5 | M37: 5 | N37: 0.552232 | O37: 0.26788384 | P37: -26.916629 | Q37: 8.8604583 | R37: -3.037837 | S37: 66.129446 | T37: 92 | U37: 1013.8171 | V37: 16.987649 | W37: 8.6730496 | X37: 15.221345 | Y37: 88 | Z37: 743.67576 | AA37: 45.356759 | AB37: 16.302722 | AC37: -28.36911 | AD37: 18.423515 | AE37: -1.5398315
A38: Norway | B38: 1136 | C38: 14754.729 | D38: 30.56 | E38: 4.2 | F38: : | G38: : | H38: : | I38: : | J38: : | K38: : | L38: : | M38: : | N38: : | O38: : | P38: : | Q38: : | R38: : | S38: 46.205448 | T38: 351 | U38: 6587.5769 | V38: 36.590855 | W38: 7.5651165 | X38: 22.718868 | Y38: 395 | Z38: 3170.8986 | AA38: 30.994933 | AB38: 7.5223662 | AC38: 5.5959212 | AD38: 10.61173 | AE38: 0.52733353
A39: Serbia | B39: 1032 | C39: 17732.108 | D39: 31.03 | E39: 3.9 | F39: 38.233255 | G39: 372 | H39: 5910.9887 | I39: 27.458208 | J39: 5.6427073 | K39: 32.742481 | L39: 324 | M39: 5047.7916 | N39: 28.823624 | O39: 6.3899894 | P39: 1.3654156 | Q39: 8.782722 | R39: 0.15546611 | S39: 41.969582 | T39: 382 | U39: 6285.8915 | V39: 26.914271 | W39: 5.6926119 | X39: 32.020467 | Y39: 373 | Z39: 6198.4271 | AA39: 35.246429 | AB39: 7.4997597 | AC39: -8.3321576 | AD39: 9.3253361 | AE39: -0.89349676
A40: Netherlands* | B40: 82 | C40: 17885.243 | D40: 14.48 | E40: 7.85 | F40: : | G40: : | H40: : | I40: : | J40: : | K40: : | L40: : | M40: : | N40: : | O40: : | P40: : | Q40: : | R40: : | S40: 13.389933 | T40: 0 | U40: 0 | V40: 0 | W40: 0 | X40: 35.698552 | Y40: 44 | Z40: 11839.343 | AA40: 45.377162 | AB40: 26.718108 | AC40: -45.377162 | AD40: 26.718108 | AE40: -1.6983673
A42: Notes:
A43: Variables | B43: ICT Resources/Location of school computers/In most classrooms (80% or more) (II3G10A). Based on the question of the ICILS ICT Coordinator questionnaire: CQ10A “Where are the ICT devices used by students in [target grade] located? - In most classrooms (80% or more)”. Percentages reflect the share of students in schools who indicated "Yes".
B44: School composition (P_COMP).
B45: School location (IP3G05): The original categories of the school location variable (IP3G05) were transformed, merging the two first categories “1: In a community with fewer than 3,000 people” and “2: In a town with at least 3,000 but less than 15,000 people” and the two last categories “4: In a city with at least 100,000 but less than 1,000,000 people” and “5: In a city with 1,000,000 or more people”. The gaps show percentage point differences between schools located in towns/communities with less than 15,000 people and schools located in towns/cities with more than 100,000 people.
A46: * | B46: Did not meet guideline for sampling participation rate for reporting.

Sheet Table 1.4
A1: Title: | B1: =Contents!B2 -> Digital education at school in Europe: Bridging gaps in access, teaching and learning - 2026 | K1: Contents
A2: Chapters: | B2: ='Table 1.1'!B2 -> Chapter 1: Top-level governance for digital technologies in schools
B3: ='Table 1.1'!B3 -> Chapter 2: Digital equity and inclusion
A4: Figures: | B4: Figure 1.6: Availability of laptops and tablets in classrooms and computer labs
A7: Reference year: | B7: 2023
A9: Table: | B9: Table 1.4: Percentage of students in schools where laptops and tablets are installed in computer laboratories
A10: Source: | B10: Eurydice, based on IEA, ICILS 2023 database.
B14: All schools | F14: Schools with more affluent than disadvantaged students | K14: Schools with more disadvantaged than affluent students | P14: Difference between the two sub-groups | S14: Schools in small communities/villages | X14: Schools in larger towns/cities | AC14: Difference between the two sub-groups
B15: Number of cases | C15: Weighted number of cases | D15: % | E15: S.E. | F15: Weighted percentage of students in this type of school | G15: Number of cases | H15: Weighted number of cases | I15: % | J15: S.E. | K15: Weighted percentage of students in this type of school | L15: Number of cases | M15: Weighted number of cases | N15: % | O15: S.E. | P15: Difference in percentage points | Q15: S.E. | R15: t value | S15: Weighted percentage of students in this type of school | T15: Number of cases | U15: Weighted number of cases | V15: % | W15: S.E. | X15: Weighted percentage of students in this type of school | Y15: Number of cases | Z15: Weighted number of cases | AA15: % | AB15: S.E. | AC15: Difference in percentage points | AD15: S.E. | AE15: t value
A16: Belgium (Flemish Community) | B16: 1097 | C16: 22895.996 | D16: 37.4 | E16: 5.44 | F16: : | G16: : | H16: : | I16: : | J16: : | K16: : | L16: : | M16: : | N16: : | O16: : | P16: : | Q16: : | R16: : | S16: 14.323316 | T16: 133 | U16: 2928.7467 | V16: 37.283738 | W16: 13.349934 | X16: 15.59389 | Y16: 152 | Z16: 4304.3341 | AA16: 49.669942 | AB16: 13.248161 | AC16: -12.386204 | AD16: 17.441737 | AE16: -0.71014739
A17: Czechia | B17: 7962 | C17: 110381.19 | D17: 98.25 | E17: 1.34 | F17: 77.215762 | G17: 5954 | H17: 84148.749 | I17: 98.323806 | J17: 1.6968475 | K17: 9.9559988 | L17: 765 | M17: 11184.437 | N17: 100 | O17: 0 | P17: 1.6761939 | Q17: 1.6968475 | R17: 0.98782829 | S17: 52.240139 | T17: 3573 | U17: 56977.663 | V17: 97.544106 | W17: 2.4665055 | X17: 18.697311 | Y17: 1527 | Z17: 19100.267 | AA17: 97.278162 | AB17: 2.1310288 | AC17: 0.26594379 | AD17: 3.1927814 | AE17: 0.083295332
A18: Denmark | B18: 150 | C18: 2972.9847 | D18: 7.07 | E18: 2.31 | F18: 65.074226 | G18: 89 | H18: 2168.9807 | I18: 10.374472 | J18: 3.6383634 | K18: 17.850214 | L18: 0 | M18: 0 | N18: 0 | O18: 0 | P18: -10.374472 | Q18: 3.6383634 | R18: -2.8514118 | S18: 50.33561 | T18: 106 | U18: 1975.9154 | V18: 11.338635 | W18: 4.8098644 | X18: 22.436561 | Y18: 25 | Z18: 604.16626 | AA18: 7.4250034 | AB18: 1.8889477 | AC18: 3.9136314 | AD18: 5.2861168 | AE18: 0.74036037
A19: Germany | B19: 3970 | C19: 542092.67 | D19: 90.03 | E19: 2.29 | F19: 29.722649 | G19: 1066 | H19: 136148.35 | I19: 82.015165 | J19: 4.2620129 | K19: 51.698222 | L19: 1822 | M19: 247431.5 | N19: 93.207121 | O19: 3.7737369 | P19: 11.191956 | Q19: 5.4779055 | R19: 2.0431086 | S19: 23.01703 | T19: 490 | U19: 99584.073 | V19: 88.106186 | W19: 8.4417421 | X19: 31.271936 | Y19: 1471 | Z19: 159279.48 | AA19: 92.67369 | AB19: 3.870707 | AC19: -4.5675035 | AD19: 9.0438956 | AE19: -0.50503718
A20: Greece | B20: 2858 | C20: 81664.632 | D20: 99.51 | E20: 0.49 | F20: 64.849305 | G20: 1741 | H20: 47264.764 | I20: 99.153855 | J20: 0.84407124 | K20: 20.040077 | L20: 481 | M20: 14465.854 | N20: 100 | O20: 0 | P20: 0.84614508 | Q20: 0.84407124 | R20: 1.0024569 | S20: 27.592206 | T20: 802 | U20: 21835.433 | V20: 100 | W20: 0 | X20: 29.182836 | Y20: 702 | Z20: 21385.875 | AA20: 100 | AB20: 0 | AC20: 0 | AD20: 0 | AE20: :
A21: Spain | B21: 8700 | C21: 320203.45 | D21: 69.08 | E21: 3.14 | F21: 68.390599 | G21: 5630 | H21: 208347.14 | I21: 72.030806 | J21: 3.6695417 | K21: 16.788733 | L21: 1408 | M21: 49875.32 | N21: 70.969687 | O21: 7.5302412 | P21: -1.061119 | Q21: 8.4444592 | R21: -0.1256586 | S21: 28.514488 | T21: 1913 | U21: 84225.968 | V21: 70.604902 | W21: 5.3195596 | X21: 37.613134 | Y21: 3049 | Z21: 105525.13 | AA21: 64.336663 | AB21: 5.1942351 | AC21: 6.268239 | AD21: 7.7074309 | AE21: 0.81327216
A22: France | B22: 2749 | C22: 614474.5 | D22: 97.17 | E22: 1.64 | F22: 38.075107 | G22: 1016 | H22: 214793.87 | I22: 97.588163 | J22: 2.4312448 | K22: 46.603719 | L22: 1026 | M22: 248110.56 | N22: 97.780581 | O22: 2.2343431 | P22: 0.19241825 | Q22: 3.3076137 | R22: 0.058174341 | S22: 49.41762 | T22: 1159 | U22: 263468.94 | V22: 97.433854 | W22: 2.5447038 | X22: 14.308944 | Y22: 349 | Z22: 74058.637 | AA22: 100 | AB22: 0 | AC22: -2.5661463 | AD22: 2.5447038 | AE22: -1.0084263
A23: Croatia | B23: 2112 | C23: 26269.928 | D23: 76.76 | E23: 3.8 | F23: 48.364748 | G23: 1025 | H23: 12388.894 | I23: 84.146579 | J23: 4.622464 | K23: 25.86297 | L23: 399 | M23: 5931.0937 | N23: 72.886475 | O23: 7.7051837 | P23: -11.260104 | Q23: 8.6546394 | R23: -1.3010484 | S23: 50.958543 | T23: 902 | U23: 12640.755 | V23: 76.372443 | W23: 4.8267635 | X23: 22.754847 | Y23: 464 | Z23: 5621.0818 | AA23: 79.086035 | AB23: 6.8449373 | AC23: -2.7135916 | AD23: 8.0375767 | AE23: -0.33761316
A24: Italy | B24: 2925 | C24: 457645.27 | D24: 91.41 | E24: 2.47 | F24: 40.303078 | G24: 1089 | H24: 165917.17 | I24: 94.284285 | J24: 3.2770355 | K24: 43.125409 | L24: 946 | M24: 158486.21 | N24: 86.349328 | O24: 4.926208 | P24: -7.9349573 | Q24: 5.8622756 | R24: -1.3535626 | S24: 40.477714 | T24: 880 | U24: 155894.3 | V24: 88.167179 | W24: 4.3964502 | X24: 24.352233 | Y24: 675 | Z24: 99846.94 | AA24: 93.448999 | AB24: 4.4889697 | AC24: -5.2818203 | AD24: 5.9730972 | AE24: -0.88426826
A25: Cyprus | B25: 2938 | C25: 8773.7368 | D25: 98.9 | E25: 0.04 | F25: 62.250489 | G25: 1675 | H25: 5250.6579 | I25: 100 | J25: 0 | K25: 18.43889 | L25: 592 | M25: 1594.5 | N25: 100 | O25: 0 | P25: 0 | Q25: 0 | R25: : | S25: 35.160558 | T25: 1090 | U25: 3114.2632 | V25: 100 | W25: 0 | X25: 37.971513 | Y25: 986 | Z25: 3031.6316 | AA25: 100 | AB25: 0 | AC25: 0 | AD25: 0
A26: Latvia | B26: 2474 | C26: 17222.974 | D26: 95.23 | E26: 1.95 | F26: 47.751106 | G26: 1142 | H26: 7670.5332 | I26: 98.070694 | J26: 1.9372559 | K26: 28.087997 | L26: 561 | M26: 4378.9225 | N26: 94.420087 | O26: 3.9775426 | P26: -3.650607 | Q26: 4.4347649 | R26: -0.82317936 | S26: 41.983911 | T26: 866 | U26: 6705.2664 | V26: 96.174477 | W26: 2.6730941 | X26: 28.510198 | Y26: 698 | Z26: 4536.9647 | AA26: 93.707307 | AB26: 4.3836293 | AC26: 2.4671698 | AD26: 5.1343585 | AE26: 0.48052152
A27: Luxembourg | B27: 2030 | C27: 3004.0623 | D27: 77.65 | E27: 1.9 | F27: 26.003415 | G27: 230 | H27: 318.53498 | I27: 100 | J27: 0 | K27: 49.720352 | L27: 466 | M27: 675.37637 | N27: 89.604132 | O27: 1.3009178 | P27: -10.395868 | Q27: 1.3009178 | R27: -7.99118 | S27: 48.715463 | T27: 788 | U27: 1106.2648 | V27: 83.786133 | W27: 3.4390717 | X27: 23.671921 | Y27: 254 | Z27: 365.18773 | AA27: 82.333886 | AB27: 2.6063383 | AC27: 1.452247 | AD27: 3.918599 | AE27: 0.37060362
A28: Hungary | B28: 2982 | C28: 69424.055 | D28: 97.72 | E28: 1.32 | F28: 65.777387 | G28: 1792 | H28: 40703.381 | I28: 97.386559 | J28: 1.8327893 | K28: 17.873216 | L28: 248 | M28: 8445.5866 | N28: 100 | O28: 0 | P28: 2.6134414 | Q28: 1.8327893 | R28: 1.4259366 | S28: 41.898927 | T28: 804 | U28: 23971.981 | V28: 97.872339 | W28: 2.1229334 | X28: 31.065132 | Y28: 893 | Z28: 19805.462 | AA28: 97.196911 | AB28: 2.8233152 | AC28: 0.67542806 | AD28: 3.5306821 | AE28: 0.19130243
A29: Malta | B29: 2406 | C29: 3285.1667 | D29: 92.35 | E29: 0.52 | F29: 63.556914 | G29: 1216 | H29: 1910.5 | I29: 87.537228 | J29: 0.81881906 | K29: 10.173067 | L29: : | M29: : | N29: : | O29: : | P29: : | Q29: : | R29: : | S29: 69.51524 | T29: 1554 | U29: 1974.6667 | V29: 87.893175 | W29: 0.78138836 | X29: : | Y29: : | Z29: : | AA29: : | AB29: : | AC29: : | AD29: : | AE29: :
A30: Austria | B30: 2746 | C30: 60267.863 | D30: 89.65 | E30: 2.91 | F30: 39.136298 | G30: 1111 | H30: 23500.362 | I30: 95.90958 | J30: 3.0284278 | K30: 43.174121 | L30: 884 | M30: 20831.456 | N30: 82.228967 | O30: 5.9778501 | P30: -13.680613 | Q30: 6.5996921 | R30: -2.0729168 | S30: 59.898238 | T30: 1434 | U30: 34487.189 | V30: 91.556557 | W30: 3.6604103 | X30: 29.128402 | Y30: 751 | Z30: 14464.648 | AA30: 82.194464 | AB30: 7.0218885 | AC30: 9.3620931 | AD30: 7.9117938 | AE30: 1.1833085
A31: Portugal | B31: 3157 | C31: 87171.064 | D31: 91.35 | E31: 2.19 | F31: 40.951143 | G31: 1184 | H31: 34364.049 | I31: 95.775842 | J31: 2.4451488 | K31: 41.486706 | L31: 1287 | M31: 34796.817 | N31: 91.831634 | O31: 3.3149468 | P31: -3.9442074 | Q31: 4.5294767 | R31: -0.87078656 | S31: 26.91522 | T31: 687 | U31: 21305.549 | V31: 85.647719 | W31: 6.3494232 | X31: 23.903578 | Y31: 790 | Z31: 20951.896 | AA31: 90.997533 | AB31: 4.2824657 | AC31: -5.3498136 | AD31: 7.6955922 | AE31: -0.69517893
A32: Romania | B32: 2704 | C32: 123417.76 | D32: 94.64 | E32: 2.11 | F32: 40.988574 | G32: 1298 | H32: 46950.28 | I32: 100 | J32: 0 | K32: 43.034852 | L32: 566 | M32: 44229.304 | N32: 90.118299 | O32: 4.2737016 | P32: -9.8817008 | Q32: 4.2737016 | R32: -2.3122112 | S32: 54.11195 | T32: 813 | U32: 59811.088 | V32: 91.971618 | W32: 3.2756634 | X32: 21.923392 | Y32: 882 | Z32: 26347.683 | AA32: 100 | AB32: 0 | AC32: -8.0283815 | AD32: 3.2756634 | AE32: -2.4509178
A33: Slovenia | B33: 3184 | C33: 20119.299 | D33: 97.71 | E33: 1.15 | F33: 61.655185 | G33: 1880 | H33: 11698.108 | I33: 97.973998 | J33: 1.4497713 | K33: 17.775327 | L33: 510 | M33: 3479.9197 | N33: 100 | O33: 0 | P33: 2.026002 | Q33: 1.4497713 | R33: 1.3974632 | S33: 73.139403 | T33: 2239 | U33: 14469.97 | V33: 98.462791 | W33: 1.0930827 | X33: 11.473103 | Y33: 360 | Z33: 2174.9118 | AA33: 100 | AB33: 0 | AC33: -1.5372092 | AD33: 1.0930827 | AE33: -1.4063063
A34: Slovak Republic | B34: 2988 | C34: 48185.882 | D34: 98.3 | E34: 0.94 | F34: 88.765922 | G34: 2552 | H34: 41176.356 | I34: 98.388783 | J34: 1.0248966 | K34: 7.3775017 | L34: 224 | M34: 3316.9274 | N34: 95.360954 | O34: 4.6845523 | P34: -3.0278286 | Q34: 4.7801439 | R34: -0.63341787 | S34: 52.567315 | T34: 1486 | U34: 24797.991 | V34: 97.572893 | W34: 1.574385 | X34: 13.957999 | Y34: 414 | Z34: 6529.4856 | AA34: 96.757419 | AB34: 3.2852878 | AC34: 0.81547394 | AD34: 3.6257685 | AE34: 0.22491065
A35: Finland | B35: 1279 | C35: 16555.409 | D35: 29.82 | E35: 3.58 | F35: 39.800331 | G35: 357 | H35: 5296.8422 | I35: 25.49348 | J35: 5.5919888 | K35: 31.027883 | L35: 390 | M35: 4970.8994 | N35: 33.23306 | O35: 7.3196628 | P35: 7.7395798 | Q35: 9.676394 | R35: 0.79984132 | S35: 23.334255 | T35: 312 | U35: 4157.8686 | V35: 34.245214 | W35: 6.4630097 | X35: 32.627809 | Y35: 448 | Z35: 5291.1233 | AA35: 31.699779 | AB35: 7.5052489 | AC35: 2.5454344 | AD35: 10.073698 | AE35: 0.25268123
A36: Sweden | B36: 97 | C36: 3160.4739 | D36: 3.3 | E36: 1.63 | F36: 63.184828 | G36: 74 | H36: 2321.7939 | I36: 4.9337996 | J36: 2.7911814 | K36: 21.769992 | L36: 0 | M36: 0 | N36: 0 | O36: 0 | P36: -4.9337996 | Q36: 2.7911814 | R36: -1.7676384 | S36: 25.407581 | T36: 0 | U36: 0 | V36: 0 | W36: 0 | X36: 34.904527 | Y36: 29 | Z36: 821.81 | AA36: 2.9345821 | AB36: 2.801375 | AC36: -2.9345821 | AD36: 2.801375 | AE36: -1.0475506
A37: Bosnia and Herzegovina | B37: 951 | C37: 8619.6001 | D37: 80.88 | E37: 5.71 | F37: 75.459988 | G37: 568 | H37: 5174.8973 | I37: 81.11219 | J37: 7.3410335 | K37: 11.061626 | L37: 76 | M37: 905.41656 | N37: 100 | O37: 0 | P37: 18.88781 | Q37: 7.3410335 | R37: 2.5729089 | S37: 66.129446 | T37: 477 | U37: 4572.769 | V37: 76.621903 | W37: 8.0462794 | X37: 15.221345 | Y37: 192 | Z37: 1639.614 | AA37: 88.893341 | AB37: 11.561104 | AC37: -12.271438 | AD37: 13.54335 | AE37: -0.90608585
A38: Norway | B38: 227 | C38: 3375.1959 | D38: 6.99 | E38: 2.56 | F38: : | G38: : | H38: : | I38: : | J38: : | K38: : | L38: : | M38: : | N38: : | O38: : | P38: : | Q38: : | R38: : | S38: 46.205448 | T38: 29 | U38: 809.3518 | V38: 4.4955641 | W38: 3.2446135 | X38: 22.718868 | Y38: 124 | Z38: 1146.2425 | AA38: 11.204303 | AB38: 6.859461 | AC38: -6.7087392 | AD38: 7.5750951 | AE38: -0.88563102
A39: Serbia | B39: 2918 | C39: 55494.201 | D39: 97.12 | E39: 1.65 | F39: 38.233255 | G39: 1123 | H39: 20407.671 | I39: 94.799382 | J39: 3.6489788 | K39: 32.742481 | L39: 896 | M39: 16989.436 | N39: 97.012151 | O39: 3.0080198 | P39: 2.2127685 | Q39: 4.7377533 | R39: 0.46705019 | S39: 41.969582 | T39: 1148 | U39: 22831.983 | V39: 97.759591 | W39: 2.2478857 | X39: 32.020467 | Y39: 905 | Z39: 16945.254 | AA39: 96.356656 | AB39: 3.5642202 | AC39: 1.4029357 | AD39: 4.2190162 | AE39: 0.33252675
A40: Netherlands* | B40: 413 | C40: 70982.759 | D40: 55.89 | E40: 10.78 | F40: : | G40: : | H40: : | I40: : | J40: : | K40: : | L40: : | M40: : | N40: : | O40: : | P40: : | Q40: : | R40: : | S40: 13.389933 | T40: 58 | U40: 13390.084 | V40: 100 | W40: 0 | X40: 35.698552 | Y40: 36 | Z40: 10632.623 | AA40: 40.752112 | AB40: 30.197935 | AC40: 59.247888 | AD40: 30.197935 | AE40: 1.9619847
A42: Notes:
A43: Variables | B43: ICT Resources/Location of school computers/In computer laboratories (II3G10B). Based on the question of the ICILS ICT Coordinator questionnaire: CQ10B “Where are the ICT devices used by students in [target grade] located? - In computer laboratories”. Percentages reflect the share of students in schools who indicated "Yes".
B44: School composition (P_COMP).
B45: School location (IP3G05): The original categories of the school location variable (IP3G05) were transformed, merging the two first categories “1: In a community with fewer than 3,000 people” and “2: In a town with at least 3,000 but less than 15,000 people” and the two last categories “4: In a city with at least 100,000 but less than 1,000,000 people” and “5: In a city with 1,000,000 or more people”. The gaps show percentage point differences between schools located in towns/communities with less than 15,000 people and schools located in towns/cities with more than 100,000 people.
A46: * | B46: Did not meet guideline for sampling participation rate for reporting.

Sheet Table 1.5
A1: Title: | B1: =Contents!B2 -> Digital education at school in Europe: Bridging gaps in access, teaching and learning - 2026 | K1: Contents
A2: Chapters: | B2: ='Table 1.1'!B2 -> Chapter 1: Top-level governance for digital technologies in schools
B3: ='Table 1.1'!B3 -> Chapter 2: Digital equity and inclusion
A4: Figures: | B4: Figure 1.8: Availability of core digital software resources in schools
B5: Figure 2.7: Percentage point gaps between schools with more advantageous and more disadvantageous socioeconomic mix in specific software resources made available to both teachers and students
B6: Figure 2.11: Percentage point gaps between schools in small villages/towns and in big cities in specific software resources made available to both teachers and students
A7: Reference year: | B7: 2023
A9: Table: | B9: Table 1.5: Percentage of students in schools where video and photo software for capture and editing is made available to students and teachers
A10: Source: | B10: Eurydice, based on IEA, ICILS 2023 database.
B14: All schools | F14: Schools with more affluent than disadvantaged students | K14: Schools with more disadvantaged than affluent students | P14: Difference between the two sub-groups | S14: Schools in small communities/villages | X14: Schools in larger towns/cities | AC14: Difference between the two sub-groups
B15: Number of cases | C15: Weighted number of cases | D15: % | E15: S.E. | F15: Weighted percentage of students in this type of school | G15: Number of cases | H15: Weighted number of cases | I15: % | J15: S.E. | K15: Weighted percentage of students in this type of school | L15: Number of cases | M15: Weighted number of cases | N15: % | O15: S.E. | P15: Difference in percentage points | Q15: S.E. | R15: t value | S15: Weighted percentage of students in this type of school | T15: Number of cases | U15: Weighted number of cases | V15: % | W15: S.E. | X15: Weighted percentage of students in this type of school | Y15: Number of cases | Z15: Weighted number of cases | AA15: % | AB15: S.E. | AC15: Difference in percentage points | AD15: S.E. | AE15: t value
A16: Belgium (Flemish Community) | B16: 2453 | C16: 53417.197 | D16: 86.854244 | E16: 3.0649161 | F16: : | G16: : | H16: : | I16: : | J16: : | K16: : | L16: : | M16: : | N16: : | O16: : | P16: : | Q16: : | R16: : | S16: 14.323316 | T16: 303 | U16: 6114.5356 | V16: 77.839692 | W16: 8.7349522 | X16: 15.59389 | Y16: 311 | Z16: 7426.6526 | AA16: 80.827449 | AB16: 9.35981 | AC16: 2.9877567 | AD16: 12.106007 | AE16: 0.24679952
A17: Czechia | B17: 7151 | C17: 96138.281 | D17: 85.817992 | E17: 2.7084706 | F17: 77.215762 | G17: 5258 | H17: 72107.419 | I17: 84.574632 | J17: 3.5596531 | K17: 9.9559988 | L17: 683 | M17: 9312.8511 | N17: 83.26616 | O17: 8.6821376 | P17: 1.3084713 | Q17: 9.7726985 | R17: 0.13389048 | S17: 52.240139 | T17: 3185 | U17: 49383.854 | V17: 85.402901 | W17: 4.7512048 | X17: 18.697311 | Y17: 1375 | Z17: 16262.055 | AA17: 82.823076 | AB17: 6.7699234 | AC17: -2.5798253 | AD17: 8.4909542 | AE17: -0.3038322
A18: Denmark | B18: 2008 | C18: 39886.466 | D18: 88.721633 | E18: 2.3767238 | F18: 65.074226 | G18: 1020 | H18: 20725.527 | I18: 90.0331 | J18: 2.7268895 | K18: 17.850214 | L18: 262 | M18: 5670.7525 | N18: 91.990772 | O18: 8.2434451 | P18: -1.9576721 | Q18: 8.7181893 | R18: -0.2245503 | S18: 50.33561 | T18: 855 | U18: 17003.818 | V18: 91.269009 | W18: 2.9861177 | X18: 22.436561 | Y18: 364 | Z18: 7967.0807 | AA18: 92.951244 | AB18: 1.6806507 | AC18: 1.6822352 | AD18: 3.541975 | AE18: 0.47494272
A19: Germany | B19: 3089 | C19: 396794.23 | D19: 66.029915 | E19: 4.1805693 | F19: 29.722649 | G19: 996 | H19: 118887.38 | I19: 71.617233 | J19: 8.4811086 | K19: 51.698222 | L19: 1344 | M19: 171881.31 | N19: 64.747464 | O19: 6.1360462 | P19: 6.8697689 | Q19: 10.555565 | R19: 0.65081965 | S19: 23.01703 | T19: 328 | U19: 70135.145 | V19: 62.05149 | W19: 10.950602 | X19: 31.271936 | Y19: 1141 | Z19: 112673.97 | AA19: 66.013554 | AB19: 6.3131427 | AC19: 3.9620637 | AD19: 12.732048 | AE19: 0.31118825
A20: Greece | B20: 2078 | C20: 58166.748 | D20: 71.492037 | E20: 3.7128875 | F20: 64.849305 | G20: 1344 | H20: 36726.722 | I20: 77.046741 | J20: 4.5619469 | K20: 20.040077 | L20: 347 | M20: 10215.625 | N20: 74.246653 | O20: 8.8898786 | P20: 2.8000886 | Q20: 9.9711884 | R20: 0.28081794 | S20: 27.592206 | T20: 614 | U20: 15770.887 | V20: 72.226121 | W20: 8.2064013 | X20: 29.182836 | Y20: 533 | Z20: 16289.144 | AA20: 76.167766 | AB20: 6.2647383 | AC20: 3.9416445 | AD20: 12.082013 | AE20: 0.32624071
A21: Spain | B21: 9352 | C21: 392798.32 | D21: 83.644803 | E21: 2.1378278 | F21: 68.390599 | G21: 6092 | H21: 245328.12 | I21: 84.677763 | J21: 2.4475008 | K21: 16.788733 | L21: 1477 | M21: 60268.205 | N21: 81.799238 | O21: 6.7617347 | P21: 2.8785251 | Q21: 6.9011087 | R21: 0.41711053 | S21: 28.514488 | T21: 2193 | U21: 107009.97 | V21: 86.883005 | W21: 4.7332821 | X21: 37.613134 | Y21: 3433 | Z21: 139337.72 | AA21: 84.951554 | AB21: 3.9345446 | AC21: -1.9314515 | AD21: 6.3495046 | AE21: -0.30418933
A22: France | B22: 2435 | C22: 541870.49 | D22: 85.012775 | E22: 3.1095012 | F22: 38.075107 | G22: 937 | H22: 199662.74 | I22: 90.713573 | J22: 3.3400242 | K22: 46.603719 | L22: 868 | M22: 208102.99 | N22: 82.013563 | O22: 6.0180191 | P22: 8.7000096 | Q22: 6.901024 | R22: 1.2606839 | S22: 49.41762 | T22: 1063 | U22: 242039.53 | V22: 89.50901 | W22: 3.5646584 | X22: 14.308944 | Y22: 297 | Z22: 63703.341 | AA22: 86.017437 | AB22: 9.2921537 | AC22: -3.4915727 | AD22: 10.083608 | AE22: -0.34626224
A23: Croatia | B23: 2202 | C23: 27877.019 | D23: 81.44767 | E23: 4.1245124 | F23: 48.364748 | G23: 987 | H23: 11536.448 | I23: 77.077299 | J23: 7.2382077 | K23: 25.86297 | L23: 449 | M23: 6541.6182 | N23: 85.175546 | O23: 6.7425992 | P23: -8.098247 | Q23: 9.8400985 | R23: -0.82298435 | S23: 50.958543 | T23: 789 | U23: 11634.795 | V23: 73.35184 | W23: 6.9098639 | X23: 22.754847 | Y23: 529 | Z23: 6335.0498 | AA23: 89.131237 | AB23: 5.9831754 | AC23: 15.779397 | AD23: 8.9137031 | AE23: 1.7702404
A24: Italy | B24: 1583 | C24: 264415.11 | D24: 52.244925 | E24: 4.2821511 | F24: 40.303078 | G24: 564 | H24: 92016.026 | I24: 52.289135 | J24: 8.0007846 | K24: 43.125409 | L24: 599 | M24: 102882.97 | N24: 54.431121 | O24: 6.7912577 | P24: -2.1419864 | Q24: 10.222993 | R24: -0.20952635 | S24: 40.477714 | T24: 539 | U24: 100696.01 | V24: 56.949374 | W24: 6.9125605 | X24: 24.352233 | Y24: 371 | Z24: 57678.514 | AA24: 51.351648 | AB24: 9.254282 | AC24: -5.5977263 | AD24: 11.63379 | AE24: -0.48116103
A25: Cyprus | B25: 2357 | C25: 7033 | D25: 79.278686 | E25: 0.72246177 | F25: 62.250489 | G25: 1259 | H25: 3981.4211 | I25: 75.827089 | J25: 1.0712671 | K25: 18.43889 | L25: 532 | M25: 1492.5 | N25: 93.60301 | O25: 3.2359243 | P25: -17.775921 | Q25: 3.4070445 | R25: -5.2174021 | S25: 35.160558 | T25: 982 | U25: 2822.2632 | V25: 90.623785 | W25: 1.7135325 | X25: 37.971513 | Y25: 628 | Z25: 1920.3947 | AA25: 63.345254 | AB25: 3.5994076 | AC25: -27.278531 | AD25: 4.5767949 | AE25: -5.960182
A26: Latvia | B26: 1680 | C26: 11986.335 | D26: 65.850509 | E26: 3.8058358 | F26: 47.751106 | G26: 757 | H26: 5146.1424 | I26: 65.795394 | J26: 6.0422615 | K26: 28.087997 | L26: 354 | M26: 3037.1651 | N26: 63.882688 | O26: 7.7887492 | P26: 1.9127064 | Q26: 10.269535 | R26: 0.18625054 | S26: 41.983911 | T26: 654 | U26: 5240.583 | V26: 73.930108 | W26: 5.6197168 | X26: 28.510198 | Y26: 464 | Z26: 3050.5664 | AA26: 63.006963 | AB26: 5.5699513 | AC26: -10.923144 | AD26: 7.9123684 | AE26: -1.3805151
A27: Luxembourg | B27: 2546 | C27: 3699.28 | D27: 95.616149 | E27: 0.99356869 | F27: 26.003415 | G27: 230 | H27: 318.53498 | I27: 100 | J27: 0 | K27: 49.720352 | L27: 529 | M27: 753.73352 | N27: 100 | O27: 0 | P27: 0 | Q27: 0 | R27: : | S27: 48.715463 | T27: 943 | U27: 1320.3436 | V27: 100 | W27: 0 | X27: 23.671921 | Y27: 317 | Z27: 443.54487 | AA27: 100 | AB27: 0 | AC27: 0 | AD27: 0 | AE27: :
A28: Hungary | B28: 1639 | C28: 37145.377 | D28: 53.738244 | E28: 4.7994588 | F28: 65.777387 | G28: 1009 | H28: 23250.42 | I28: 56.47183 | J28: 6.4955969 | K28: 17.873216 | L28: 123 | M28: 4199.9491 | N28: 49.729514 | O28: 12.726612 | P28: 6.7423161 | Q28: 14.788767 | R28: 0.45590793 | S28: 41.898927 | T28: 399 | U28: 11911.742 | V28: 50.309247 | W28: 6.7395004 | X28: 31.065132 | Y28: 490 | Z28: 11422.494 | AA28: 56.056816 | AB28: 8.9300087 | AC28: 5.7475697 | AD28: 10.818232 | AE28: 0.53128548
A29: Malta | B29: 2578 | C29: 3636.6667 | D29: 98.085049 | E29: 0.036383986 | F29: 63.556914 | G29: 1336 | H29: 2111.5 | I29: 96.74685 | J29: 0.079907259 | K29: 10.173067 | L29: 91 | M29: 192.5 | N29: 100 | O29: 0 | P29: -3.2531501 | Q29: 0.079907259 | R29: -40.711571 | S29: 69.51524 | T29: 1765 | U29: 2368.1667 | V29: 97.08917 | W29: 0.059109787 | X29: : | Y29: : | Z29: : | AA29: : | AB29: : | AC29: : | AD29: : | AE29: :
A30: Austria | B30: 2728 | C30: 59511.504 | D30: 86.889428 | E30: 3.0704999 | F30: 39.136298 | G30: 988 | H30: 20143.496 | I30: 85.116319 | J30: 6.0128503 | K30: 43.174121 | L30: 990 | M30: 23203.592 | N30: 86.378178 | O30: 4.8247529 | P30: -1.2618591 | Q30: 7.7207363 | R30: -0.16343766 | S30: 59.898238 | T30: 1321 | U30: 31841.162 | V30: 86.452406 | W30: 4.5263205 | X30: 29.128402 | Y30: 875 | Z30: 16857.412 | AA30: 87.862381 | AB30: 5.3653775 | AC30: 1.4099746 | AD30: 7.0183722 | AE30: 0.20089767
A31: Portugal | B31: 2868 | C31: 80527.97 | D31: 83.724381 | E31: 2.9029666 | F31: 40.951143 | G31: 1037 | H31: 30325.751 | I31: 82.934376 | J31: 4.6552439 | K31: 41.486706 | L31: 1181 | M31: 33063.214 | N31: 88.497257 | O31: 3.4755206 | P31: -5.5628811 | Q31: 5.7075638 | R31: -0.9746507 | S31: 26.91522 | T31: 694 | U31: 21451.853 | V31: 88.117708 | W31: 5.1283432 | X31: 23.903578 | Y31: 710 | Z31: 19664.216 | AA31: 85.404929 | AB31: 6.041548 | AC31: -2.7127784 | AD31: 7.8761335 | AE31: -0.34443023
A32: Romania | B32: 2151 | C32: 93085.973 | D32: 71.012984 | E32: 4.8833879 | F32: 40.988574 | G32: 1088 | H32: 40219.617 | I32: 85.664275 | J32: 5.8391986 | K32: 43.034852 | L32: 428 | M32: 31086.012 | N32: 63.338517 | O32: 8.7653169 | P32: 22.325758 | Q32: 10.449914 | R32: 2.1364538 | S32: 54.11195 | T32: 588 | U32: 40397.057 | V32: 62.118628 | W32: 7.7192799 | X32: 21.923392 | Y32: 775 | Z32: 23837.678 | AA32: 90.473526 | AB32: 5.7101899 | AC32: 28.354899 | AD32: 9.5216325 | AE32: 2.9779451
A33: Slovenia | B33: 2899 | C33: 18319.002 | D33: 88.40555 | E33: 2.6037894 | F33: 61.655185 | G33: 1714 | H33: 10679.172 | I33: 88.47414 | J33: 3.3220885 | K33: 17.775327 | L33: 417 | M33: 2878.6176 | N33: 82.720806 | O33: 7.0511273 | P33: 5.7533337 | Q33: 7.6676326 | R33: 0.7503403 | S33: 73.139403 | T33: 2048 | U33: 13182.978 | V33: 90.344305 | W33: 2.7721102 | X33: 11.473103 | Y33: 318 | Z33: 1933.7066 | AA33: 83.88139 | AB33: 9.4769705 | AC33: -6.4629151 | AD33: 9.926185 | AE33: -0.65109759
A34: Slovak Republic | B34: 2039 | C34: 33752.279 | D34: 69.079307 | E34: 3.6280507 | F34: 88.765922 | G34: 1861 | H34: 30419.345 | I34: 72.685457 | J34: 3.9896708 | K34: 7.3775017 | L34: 68 | M34: 1225.846 | N34: 36.957274 | O34: 12.244941 | P34: 35.728183 | Q34: 13.391477 | R34: 2.6679794 | S34: 52.567315 | T34: 927 | U34: 16038.782 | V34: 63.511181 | W34: 5.3958543 | X34: 13.957999 | Y34: 266 | Z34: 4417.5012 | AA34: 65.460902 | AB34: 8.5042497 | AC34: 1.9497213 | AD34: 9.719078 | AE34: 0.20060764
A35: Finland | B35: 3646 | C35: 49682.8 | D35: 89.702634 | E35: 2.5319839 | F35: 39.800331 | G35: 1385 | H35: 19275.232 | I35: 92.770887 | J35: 3.5679183 | K35: 31.027883 | L35: 969 | M35: 11963.307 | N35: 80.71143 | O35: 6.8634011 | P35: 12.059457 | Q35: 7.724077 | R35: 1.5612813 | S35: 23.334255 | T35: 719 | U35: 10512.74 | V35: 84.47472 | W35: 6.3020024 | X35: 32.627809 | Y35: 1195 | Z35: 15407.062 | AA35: 92.305626 | AB35: 4.3591842 | AC35: 7.8309061 | AD35: 7.4999583 | AE35: 1.0441266
A36: Sweden | B36: 2176 | C36: 68997.241 | D36: 71.7737 | E36: 4.1202082 | F36: 63.184828 | G36: 1265 | H36: 37236.816 | I36: 79.901535 | J36: 4.953291 | K36: 21.769992 | L36: 230 | M36: 8330.5458 | N36: 54.066471 | O36: 11.101868 | P36: 25.835064 | Q36: 12.282629 | R36: 2.1033822 | S36: 25.407581 | T36: 514 | U36: 17555.237 | V36: 84.196077 | W36: 6.0458248 | X36: 34.904527 | Y36: 714 | Z36: 21309.728 | AA36: 78.255292 | AB36: 6.7916507 | AC36: -5.9407855 | AD36: 8.7070277 | AE36: -0.68229776
A37: Bosnia and Herzegovina | B37: 927 | C37: 8436.3674 | D37: 79.161357 | E37: 5.5304335 | F37: 75.459988 | G37: 479 | H37: 4391.9806 | I37: 68.840626 | J37: 8.5600887 | K37: 11.061626 | L37: 61 | M37: 672.54991 | N37: 74.280717 | O37: 18.242411 | P37: -5.4400905 | Q37: 20.150947 | R37: -0.26996699 | S37: 66.129446 | T37: 494 | U37: 4851.6998 | V37: 81.295704 | W37: 7.6614434 | X37: 15.221345 | Y37: 166 | Z37: 1506.9623 | AA37: 81.701494 | AB37: 11.821752 | AC37: 0.40579029 | AD37: 14.30574 | AE37: 0.028365557
A38: Norway | B38: 3541 | C38: 47507.954 | D38: 98.108431 | E38: 0.5543768 | F38: : | G38: : | H38: : | I38: : | J38: : | K38: : | L38: : | M38: : | N38: : | O38: : | P38: : | Q38: : | R38: : | S38: : | T38: 1004 | U38: 16739.994 | V38: 94.81211 | W38: 1.6329336 | X38: 22.718868 | Y38: 1017 | Z38: 10230.377 | AA38: 100 | AB38: 0 | AC38: 5.18789 | AD38: 1.6329336 | AE38: 3.1770367
A39: Serbia | B39: 2479 | C39: 47896.881 | D39: 84.824107 | E39: 3.1768051 | F39: 38.233255 | G39: 1068 | H39: 19451.769 | I39: 90.35895 | J39: 4.4405596 | K39: 32.742481 | L39: 631 | M39: 12622.959 | N39: 72.078931 | O39: 6.5759988 | P39: 18.280019 | Q39: 7.8020665 | R39: 2.3429715 | S39: 41.969582 | T39: 909 | U39: 18716.76 | V39: 81.493663 | W39: 5.1041317 | X39: 32.020467 | Y39: 753 | Z39: 14204.024 | AA39: 80.76906 | AB39: 6.6663924 | AC39: -0.72460233 | AD39: 8.3120267 | AE39: -0.087175168
A40: Netherlands* | B40: 529 | C40: 80219.238 | D40: 61.40328 | E40: 9.9966116 | F40: : | G40: : | H40: : | I40: : | J40: : | K40: : | L40: : | M40: : | N40: : | O40: : | P40: : | Q40: : | R40: : | S40: : | T40: 25 | U40: 3500.9662 | V40: 26.145962 | W40: 35.617661 | X40: 35.698552 | Y40: 116 | Z40: 23168.262 | AA40: 88.797998 | AB40: 13.246177 | AC40: 62.652036 | AD40: 38.001039 | AE40: 1.6486927
A42: Notes:
A43: Variables | B43: ICT Resources/Availability of software resources/Video and photo software for capture and editing (II3G05F). Based on the question of the ICILS ICT Coordinator questionnaire: CQ05F “Are the following software resources made available by your school to teachers and students? – Video and photo software for capture and editing”. Percentages reflect the share of students in schools who chose option 1.
B44: School composition (P_COMP).
B45: School location (IP3G05): The original categories of the school location variable (IP3G05) were transformed, merging the two first categories “1: In a community with fewer than 3,000 people” and “2: In a town with at least 3,000 but less than 15,000 people” and the two last categories “4: In a city with at least 100,000 but less than 1,000,000 people” and “5: In a city with 1,000,000 or more people”. The gaps show percentage point differences between schools located in towns/communities with less than 15,000 people and schools located in towns/cities with more than 100,000 people.
A46: * | B46: Did not meet guideline for sampling participation rate for reporting.

Sheet Table 1.6
A1: Title: | B1: =Contents!B2 -> Digital education at school in Europe: Bridging gaps in access, teaching and learning - 2026 | K1: Contents
A2: Chapters: | B2: ='Table 1.1'!B2 -> Chapter 1: Top-level governance for digital technologies in schools
B3: ='Table 1.1'!B3 -> Chapter 2: Digital equity and inclusion
A4: Figures: | B4: Figure 1.8: Availability of core digital software resources in schools
B5: Figure 2.7: Percentage point gaps between schools with more advantageous and more disadvantageous socio-economic mix in specific software resources made available to both teachers and students
A7: Reference year: | B7: 2023
A9: Table: | B9: Table 1.6: Percentage of students in schools where graphing or drawing software is made available to students and teachers
A10: Source: | B10: Eurydice, based on IEA, ICILS 2023 database.
B14: All schools | F14: Schools with more affluent than disadvantaged students | K14: Schools with more disadvantaged than affluent students | P14: Difference between the two sub-groups | S14: Schools in small communities/villages | X14: Schools in larger towns/cities | AC14: Difference between the two sub-groups
B15: Number of cases | C15: Weighted number of cases | D15: % | E15: S.E. | F15: Weighted percentage of students in this type of school | G15: Number of cases | H15: Weighted number of cases | I15: % | J15: S.E. | K15: Weighted percentage of students in this type of school | L15: Number of cases | M15: Weighted number of cases | N15: % | O15: S.E. | P15: Difference in percentage points | Q15: S.E. | R15: t value | S15: Weighted percentage of students in this type of school | T15: Number of cases | U15: Weighted number of cases | V15: % | W15: S.E. | X15: Weighted percentage of students in this type of school | Y15: Number of cases | Z15: Weighted number of cases | AA15: % | AB15: S.E. | AC15: Difference in percentage points | AD15: S.E. | AE15: t value
A16: Belgium (Flemish Community) | B16: 2299 | C16: 49231.846 | D16: 80.049031 | E16: 3.8919858 | F16: : | G16: : | H16: : | I16: : | J16: : | K16: : | L16: : | M16: : | N16: : | O16: : | P16: : | Q16: : | R16: : | S16: 14.323316 | T16: 241 | U16: 5109.9927 | V16: 65.05159 | W16: 11.300344 | X16: 15.59389 | Y16: 291 | Z16: 6079.0481 | AA16: 66.16089 | AB16: 11.277441 | AC16: 1.1093008 | AD16: 15.393081 | AE16: 0.072064896
A17: Czechia | B17: 7112 | C17: 97261.132 | D17: 86.820307 | E17: 2.3666304 | F17: 77.215762 | G17: 5200 | H17: 72791.14 | I17: 85.376567 | J17: 2.9117387 | K17: 9.9559988 | L17: 750 | M17: 10772.141 | N17: 96.313661 | O17: 3.512502 | P17: -10.937093 | Q17: 4.4229338 | R17: -2.4728142 | S17: 52.240139 | T17: 3016 | U17: 48209.862 | V17: 83.372636 | W17: 3.8873046 | X17: 18.697311 | Y17: 1393 | Z17: 17092.512 | AA17: 87.052614 | AB17: 7.014262 | AC17: 3.6799779 | AD17: 8.1172161 | AE17: 0.45335468
A18: Denmark | B18: 1687 | C18: 33542.739 | D18: 75.338789 | E18: 4.2597241 | F18: 65.074226 | G18: 827 | H18: 17093.207 | I18: 75.681999 | J18: 5.9442482 | K18: 17.850214 | L18: 236 | M18: 4780.6129 | N18: 77.550954 | O18: 12.001725 | P18: -1.8689554 | Q18: 13.222958 | R18: -0.14134171 | S18: 50.33561 | T18: 819 | U18: 15963.127 | V18: 85.68304 | W18: 5.7955676 | X18: 22.436561 | Y18: 281 | Z18: 6113.2522 | AA18: 75.129847 | AB18: 9.7093536 | AC18: -10.553193 | AD18: 12.26152 | AE18: -0.86067574
A19: Germany | B19: 3344 | C19: 442853.4 | D19: 74.90744 | E19: 3.3756962 | F19: 29.722649 | G19: 943 | H19: 110511.04 | I19: 68.237339 | J19: 8.1695905 | K19: 51.698222 | L19: 1516 | M19: 207485.54 | N19: 79.867599 | O19: 4.8302305 | P19: -11.63026 | Q19: 9.7968125 | R19: -1.1871473 | S19: 23.01703 | T19: 393 | U19: 85126.193 | V19: 78.115742 | W19: 8.6174168 | X19: 31.271936 | Y19: 1117 | Z19: 125347.13 | AA19: 75.965291 | AB19: 5.2899664 | AC19: -2.150451 | AD19: 10.096717 | AE19: -0.21298517
A20: Greece | B20: 646 | C20: 17009.892 | D20: 20.726589 | E20: 3.1564071 | F20: 64.849305 | G20: 442 | H20: 12326.651 | I20: 25.859326 | J20: 4.6724431 | K20: 20.040077 | L20: 42 | M20: 904.18049 | N20: 6.2504465 | O20: 4.9714924 | P20: 19.608879 | Q20: 7.5072086 | R20: 2.6120067 | S20: 27.592206 | T20: 178 | U20: 4143.8237 | V20: 18.97752 | W20: 6.2067075 | X20: 29.182836 | Y20: 157 | Z20: 4083.8698 | AA20: 19.096108 | AB20: 5.7861117 | AC20: 0.11858802 | AD20: 7.9826514 | AE20: 0.014855718
A21: Spain | B21: 9016 | C21: 381532.83 | D21: 81.245862 | E21: 2.3675033 | F21: 68.390599 | G21: 5846 | H21: 232834.15 | I21: 80.365329 | J21: 3.0029088 | K21: 16.788733 | L21: 1459 | M21: 63801.883 | N21: 86.595336 | O21: 5.3357313 | P21: -6.2300065 | Q21: 5.7175403 | R21: -1.0896306 | S21: 28.514488 | T21: 1952 | U21: 92281.5 | V21: 74.924737 | W21: 4.7412041 | X21: 37.613134 | Y21: 3524 | Z21: 147008.8 | AA21: 89.628466 | AB21: 3.3908015 | AC21: 14.70373 | AD21: 5.7540203 | AE21: 2.5553837
A22: France | B22: 2338 | C22: 527105.88 | D22: 83.359349 | E22: 3.3329289 | F22: 38.075107 | G22: 906 | H22: 194704.28 | I22: 90.546174 | J22: 4.6302366 | K22: 46.603719 | L22: 876 | M22: 216697.05 | N22: 85.400491 | O22: 5.2288802 | P22: 5.1456823 | Q22: 7.5045672 | R22: 0.68567342 | S22: 49.41762 | T22: 1038 | U22: 237359.6 | V22: 87.778317 | W22: 3.9070991 | X22: 14.308944 | Y22: 295 | Z22: 64204.717 | AA22: 86.694436 | AB22: 8.8417791 | AC22: -1.0838811 | AD22: 9.8161123 | AE22: -0.11041857
A23: Croatia | B23: 1755 | C23: 23494.585 | D23: 68.180362 | E23: 3.8946625 | F23: 48.364748 | G23: 785 | H23: 10304.17 | I23: 68.844205 | J23: 5.9763827 | K23: 25.86297 | L23: 347 | M23: 5035.7368 | N23: 65.568124 | O23: 8.2511746 | P23: 3.2760804 | Q23: 10.475524 | R23: 0.31273667 | S23: 50.958543 | T23: 725 | U23: 11375.841 | V23: 70.682943 | W23: 5.8035454 | X23: 22.754847 | Y23: 379 | Z23: 4711.6003 | AA23: 66.290049 | AB23: 9.1722845 | AC23: -4.3928945 | AD23: 11.034503 | AE23: -0.39810533
A24: Italy | B24: 1409 | C24: 231541.81 | D24: 45.749598 | E24: 4.085827 | F24: 40.303078 | G24: 509 | H24: 81964.14 | I24: 46.577039 | J24: 7.4494433 | K24: 43.125409 | L24: 462 | M24: 74460.015 | N24: 39.393713 | O24: 7.5422608 | P24: 7.1833256 | Q24: 10.951187 | R24: 0.65594036 | S24: 40.477714 | T24: 427 | U24: 78781.532 | V24: 44.555479 | W24: 7.2531525 | X24: 24.352233 | Y24: 303 | Z24: 46978.099 | AA24: 41.824982 | AB24: 8.2245222 | AC24: -2.730497 | AD24: 10.765197 | AE24: -0.25364117
A25: Cyprus | B25: 1804 | C25: 5366.5 | D25: 60.493256 | E25: 1.7617447 | F25: 62.250489 | G25: 1102 | H25: 3440.4211 | I25: 65.523619 | J25: 2.593717 | K25: 18.43889 | L25: 302 | M25: 814 | N25: 51.050486 | O25: 4.1976422 | P25: 14.473133 | Q25: 4.9221861 | R25: 2.9403871 | S25: 35.160558 | T25: 592 | U25: 1644.7632 | V25: 52.813878 | W25: 2.7694831 | X25: 37.971513 | Y25: 629 | Z25: 1912.1842 | AA25: 63.074426 | AB25: 5.1528398 | AC25: 10.260547 | AD25: 6.5188539 | AE25: 1.5739803
A26: Latvia | B26: 1979 | C26: 13741.738 | D26: 75.49434 | E26: 3.5704795 | F26: 47.751106 | G26: 912 | H26: 6073.083 | I26: 77.646683 | J26: 5.1800133 | K26: 28.087997 | L26: 442 | M26: 3484.6877 | N26: 73.295724 | O26: 7.3206931 | P26: 4.3509586 | Q26: 8.9155627 | R26: 0.48801839 | S26: 41.983911 | T26: 737 | U26: 5762.4888 | V26: 81.292753 | W26: 4.9835427 | X26: 28.510198 | Y26: 563 | Z26: 3514.991 | AA26: 72.599274 | AB26: 5.6646532 | AC26: -8.6934792 | AD26: 7.5447991 | AE26: -1.1522479
A27: Luxembourg | B27: 2354 | C27: 3442.2643 | D27: 88.973003 | E27: 1.8384949 | F27: 26.003415 | G27: 230 | H27: 318.53498 | I27: 100 | J27: 0 | K27: 49.720352 | L27: 369 | M27: 530.21154 | N27: 70.344694 | O27: 4.7476057 | P27: 29.655306 | Q27: 4.7476057 | R27: 6.2463707 | S27: 48.715463 | T27: 783 | U27: 1096.8216 | V27: 83.070923 | W27: 3.2683028 | X27: 23.671921 | Y27: 317 | Z27: 443.54487 | AA27: 100 | AB27: 0 | AC27: 16.929077 | AD27: 3.2683028 | AE27: 5.179776
A28: Hungary | B28: 2327 | C28: 53068.204 | D28: 76.086969 | E28: 3.9295819 | F28: 65.777387 | G28: 1429 | H28: 33069.446 | I28: 79.121671 | J28: 4.777673 | K28: 17.873216 | L28: 180 | M28: 6144.22 | N28: 72.75066 | O28: 8.5697477 | P28: 6.3710111 | Q28: 10.493508 | R28: 0.60713833 | S28: 41.898927 | T28: 603 | U28: 17395.231 | V28: 73.468765 | W28: 6.463589 | X28: 31.065132 | Y28: 737 | Z28: 15625.622 | AA28: 76.684007 | AB28: 7.5619624 | AC28: 3.2152421 | AD28: 10.167048 | AE28: 0.31624145
A29: Malta | B29: 2012 | C29: 2834 | D29: 76.436213 | E29: 0.5520758 | F29: 63.556914 | G29: 1023 | H29: 1636.5 | I29: 74.982818 | J29: 0.82844617 | K29: 10.173067 | L29: 91 | M29: 192.5 | N29: 100 | O29: 0 | P29: -25.017182 | Q29: 0.82844617 | R29: -30.197716 | S29: 69.51524 | T29: 1533 | U29: 2053.1667 | V29: 84.174923 | W29: 0.6593694 | X29: : | Y29: : | Z29: : | AA29: : | AB29: : | AC29: : | AD29: : | AE29: :
A30: Austria | B30: 2899 | C30: 63154.127 | D30: 92.207819 | E30: 2.207676 | F30: 39.136298 | G30: 1098 | H30: 22635.088 | I30: 95.644541 | J30: 3.173129 | K30: 43.174121 | L30: 955 | M30: 22556.602 | N30: 83.969677 | O30: 5.394843 | P30: 11.674865 | Q30: 6.7558529 | R30: 1.7281112 | S30: 59.898238 | T30: 1437 | U30: 34623.579 | V30: 94.00699 | W30: 2.4676211 | X30: 29.128402 | Y30: 868 | Z30: 16602.651 | AA30: 86.534544 | AB30: 5.3653373 | AC30: -7.472446 | AD30: 5.885012 | AE30: -1.2697418
A31: Portugal | B31: 1913 | C31: 53709.134 | D31: 56.46844 | E31: 4.2478082 | F31: 40.951143 | G31: 755 | H31: 21863.687 | I31: 59.792458 | J31: 6.7809591 | K31: 41.486706 | L31: 869 | M31: 23996.266 | N31: 65.033667 | O31: 6.0905346 | P31: -5.2412087 | Q31: 9.4355247 | R31: -0.55547613 | S31: 26.91522 | T31: 492 | U31: 14019.735 | V31: 57.58882 | W31: 7.5909089 | X31: 23.903578 | Y31: 498 | Z31: 14273.297 | AA31: 61.991281 | AB31: 7.4436135 | AC31: 4.4024603 | AD31: 10.557658 | AE31: 0.41699213
A32: Romania | B32: 1368 | C32: 63517.838 | D32: 48.456186 | E32: 5.1344121 | F32: 40.988574 | G32: 677 | H32: 23981.184 | I32: 51.07783 | J32: 8.4057925 | K32: 43.034852 | L32: 273 | M32: 24803.753 | N32: 50.538259 | O32: 8.1525179 | P32: 0.53957171 | Q32: 11.365493 | R32: 0.047474554 | S32: 54.11195 | T32: 338 | U32: 29393.86 | V32: 45.198991 | W32: 7.3308352 | X32: 21.923392 | Y32: 413 | Z32: 12641.97 | AA32: 47.981335 | AB32: 9.8164806 | AC32: 2.7823439 | AD32: 12.072924 | AE32: 0.23046147
A33: Slovenia | B33: 2623 | C33: 16587.874 | D33: 80.051311 | E33: 3.3265265 | F33: 61.655185 | G33: 1549 | H33: 9614.7905 | I33: 79.656017 | J33: 4.3523212 | K33: 17.775327 | L33: 407 | M33: 2823.4836 | N33: 81.136459 | O33: 6.9562105 | P33: -1.4804419 | Q33: 8.341436 | R33: -0.17748046 | S33: 73.139403 | T33: 1776 | U33: 11565.792 | V33: 79.261565 | W33: 4.0846998 | X33: 11.473103 | Y33: 302 | Z33: 1810.4075 | AA33: 78.532853 | AB33: 10.346232 | AC33: -0.72871179 | AD33: 10.993628 | AE33: -0.066284922
A34: Slovak Republic | B34: 2132 | C34: 35075.422 | D34: 72.184002 | E34: 3.4459496 | F34: 88.765922 | G34: 1921 | H34: 31493.028 | I34: 75.736879 | J34: 3.6367731 | K34: 7.3775017 | L34: 115 | M34: 1950.4299 | N34: 58.802308 | O34: 13.37769 | P34: 16.934571 | Q34: 14.120835 | R34: 1.1992613 | S34: 52.567315 | T34: 987 | U34: 17150.774 | V34: 68.644355 | W34: 5.0968958 | X34: 13.957999 | Y34: 346 | Z34: 5490.6441 | AA34: 81.363309 | AB34: 8.4513884 | AC34: 12.718954 | AD34: 10.018351 | AE34: 1.2695656
A35: Finland | B35: 3301 | C35: 44165.347 | D35: 79.114119 | E35: 3.5969685 | F35: 39.800331 | G35: 1322 | H35: 17932.923 | I35: 86.310408 | J35: 5.3422017 | K35: 31.027883 | L35: 873 | M35: 11173.647 | N35: 73.216666 | O35: 7.1352531 | P35: 13.093742 | Q35: 9.0838219 | R35: 1.4414354 | S35: 23.334255 | T35: 689 | U35: 10089.646 | V35: 81.074966 | W35: 5.7676313 | X35: 32.627809 | Y35: 1097 | Z35: 13821.8 | AA35: 82.808124 | AB35: 6.5311282 | AC35: 1.7331577 | AD35: 8.5850007 | AE35: 0.20188206
A36: Sweden | B36: 2460 | C36: 78135.306 | D36: 81.034991 | E36: 3.5470222 | F36: 63.184828 | G36: 1342 | H36: 39819.399 | I36: 84.914684 | J36: 3.8926178 | K36: 21.769992 | L36: 341 | M36: 12929.126 | N36: 83.911933 | O36: 8.1535958 | P36: 1.0027512 | Q36: 9.0329757 | R36: 0.11101006 | S36: 25.407581 | T36: 521 | U36: 17890.371 | V36: 85.803404 | W36: 6.5815395 | X36: 34.904527 | Y36: 794 | Z36: 24368.291 | AA36: 91.072843 | AB36: 4.9945777 | AC36: 5.2694386 | AD36: 8.244584 | AE36: 0.63913942
A37: Bosnia and Herzegovina | B37: 671 | C37: 5958.4295 | D37: 56.748011 | E37: 7.3724188 | F37: 75.459988 | G37: 391 | H37: 3430.1584 | I37: 55.124643 | J37: 10.137407 | K37: 11.061626 | L37: 42 | M37: 480.81935 | N37: 53.104767 | O37: 21.809275 | P37: 2.0198761 | Q37: 24.050187 | R37: 0.083985877 | S37: 66.129446 | T37: 347 | U37: 3256.518 | V37: 56.044531 | W37: 10.960624 | X37: 15.221345 | Y37: 131 | Z37: 1089.9403 | AA37: 59.092223 | AB37: 15.620101 | AC37: 3.0476927 | AD37: 18.96309 | AE37: 0.16071709
A38: Norway | B38: 2966 | C38: 39569.479 | D38: 82.49175 | E38: 3.925158 | F38: : | G38: : | H38: : | I38: : | J38: : | K38: : | L38: : | M38: : | N38: : | O38: : | P38: : | Q38: : | R38: : | S38: 46.205448 | T38: 919 | U38: 15070.729 | V38: 85.357715 | W38: 5.8757689 | X38: 22.718868 | Y38: 897 | Z38: 8854.2942 | AA38: 86.549049 | AB38: 6.2151246 | AC38: 1.1913335 | AD38: 8.4644723 | AE38: 0.14074516
A39: Serbia | B39: 2300 | C39: 43946.541 | D39: 77.828159 | E39: 3.1946568 | F39: 38.233255 | G39: 964 | H39: 17850.605 | I39: 82.921089 | J39: 4.4492388 | K39: 32.742481 | L39: 590 | M39: 11099.003 | N39: 63.376922 | O39: 6.9174291 | P39: 19.544167 | Q39: 8.0269731 | R39: 2.4348116 | S39: 41.969582 | T39: 811 | U39: 15926.216 | V39: 69.343504 | W39: 5.2488255 | X39: 32.020467 | Y39: 728 | Z39: 14134.188 | AA39: 80.371947 | AB39: 6.3581153 | AC39: 11.028444 | AD39: 8.5692901 | AE39: 1.2869728
A40: Netherlands* | B40: 729 | C40: 85527.981 | D40: 67.347423 | E40: 10.385003 | F40: : | G40: : | H40: : | I40: : | J40: : | K40: : | L40: : | M40: : | N40: : | O40: : | P40: : | Q40: : | R40: : | S40: 13.389933 | T40: 25 | U40: 3500.9662 | V40: 26.145962 | W40: 35.617661 | X40: 35.698552 | Y40: 52 | Z40: 15905.028 | AA40: 60.959888 | AB40: 25.865695 | AC40: 34.813925 | AD40: 44.018768 | AE40: 0.79088823
A42: Notes:
A43: Variables | B43: ICT Resources/Availability of software resources/Graphing or drawing software (II3G05J). Based on the question of the ICILS ICT Coordinator questionnaire: CQ05J “Are the following software resources made available by your school to teachers and students? – Graphing or drawing software”. Percentages reflect the share of students in schools who chose option 1.
B44: School composition (P_COMP).
B45: School location (IP3G05): The original categories of the school location variable (IP3G05) were transformed, merging the two first categories “1: In a community with fewer than 3,000 people” and “2: In a town with at least 3,000 but less than 15,000 people” and the two last categories “4: In a city with at least 100,000 but less than 1,000,000 people” and “5: In a city with 1,000,000 or more people”. The gaps show percentage point differences between schools located in towns/communities with less than 15,000 people and schools located in towns/cities with more than 100,000 people.
A46: * | B46: Did not meet guideline for sampling participation rate for reporting.

Sheet Table 1.7
A1: Title: | B1: =Contents!B2 -> Digital education at school in Europe: Bridging gaps in access, teaching and learning - 2026 | K1: Contents
A2: Chapters: | B2: ='Table 1.1'!B2 -> Chapter 1: Top-level governance for digital technologies in schools
B3: ='Table 1.1'!B3 -> Chapter 2: Digital equity and inclusion
A4: Figures: | B4: Figure 1.8: Availability of core digital software resources in schools
B5: Figure 2.7: Percentage point gaps between schools with more advantageous and more disadvantageous socio-economic mix in specific software resources made available to both teachers and students
B6: Figure 2.11: Percentage point gaps between schools in small villages/towns and in big cities in specific software resources made available to both teachers and students
A7: Reference year: | B7: 2023
A9: Table: | B9: Table 1.7: Percentage of students in schools where digital contents linked with textbooks is made available to students and teachers
A10: Source: | B10: Eurydice, based on IEA, ICILS 2023 database.
B14: All schools | F14: Schools with more affluent than disadvantaged students | K14: Schools with more disadvantaged than affluent students | P14: Difference between the two sub-groups | S14: Schools in small communities/villages | X14: Schools in larger towns/cities | AC14: Difference between the two sub-groups
B15: Number of cases | C15: Weighted number of cases | D15: % | E15: S.E. | F15: Weighted percentage of students in this type of school | G15: Number of cases | H15: Weighted number of cases | I15: % | J15: S.E. | K15: Weighted percentage of students in this type of school | L15: Number of cases | M15: Weighted number of cases | N15: % | O15: S.E. | P15: Difference in percentage points | Q15: S.E. | R15: t value | S15: Weighted percentage of students in this type of school | T15: Number of cases | U15: Weighted number of cases | V15: % | W15: S.E. | X15: Weighted percentage of students in this type of school | Y15: Number of cases | Z15: Weighted number of cases | AA15: % | AB15: S.E. | AC15: Difference in percentage points | AD15: S.E. | AE15: t value
A16: Belgium (Flemish Community) | B16: 2789 | C16: 59632.929 | D16: 95.069768 | E16: 1.7225493 | F16: : | G16: : | H16: : | I16: : | J16: : | K16: : | L16: : | M16: : | N16: : | O16: : | P16: : | Q16: : | R16: : | S16: 14.323316 | T16: 339 | U16: 6852.2703 | V16: 87.231256 | W16: 4.1246132 | X16: 15.59389 | Y16: 382 | Z16: 8671.713 | AA16: 94.377977 | AB16: 5.1798506 | AC16: 7.146721 | AD16: 6.7296309 | AE16: 1.0619782
A17: Czechia | B17: 5651 | C17: 79848.233 | D17: 71.276655 | E17: 3.151974 | F17: 77.215762 | G17: 4313 | H17: 62175.519 | I17: 72.925528 | J17: 3.6438493 | K17: 9.9559988 | L17: 358 | M17: 4723.9367 | N17: 42.236697 | O17: 11.945441 | P17: 30.688831 | Q17: 12.229154 | R17: 2.5094812 | S17: 52.240139 | T17: 2507 | U17: 41832.869 | V17: 72.344463 | W17: 4.5781486 | X17: 18.697311 | Y17: 1186 | Z17: 15238.307 | AA17: 77.609098 | AB17: 5.8594187 | AC17: 5.2646347 | AD17: 7.7350303 | AE17: 0.68062237
A18: Denmark | B18: 1609 | C18: 32914.014 | D18: 73.946818 | E18: 4.3330712 | F18: 65.074226 | G18: 850 | H18: 17659.166 | I18: 78.229925 | J18: 5.6186756 | K18: 17.850214 | L18: 114 | M18: 2695.5072 | N18: 43.726434 | O18: 12.598786 | P18: 34.50349 | Q18: 13.662949 | R18: 2.5253326 | S18: 50.33561 | T18: 656 | U18: 13628.745 | V18: 73.153106 | W18: 6.9551538 | X18: 22.436561 | Y18: 267 | Z18: 6181.6075 | AA18: 76.083512 | AB18: 10.672726 | AC18: 2.9304059 | AD18: 12.123218 | AE18: 0.24171848
A19: Germany | B19: 2387 | C19: 325944.81 | D19: 54.239973 | E19: 4.5290881 | F19: 29.722649 | G19: 772 | H19: 97101.219 | I19: 58.493345 | J19: 8.2949908 | K19: 51.698222 | L19: 901 | M19: 120075.5 | N19: 45.232283 | O19: 6.2613433 | P19: 13.261061 | Q19: 10.752661 | R19: 1.2332818 | S19: 23.01703 | T19: 356 | U19: 71830.431 | V19: 63.551381 | W19: 11.236726 | X19: 31.271936 | Y19: 767 | Z19: 83982.696 | AA19: 49.203879 | AB19: 7.3316007 | AC19: -14.347502 | AD19: 13.40268 | AE19: -1.070495
A20: Greece | B20: 1891 | C20: 54496.205 | D20: 66.403741 | E20: 4.4242533 | F20: 64.849305 | G20: 1144 | H20: 32343.413 | I20: 67.851266 | J20: 5.3612159 | K20: 20.040077 | L20: 278 | M20: 8020.267 | N20: 55.442747 | O20: 8.8410183 | P20: 12.408519 | Q20: 9.6269044 | R20: 1.2889418 | S20: 27.592206 | T20: 555 | U20: 15033.089 | V20: 68.84722 | W20: 7.6271685 | X20: 29.182836 | Y20: 457 | Z20: 14021.116 | AA20: 65.562508 | AB20: 10.047313 | AC20: -3.2847119 | AD20: 11.792656 | AE20: -0.27853877
A21: Spain | B21: 8988 | C21: 389215.29 | D21: 82.961855 | E21: 2.5263951 | F21: 68.390599 | G21: 6109 | H21: 250572.12 | I21: 86.623257 | J21: 3.0166201 | K21: 16.788733 | L21: 1272 | M21: 60406.922 | N21: 81.987512 | O21: 5.1963981 | P21: 4.635745 | Q21: 5.6602045 | R21: 0.81900664 | S21: 28.514488 | T21: 2046 | U21: 107793.54 | V21: 87.519198 | W21: 3.441562 | X21: 37.613134 | Y21: 3537 | Z21: 140627.18 | AA21: 85.737713 | AB21: 3.6616301 | AC21: -1.781485 | AD21: 5.1723848 | AE21: -0.34442237
A22: France | B22: 1641 | C22: 363904.85 | D22: 58.012612 | E22: 4.1828773 | F22: 38.075107 | G22: 679 | H22: 143847.23 | I22: 66.895377 | J22: 8.2887895 | K22: 46.603719 | L22: 535 | M22: 130651.69 | N22: 52.53422 | O22: 6.5746117 | P22: 14.361157 | Q22: 11.388563 | R22: 1.2610157 | S22: 49.41762 | T22: 674 | U22: 154389.61 | V22: 58.18029 | W22: 6.4283864 | X22: 14.308944 | Y22: 265 | Z22: 56393.566 | AA22: 76.147184 | AB22: 11.377478 | AC22: 17.966894 | AD22: 13.396645 | AE22: 1.3411488
A23: Croatia | B23: 2590 | C23: 33504.82 | D23: 95.956319 | E23: 1.6121629 | F23: 48.364748 | G23: 1169 | H23: 14106.442 | I23: 94.247933 | J23: 2.8820294 | K23: 25.86297 | L23: 523 | M23: 7817.2776 | N23: 96.065554 | O23: 3.2388466 | P23: -1.8176212 | Q23: 4.3293619 | R23: -0.41983583 | S23: 50.958543 | T23: 1032 | U23: 15383.5 | V23: 92.943452 | W23: 3.0598503 | X23: 22.754847 | Y23: 576 | Z23: 6863.5929 | AA23: 96.567595 | AB23: 3.4606775 | AC23: 3.6241427 | AD23: 4.642512 | AE23: 0.78064261
A24: Italy | B24: 3059 | C24: 479381.12 | D24: 96.312904 | E24: 1.6617052 | F24: 40.303078 | G24: 1088 | H24: 168797.07 | I24: 95.920822 | J24: 2.7570534 | K24: 43.125409 | L24: 1059 | M24: 176638.94 | N24: 97.784409 | O24: 2.2285935 | P24: -1.8635866 | Q24: 3.4792615 | R24: -0.53562707 | S24: 40.477714 | T24: 948 | U24: 165734.45 | V24: 93.732349 | W24: 3.573097 | X24: 24.352233 | Y24: 670 | Z24: 104621.45 | AA24: 96.424082 | AB24: 3.5809576 | AC24: 2.6917337 | AD24: 4.9614058 | AE24: 0.54253447
A25: Cyprus | B25: 1646 | C25: 5008.7368 | D25: 56.61492 | E25: 1.8709441 | F25: 62.250489 | G25: 1024 | H25: 3387.6579 | I25: 64.817603 | J25: 2.6453022 | K25: 18.43889 | L25: 393 | M25: 1042 | N25: 65.349639 | O25: 4.1811545 | P25: -0.53203661 | Q25: 4.9641667 | R25: -0.10717541 | S25: 35.160558 | T25: 596 | U25: 1740.7632 | V25: 55.89647 | W25: 2.6563478 | X25: 37.971513 | Y25: 468 | Z25: 1546.6316 | AA25: 51.427171 | AB25: 5.9514608 | AC25: -4.4692982 | AD25: 7.1067715 | AE25: -0.62887883
A26: Latvia | B26: 1926 | C26: 13334.276 | D26: 73.746328 | E26: 3.6803892 | F26: 47.751106 | G26: 911 | H26: 5959.8002 | I26: 77.396326 | J26: 5.6218093 | K26: 28.087997 | L26: 378 | M26: 3012.3261 | N26: 63.360232 | O26: 7.7955297 | P26: 14.036094 | Q26: 9.5584101 | R26: 1.4684549 | S26: 41.983911 | T26: 762 | U26: 5912.4262 | V26: 84.857247 | W26: 5.1162254 | X26: 28.510198 | Y26: 508 | Z26: 3132.5109 | AA26: 64.69946 | AB26: 7.5897016 | AC26: -20.157787 | AD26: 9.1531051 | AE26: -2.2022894
A27: Luxembourg | B27: 1984 | C27: 2773.2795 | D27: 75.369262 | E27: 2.2933742 | F27: 26.003415 | G27: 230 | H27: 318.53498 | I27: 100 | J27: 0 | K27: 49.720352 | L27: 369 | M27: 530.21154 | N27: 70.344694 | O27: 4.7476057 | P27: 29.655306 | Q27: 4.7476057 | R27: 6.2463707 | S27: 48.715463 | T27: 783 | U27: 1096.8216 | V27: 83.070923 | W27: 3.2683028 | X27: 23.671921 | Y27: 317 | Z27: 443.54487 | AA27: 100 | AB27: 0 | AC27: 16.929077 | AD27: 3.2683028 | AE27: 5.179776
A28: Hungary | B28: 1835 | C28: 41276.869 | D28: 59.44952 | E28: 4.3920515 | F28: 65.777387 | G28: 1129 | H28: 25215.747 | I28: 60.789089 | J28: 5.9919412 | K28: 17.873216 | L28: 100 | M28: 3652.0775 | N28: 43.242438 | O28: 12.884417 | P28: 17.546651 | Q28: 13.926935 | R28: 1.2599076 | S28: 41.898927 | T28: 428 | U28: 12088.43 | V28: 51.055488 | W28: 7.3155851 | X28: 31.065132 | Y28: 528 | Z28: 11846.613 | AA28: 59.051003 | AB28: 7.1405244 | AC28: 7.9955149 | AD28: 9.6420061 | AE28: 0.82923769
A29: Malta | B29: 1509 | C29: 2149.1667 | D29: 61.076114 | E29: 0.61964363 | F29: 63.556914 | G29: 810 | H29: 1304.6667 | I29: 65.440562 | J29: 0.82385364 | K29: 10.173067 | L29: 91 | M29: 192.5 | N29: 100 | O29: 0 | P29: -34.559438 | Q29: 0.82385364 | R29: -41.948517 | S29: 69.51524 | T29: 1087 | U29: 1536.1667 | V29: 62.97916 | W29: 0.82834215 | X29: : | Y29: : | Z29: : | AA29: : | AB29: : | AC29: : | AD29: : | AE29: :
A30: Austria | B30: 2904 | C30: 64907.032 | D30: 95.353954 | E30: 1.7332252 | F30: 39.136298 | G30: 1130 | H30: 23665.845 | I30: 100 | J30: 0 | K30: 43.174121 | L30: 1035 | M30: 25666.852 | N30: 97.071085 | O30: 1.7890868 | P30: 2.9289146 | Q30: 1.7890868 | R30: 1.6371003 | S30: 59.898238 | T30: 1477 | U30: 35657.992 | V30: 96.815538 | W30: 2.2560359 | X30: 29.128402 | Y30: 824 | Z30: 17366.579 | AA30: 92.549426 | AB30: 3.239396 | AC30: -4.2661118 | AD30: 3.9674466 | AE30: -1.0752789
A31: Portugal | B31: 2899 | C31: 78733.907 | D31: 81.859106 | E31: 2.8045876 | F31: 40.951143 | G31: 1038 | H31: 29724.814 | I31: 81.290943 | J31: 4.5542325 | K31: 41.486706 | L31: 1128 | M31: 29620.12 | N31: 79.281445 | O31: 5.0306382 | P31: 2.0094985 | Q31: 7.0770959 | R31: 0.28394395 | S31: 26.91522 | T31: 616 | U31: 19086.924 | V31: 78.403296 | W31: 6.5443293 | X31: 23.903578 | Y31: 729 | Z31: 19010.768 | AA31: 82.566896 | AB31: 6.8926932 | AC31: 4.1636 | AD31: 10.141362 | AE31: 0.4105563
A32: Romania | B32: 1970 | C32: 91182.242 | D32: 70.078847 | E32: 4.1321264 | F32: 40.988574 | G32: 840 | H32: 30622.906 | I32: 65.224118 | J32: 7.9904917 | K32: 43.034852 | L32: 452 | M32: 35025.354 | N32: 72.802776 | O32: 7.1313875 | P32: -7.5786585 | Q32: 10.577858 | R32: -0.71646438 | S32: 54.11195 | T32: 580 | U32: 44209.382 | V32: 69.00937 | W32: 5.9477904 | X32: 21.923392 | Y32: 625 | Z32: 18083.747 | AA32: 68.635057 | AB32: 10.725728 | AC32: -0.37431292 | AD32: 12.480681 | AE32: -0.029991386
A33: Slovenia | B33: 2565 | C33: 16291.596 | D33: 78.711993 | E33: 3.5436146 | F33: 61.655185 | G33: 1467 | H33: 9169.2345 | I33: 75.964703 | J33: 4.7535681 | K33: 17.775327 | L33: 428 | M33: 2981.1315 | N33: 85.666675 | O33: 6.7910223 | P33: -9.701973 | Q33: 8.4865118 | R33: -1.1432227 | S33: 73.139403 | T33: 1707 | U33: 11148.494 | V33: 76.526709 | W33: 4.2542628 | X33: 11.473103 | Y33: 300 | Z33: 1831.4051 | AA33: 79.443696 | AB33: 10.23886 | AC33: 2.9169879 | AD33: 10.817468 | AE33: 0.26965534
A34: Slovak Republic | B34: 734 | C34: 11732.26 | D34: 24.292954 | E34: 3.2891309 | F34: 88.765922 | G34: 647 | H34: 10255.177 | I34: 24.839728 | J34: 3.5193002 | K34: 7.3775017 | L34: 39 | M34: 661.60317 | N34: 19.946266 | O34: 8.0982591 | P34: 4.8934615 | Q34: 8.8516106 | R34: 0.55283289 | S34: 52.567315 | T34: 325 | U34: 5466.6531 | V34: 22.142777 | W34: 4.0833963 | X34: 13.957999 | Y34: 153 | Z34: 2321.7157 | AA34: 34.404429 | AB34: 10.68213 | AC34: 12.261652 | AD34: 11.21083 | AE34: 1.0937327
A35: Finland | B35: 3147 | C35: 43763.33 | D35: 78.393979 | E35: 3.9414639 | F35: 39.800331 | G35: 1179 | H35: 16592.124 | I35: 79.8572 | J35: 5.6748845 | K35: 31.027883 | L35: 968 | M35: 12576.896 | N35: 82.411625 | O35: 6.2144883 | P35: -2.5544249 | Q35: 7.0084536 | R35: -0.36447768 | S35: 23.334255 | T35: 708 | U35: 10335.16 | V35: 83.047782 | W35: 6.3924222 | X35: 32.627809 | Y35: 987 | Z35: 13027.164 | AA35: 78.047364 | AB35: 7.2033948 | AC35: -5.000418 | AD35: 9.4489084 | AE35: -0.52920589
A36: Sweden | B36: 2617 | C36: 85299.729 | D36: 88.638709 | E36: 2.9648584 | F36: 63.184828 | G36: 1378 | H36: 41861.367 | I36: 88.064664 | J36: 4.1717799 | K36: 21.769992 | L36: 401 | M36: 14483.963 | N36: 94.003054 | O36: 6.0850721 | P36: -5.93839 | Q36: 7.4198669 | R36: -0.80033645 | S36: 25.407581 | T36: 496 | U36: 17517.556 | V36: 81.508064 | W36: 7.0943868 | X36: 34.904527 | Y36: 800 | Z36: 24440.144 | AA36: 91.341382 | AB36: 4.7535855 | AC36: 9.8333188 | AD36: 8.3984254 | AE36: 1.1708527
A37: Bosnia and Herzegovina | B37: 392 | C37: 3589.2539 | D37: 34.318358 | E37: 6.6640453 | F37: 75.459988 | G37: 243 | H37: 2418.1264 | I37: 39.119107 | J37: 9.4107404 | K37: 11.061626 | L37: 14 | M37: 182.23116 | N37: 20.126776 | O37: 21.417275 | P37: 18.992331 | Q37: 23.393625 | R37: 0.81185925 | S37: 66.129446 | T37: 205 | U37: 2140.315 | V37: 35.863392 | W37: 10.371262 | X37: 15.221345 | Y37: 81 | Z37: 709.45586 | AA37: 43.101976 | AB37: 16.668899 | AC37: 7.2385835 | AD37: 19.113924 | AE37: 0.37870735
A38: Norway | B38: 3010 | C38: 39543.554 | D38: 82.710929 | E38: 3.8030066 | F38: : | G38: : | H38: : | I38: : | J38: : | K38: : | L38: : | M38: : | N38: : | O38: : | P38: : | Q38: : | R38: : | S38: 46.205448 | T38: 901 | U38: 15219.386 | V38: 86.199679 | W38: 5.0505984 | X38: 22.718868 | Y38: 966 | Z38: 9880.4545 | AA38: 100 | AB38: 0 | AC38: 13.800321 | AD38: 5.0505984 | AE38: 2.732413
A39: Serbia | B39: 2559 | C39: 49041.362 | D39: 86.702665 | E39: 2.8773084 | F39: 38.233255 | G39: 997 | H39: 18197.538 | I39: 84.532693 | J39: 5.1992035 | K39: 32.742481 | L39: 770 | M39: 14872.703 | N39: 86.362946 | O39: 4.9570619 | P39: -1.8302533 | Q39: 7.5555104 | R39: -0.24224085 | S39: 41.969582 | T39: 999 | U39: 20150.798 | V39: 87.370155 | W39: 3.7327067 | X39: 32.020467 | Y39: 802 | Z39: 15033.237 | AA39: 85.484254 | AB39: 5.9536721 | AC39: -1.8859012 | AD39: 7.0093075 | AE39: -0.26905671
A40: Netherlands* | B40: 885 | C40: 115738.5 | D40: 88.59126 | E40: 6.6791635 | F40: : | G40: : | H40: : | I40: : | J40: : | K40: : | L40: : | M40: : | N40: : | O40: : | P40: : | Q40: : | R40: : | S40: 13.389933 | T40: 58 | U40: 13390.084 | V40: 100 | W40: 0 | X40: 35.698552 | Y40: 132 | Z40: 26090.974 | AA40: 100 | AB40: 0 | AC40: 0 | AD40: 0 | AE40: :
A42: Notes:
A43: Variables | B43: ICT Resources/Availability of software resources/Digital contents linked with textbooks (II3G05L). Based on the question of the ICILS ICT Coordinator questionnaire: CQ05L “Are the following software resources made available by your school to teachers and students? – Digital contents linked with textbooks”. Percentages reflect the share of students in schools who chose option 1.
B44: School composition (P_COMP).
B45: School location (IP3G05): The original categories of the school location variable (IP3G05) were transformed, merging the two first categories “1: In a community with fewer than 3,000 people” and “2: In a town with at least 3,000 but less than 15,000 people” and the two last categories “4: In a city with at least 100,000 but less than 1,000,000 people” and “5: In a city with 1,000,000 or more people”. The gaps show percentage point differences between schools located in towns/communities with less than 15,000 people and schools located in towns/cities with more than 100,000 people.
A46: * | B46: Did not meet guideline for sampling participation rate for reporting.

Sheet Table 1.8
A1: Title: | B1: =Contents!B2 -> Digital education at school in Europe: Bridging gaps in access, teaching and learning - 2026 | K1: Contents
A2: Chapters: | B2: ='Table 1.1'!B2 -> Chapter 1: Top-level governance for digital technologies in schools
B3: ='Table 1.1'!B3 -> Chapter 2: Digital equity and inclusion
A4: Figures: | B4: Figure 1.8: Availability of core digital software resources in schools
A7: Reference year: | B7: 2023
A9: Table: | B9: Table 1.8: Percentage of students in schools where digital textbooks are made available to students and teachers
A10: Source: | B10: Eurydice, based on IEA, ICILS 2023 database.
B14: All schools | F14: Schools with more affluent than disadvantaged students | K14: Schools with more disadvantaged than affluent students | P14: Difference between the two sub-groups | S14: Schools in small communities/villages | X14: Schools in larger towns/cities | AC14: Difference between the two sub-groups
B15: Number of cases | C15: Weighted number of cases | D15: % | E15: S.E. | F15: Weighted percentage of students in this type of school | G15: Number of cases | H15: Weighted number of cases | I15: % | J15: S.E. | K15: Weighted percentage of students in this type of school | L15: Number of cases | M15: Weighted number of cases | N15: % | O15: S.E. | P15: Difference in percentage points | Q15: S.E. | R15: t value | S15: Weighted percentage of students in this type of school | T15: Number of cases | U15: Weighted number of cases | V15: % | W15: S.E. | X15: Weighted percentage of students in this type of school | Y15: Number of cases | Z15: Weighted number of cases | AA15: % | AB15: S.E. | AC15: Difference in percentage points | AD15: S.E. | AE15: t value
A16: Belgium (Flemish Community) | B16: 2573 | C16: 55221.97 | D16: 88.037599 | E16: 3.0804105 | F16: : | G16: : | H16: : | I16: : | J16: : | K16: : | L16: : | M16: : | N16: : | O16: : | P16: : | Q16: : | R16: : | S16: 14.323316 | T16: 310 | U16: 5769.4842 | V16: 73.447095 | W16: 10.146541 | X16: 15.59389 | Y16: 376 | Z16: 8730.3147 | AA16: 95.015764 | AB16: 4.6493992 | AC16: 21.568669 | AD16: 10.380781 | AE16: 2.0777501
A17: Czechia | B17: 5454 | C17: 77031.528 | D17: 68.762318 | E17: 3.5165244 | F17: 77.215762 | G17: 4131 | H17: 59672.198 | I17: 69.989388 | J17: 3.6430771 | K17: 9.9559988 | L17: 427 | M17: 5507.4532 | N17: 49.242114 | O17: 12.369118 | P17: 20.747274 | Q17: 12.417047 | R17: 1.6708702 | S17: 52.240139 | T17: 2397 | U17: 40839.194 | V17: 70.626031 | W17: 5.0961856 | X17: 18.697311 | Y17: 1141 | Z17: 14230.704 | AA17: 72.477351 | AB17: 6.9740971 | AC17: 1.8513198 | AD17: 8.4313969 | AE17: 0.2195745
A18: Denmark | B18: 2149 | C18: 42974.146 | D18: 95.589728 | E18: 1.7995959 | F18: 65.074226 | G18: 1066 | H18: 21539.824 | I18: 93.570465 | J18: 2.7435616 | K18: 17.850214 | L18: 278 | M18: 6164.4798 | N18: 100 | O18: 0 | P18: -6.4295348 | Q18: 2.7435616 | R18: -2.3434994 | S18: 50.33561 | T18: 873 | U18: 17754.534 | V18: 95.298522 | W18: 3.3597134 | X18: 22.436561 | Y18: 364 | Z18: 7967.0807 | AA18: 92.951244 | AB18: 1.6806507 | AC18: -2.3472779 | AD18: 3.8138242 | AE18: -0.61546568
A19: Germany | B19: 1608 | C19: 211748.85 | D19: 35.494995 | E19: 4.3700496 | F19: 29.722649 | G19: 525 | H19: 57861.873 | I19: 34.855736 | J19: 7.3663877 | K19: 51.698222 | L19: 603 | M19: 79729.274 | N19: 30.536746 | O19: 6.3066626 | P19: 4.3189899 | Q19: 9.2863757 | R19: 0.46508886 | S19: 23.01703 | T19: 215 | U19: 41980.569 | V19: 37.141962 | W19: 11.461306 | X19: 31.271936 | Y19: 441 | Z19: 48841.668 | AA19: 28.615413 | AB19: 6.0314718 | AC19: -8.5265489 | AD19: 12.147839 | AE19: -0.70189843
A20: Greece | B20: 2322 | C20: 67503.822 | D20: 82.253551 | E20: 3.6897843 | F20: 64.849305 | G20: 1383 | H20: 38862.287 | I20: 81.526812 | J20: 4.5326221 | K20: 20.040077 | L20: 370 | M20: 11429.347 | N20: 79.009137 | O20: 7.8231594 | P20: 2.5176749 | Q20: 7.9913882 | R20: 0.3150485 | S20: 27.592206 | T20: 612 | U20: 16766.096 | V20: 76.783894 | W20: 7.6157693 | X20: 29.182836 | Y20: 558 | Z20: 17273.691 | AA20: 80.771495 | AB20: 7.3405525 | AC20: 3.9876012 | AD20: 9.5114595 | AE20: 0.41924177
A21: Spain | B21: 8414 | C21: 376126.33 | D21: 80.243342 | E21: 2.196266 | F21: 68.390599 | G21: 5505 | H21: 240552.41 | I21: 83.279639 | J21: 2.4313511 | K21: 16.788733 | L21: 1304 | M21: 59045.379 | N21: 80.139554 | O21: 5.6388268 | P21: 3.1400849 | Q21: 6.4758307 | R21: 0.48489299 | S21: 28.514488 | T21: 1829 | U21: 100294.13 | V21: 81.577354 | W21: 3.2177114 | X21: 37.613134 | Y21: 3299 | Z21: 131499.04 | AA21: 80.172463 | AB21: 4.1541019 | AC21: -1.4048906 | AD21: 5.5365065 | AE21: -0.25375036
A22: France | B22: 1684 | C22: 367069.08 | D22: 58.222437 | E22: 4.6002809 | F22: 38.075107 | G22: 673 | H22: 139322.81 | I22: 63.299092 | J22: 7.6746992 | K22: 46.603719 | L22: 559 | M22: 133343.16 | N22: 52.550653 | O22: 7.5408361 | P22: 10.748439 | Q22: 11.054242 | R22: 0.97233607 | S22: 49.41762 | T22: 638 | U22: 144554 | V22: 54.865669 | W22: 6.9632293 | X22: 14.308944 | Y22: 266 | Z22: 56231.787 | AA22: 75.928737 | AB22: 11.7425 | AC22: 21.063068 | AD22: 13.565759 | AE22: 1.5526641
A23: Croatia | B23: 2597 | C23: 33630.463 | D23: 96.945907 | E23: 1.4695384 | F23: 48.364748 | G23: 1191 | H23: 14458.901 | I23: 96.602782 | J23: 2.4818901 | K23: 25.86297 | L23: 523 | M23: 7817.2776 | N23: 96.065554 | O23: 3.2388466 | P23: 0.53722763 | Q23: 4.0976648 | R23: 0.1311058 | S23: 50.958543 | T23: 1061 | U23: 15804.981 | V23: 95.489944 | W23: 2.4573154 | X23: 22.754847 | Y23: 593 | Z23: 7107.5529 | AA23: 100 | AB23: 0 | AC23: 4.5100564 | AD23: 2.4573154 | AE23: 1.8353592
A24: Italy | B24: 3064 | C24: 479488.99 | D24: 94.740678 | E24: 1.9044004 | F24: 40.303078 | G24: 1079 | H24: 165687.43 | I24: 94.153734 | J24: 3.3160966 | K24: 43.125409 | L24: 1071 | M24: 179250.01 | N24: 94.833762 | O24: 2.9828573 | P24: -0.68002757 | Q24: 4.3892584 | R24: -0.15492995 | S24: 40.477714 | T24: 902 | U24: 156616.39 | V24: 88.575557 | W24: 4.5864201 | X24: 24.352233 | Y24: 682 | Z24: 105903.21 | AA24: 94.286482 | AB24: 3.9176065 | AC24: 5.7109245 | AD24: 6.048533 | AE24: 0.9441834
A25: Cyprus | B25: 1748 | C25: 5461.2105 | D25: 62.399384 | E25: 2.0682718 | F25: 62.250489 | G25: 1050 | H25: 3422.1316 | I25: 66.689402 | J25: 3.283784 | K25: 18.43889 | L25: 355 | M25: 979 | N25: 61.398558 | O25: 4.2967383 | P25: 5.2908448 | Q25: 5.4219006 | R25: 0.97582842 | S25: 35.160558 | T25: 637 | U25: 1830.2632 | V25: 60.619531 | W25: 2.6724429 | X25: 37.971513 | Y25: 577 | Z25: 1848.6316 | AA25: 61.468998 | AB25: 5.3452757 | AC25: 0.84946701 | AD25: 6.6367497 | AE25: 0.12799443
A26: Latvia | B26: 2292 | C26: 15745 | D26: 87.674555 | E26: 2.6969626 | F26: 47.751106 | G26: 1091 | H26: 7094.7317 | I26: 92.103716 | J26: 3.1120925 | K26: 28.087997 | L26: 449 | M26: 3636.6933 | N26: 78.565712 | O26: 7.4938084 | P26: 13.538004 | Q26: 8.0613938 | R26: 1.6793626 | S26: 41.983911 | T26: 817 | U26: 6305.007 | V26: 90.548403 | W26: 3.8066731 | X26: 28.510198 | Y26: 607 | Z26: 3761.2102 | AA26: 77.684731 | AB26: 6.7713202 | AC26: -12.863672 | AD26: 7.7679816 | AE26: -1.6559864
A27: Luxembourg | B27: 2162 | C27: 3040.7896 | D27: 82.639368 | E27: 2.1930314 | F27: 26.003415 | G27: 230 | H27: 318.53498 | I27: 100 | J27: 0 | K27: 49.720352 | L27: 529 | M27: 753.73352 | N27: 100 | O27: 0 | P27: 0 | Q27: 0 | R27: : | S27: 48.715463 | T27: 943 | U27: 1320.3436 | V27: 100 | W27: 0 | X27: 23.671921 | Y27: 317 | Z27: 443.54487 | AA27: 100 | AB27: 0 | AC27: 0 | AD27: 0 | AE27: :
A28: Hungary | B28: 1769 | C28: 39828.176 | D28: 57.103971 | E28: 4.0949391 | F28: 65.777387 | G28: 1082 | H28: 24002.162 | I28: 57.427365 | J28: 5.4531994 | K28: 17.873216 | L28: 92 | M28: 3179.8487 | N28: 37.651011 | O28: 12.821413 | P28: 19.776355 | Q28: 13.272858 | R28: 1.4899847 | S28: 41.898927 | T28: 351 | U28: 9892.0994 | V28: 41.779286 | W28: 6.7752448 | X28: 31.065132 | Y28: 582 | Z28: 12039.516 | AA28: 59.0849 | AB28: 7.2732055 | AC28: 17.305615 | AD28: 9.3800885 | AE28: 1.8449309
A29: Malta | B29: 1568 | C29: 2149.1667 | D29: 64.176579 | E29: 0.6449322 | F29: 63.556914 | G29: 804 | H29: 1233.6667 | I29: 67.647596 | J29: 0.88980192 | K29: 10.173067 | L29: 91 | M29: 192.5 | N29: 100 | O29: 0 | P29: -32.352404 | Q29: 0.88980192 | R29: -36.359108 | S29: 69.51524 | T29: 1055 | U29: 1437.1667 | V29: 63.334557 | W29: 0.83526526 | X29: : | Y29: : | Z29: : | AA29: : | AB29: : | AC29: : | AD29: : | AE29: :
A30: Austria | B30: 2948 | C30: 63988.956 | D30: 94.005222 | E30: 2.1384643 | F30: 39.136298 | G30: 1094 | H30: 22678.389 | I30: 95.82751 | J30: 2.8651302 | K30: 43.174121 | L30: 1054 | M30: 24442.902 | N30: 92.442152 | O30: 3.9638436 | P30: 3.3853573 | Q30: 4.8741829 | R30: 0.69454868 | S30: 59.898238 | T30: 1453 | U30: 35342.957 | V30: 95.960183 | W30: 2.3743971 | X30: 29.128402 | Y30: 892 | Z30: 16763.538 | AA30: 89.335717 | AB30: 5.2433722 | AC30: -6.6244661 | AD30: 5.7547055 | AE30: -1.151139
A31: Portugal | B31: 2209 | C31: 59751.816 | D31: 63.51043 | E31: 3.8820752 | F31: 40.951143 | G31: 726 | H31: 21644.521 | I31: 59.193087 | J31: 7.1120582 | K31: 41.486706 | L31: 970 | M31: 25226.467 | N31: 69.348899 | O31: 5.855759 | P31: -10.155812 | Q31: 9.1786771 | R31: -1.1064571 | S31: 26.91522 | T31: 490 | U31: 14842.773 | V31: 65.30206 | W31: 7.9242444 | X31: 23.903578 | Y31: 447 | Z31: 11694.023 | AA31: 50.789069 | AB31: 8.01289 | AC31: -14.512991 | AD31: 11.852896 | AE31: -1.2244258
A32: Romania | B32: 2606 | C32: 118499.94 | D32: 93.044186 | E32: 2.4500648 | F32: 40.988574 | G32: 1265 | H32: 44070.313 | I32: 100 | J32: 0 | K32: 43.034852 | L32: 555 | M32: 42186.096 | N32: 85.955212 | O32: 5.377911 | P32: 14.044788 | Q32: 5.377911 | R32: 2.6115695 | S32: 54.11195 | T32: 837 | U32: 59145.65 | V32: 90.948373 | W32: 4.0525947 | X32: 21.923392 | Y32: 782 | Z32: 23375.308 | AA32: 88.718646 | AB32: 6.3312192 | AC32: -2.2297273 | AD32: 7.4973772 | AE32: -0.29740098
A33: Slovenia | B33: 2692 | C33: 16886.12 | D33: 81.490618 | E33: 3.2856577 | F33: 61.655185 | G33: 1562 | H33: 9571.0749 | I33: 79.293845 | J33: 4.541749 | K33: 17.775327 | L33: 460 | M33: 3140.2414 | N33: 90.238906 | O33: 5.408101 | P33: -10.945061 | Q33: 6.869168 | R33: -1.5933605 | S33: 73.139403 | T33: 1769 | U33: 11362.474 | V33: 77.868205 | W33: 4.4827741 | X33: 11.473103 | Y33: 343 | Z33: 2063.0895 | AA33: 89.493832 | AB33: 7.7291052 | AC33: 11.625627 | AD33: 8.8406487 | AE33: 1.3150196
A34: Slovak Republic | B34: 996 | C34: 16203.885 | D34: 33.56053 | E34: 3.8697519 | F34: 88.765922 | G34: 852 | H34: 13907.713 | I34: 33.446348 | J34: 4.1236424 | K34: 7.3775017 | L34: 95 | M34: 1419.871 | N34: 42.806817 | O34: 12.455717 | P34: -9.3604684 | Q34: 13.279286 | R34: -0.70489245 | S34: 52.567315 | T34: 422 | U34: 7265.495 | V34: 29.443739 | W34: 4.9074319 | X34: 13.957999 | Y34: 157 | Z34: 2350.703 | AA34: 34.833978 | AB34: 10.743115 | AC34: 5.3902383 | AD34: 11.848087 | AE34: 0.45494587
A35: Finland | B35: 2549 | C35: 35388.823 | D35: 64.931977 | E35: 4.2745983 | F35: 39.800331 | G35: 993 | H35: 14359.03 | I35: 69.109409 | J35: 6.5237558 | K35: 31.027883 | L35: 759 | M35: 9511.2235 | N35: 65.975086 | O35: 7.679201 | P35: 3.1343228 | Q35: 9.4112601 | R35: 0.33303965 | S35: 23.334255 | T35: 579 | U35: 8405.7058 | V35: 67.543729 | W35: 7.3833256 | X35: 32.627809 | Y35: 821 | Z35: 10386.614 | AA35: 64.06523 | AB35: 7.8660381 | AC35: -3.4784989 | AD35: 10.195924 | AE35: -0.34116562
A36: Sweden | B36: 2701 | C36: 86691.645 | D36: 93.280012 | E36: 2.2487435 | F36: 63.184828 | G36: 1469 | H36: 44705.068 | I36: 95.865113 | J36: 2.3680454 | K36: 21.769992 | L36: 408 | M36: 14787.975 | N36: 100 | O36: 0 | P36: -4.134887 | Q36: 2.3680454 | R36: -1.7461181 | S36: 25.407581 | T36: 564 | U36: 19316.277 | V36: 97.492865 | W36: 2.4276835 | X36: 34.904527 | Y36: 805 | Z36: 24578.438 | AA36: 94.382989 | AB36: 3.9866158 | AC36: -3.1098763 | AD36: 4.6937745 | AE36: -0.6625534
A37: Bosnia and Herzegovina | B37: 311 | C37: 2567.3553 | D37: 24.090384 | E37: 5.7492187 | F37: 75.459988 | G37: 153 | H37: 1342.4974 | I37: 21.042525 | J37: 6.1104844 | K37: 11.061626 | L37: 37 | M37: 475.81935 | N37: 52.552535 | O37: 21.859852 | P37: -31.51001 | Q37: 22.697822 | R37: -1.3882394 | S37: 66.129446 | T37: 156 | U37: 1403.8018 | V37: 23.522283 | W37: 7.5855113 | X37: 15.221345 | Y37: 58 | Z37: 533.66886 | AA37: 28.9334 | AB37: 14.626571 | AC37: 5.4111173 | AD37: 17.124681 | AE37: 0.31598355
A38: Norway | B38: 3319 | C38: 44335.618 | D38: 92.060404 | E38: 2.5885296 | F38: : | G38: : | H38: : | I38: : | J38: : | K38: : | L38: : | M38: : | N38: : | O38: : | P38: : | Q38: : | R38: : | S38: 46.205448 | T38: 943 | U38: 16072.62 | V38: 91.03223 | W38: 3.9776337 | X38: 22.718868 | Y38: 992 | Z38: 9725.6598 | AA38: 95.066483 | AB38: 5.001232 | AC38: 4.034253 | AD38: 6.2752238 | AE38: 0.64288592
A39: Serbia | B39: 2795 | C39: 53271.576 | D39: 94.739387 | E39: 1.8845462 | F39: 38.233255 | G39: 1136 | H39: 20701.037 | I39: 96.162152 | J39: 2.6406786 | K39: 32.742481 | L39: 812 | M39: 15745.438 | N39: 89.908741 | O39: 4.5766744 | P39: 6.2534113 | Q39: 5.1676918 | R39: 1.2100976 | S39: 41.969582 | T39: 1103 | U39: 21761.48 | V39: 95.736439 | W39: 2.4273592 | X39: 32.020467 | Y39: 861 | Z39: 16313.203 | AA39: 92.762591 | AB39: 4.2544001 | AC39: -2.9738484 | AD39: 4.9153557 | AE39: -0.60501183
A40: Netherlands* | B40: 951 | C40: 123129.56 | D40: 94.248703 | E40: 4.6132658 | F40: : | G40: : | H40: : | I40: : | J40: : | K40: : | L40: : | M40: : | N40: : | O40: : | P40: : | Q40: : | R40: : | S40: 13.389933 | T40: 58 | U40: 13390.084 | V40: 100 | W40: 0 | X40: 35.698552 | Y40: 132 | Z40: 26090.974 | AA40: 100 | AB40: 0 | AC40: 0 | AD40: 0 | AE40: :
A42: Notes:
A43: Variables | B43: ICT Resources/Availability of software resources/Digital textbooks (II3G05M). Based on the question of the ICILS ICT Coordinator questionnaire: CQ05M “Are the following software resources made available by your school to teachers and students? – Digital textbooks”. Percentages reflect the share of students in schools who chose option 1.
B44: School composition (P_COMP).
B45: School location (IP3G05): The original categories of the school location variable (IP3G05) were transformed, merging the two first categories “1: In a community with fewer than 3,000 people” and “2: In a town with at least 3,000 but less than 15,000 people” and the two last categories “4: In a city with at least 100,000 but less than 1,000,000 people” and “5: In a city with 1,000,000 or more people”. The gaps show percentage point differences between schools located in towns/communities with less than 15,000 people and schools located in towns/cities with more than 100,000 people.
A46: * | B46: Did not meet guideline for sampling participation rate for reporting.

Sheet Table 1.9
A1: Title: | B1: =Contents!B2 -> Digital education at school in Europe: Bridging gaps in access, teaching and learning - 2026 | K1: Contents
A2: Chapters: | B2: ='Table 1.1'!B2 -> Chapter 1: Top-level governance for digital technologies in schools
B3: ='Table 1.1'!B3 -> Chapter 2: Digital equity and inclusion
A4: Figures: | B4: Figure 1.8: Availability of core digital software resources in schools
B5: Figure 2.11: Percentage point gaps between schools in small villages/towns and in big cities in specific software resources made available to both teachers and students
A7: Reference year: | B7: 2023
A9: Table: | B9: Table 1.9: Percentage of students in schools where interactive whiteboard software is made available to students and teachers
A10: Source: | B10: Eurydice, based on IEA, ICILS 2023 database.
B14: All schools | F14: Schools with more affluent than disadvantaged students | K14: Schools with more disadvantaged than affluent students | P14: Difference between the two sub-groups | S14: Schools in small communities/villages | X14: Schools in larger towns/cities | AC14: Difference between the two sub-groups
B15: Number of cases | C15: Weighted number of cases | D15: % | E15: S.E. | F15: Weighted percentage of students in this type of school | G15: Number of cases | H15: Weighted number of cases | I15: % | J15: S.E. | K15: Weighted percentage of students in this type of school | L15: Number of cases | M15: Weighted number of cases | N15: % | O15: S.E. | P15: Difference in percentage points | Q15: S.E. | R15: t value | S15: Weighted percentage of students in this type of school | T15: Number of cases | U15: Weighted number of cases | V15: % | W15: S.E. | X15: Weighted percentage of students in this type of school | Y15: Number of cases | Z15: Weighted number of cases | AA15: % | AB15: S.E. | AC15: Difference in percentage points | AD15: S.E. | AE15: t value
A16: Belgium (Flemish Community) | B16: 1956 | C16: 42051.076 | D16: 69.04158 | E16: 4.7083237 | F16: : | G16: : | H16: : | I16: : | J16: : | K16: : | L16: : | M16: : | N16: : | O16: : | P16: : | Q16: : | R16: : | S16: 14.323316 | T16: 243 | U16: 4629.3726 | V16: 58.933166 | W16: 13.309705 | X16: 15.59389 | Y16: 307 | Z16: 6311.4124 | AA16: 68.689811 | AB16: 12.008614 | AC16: 9.7566451 | AD16: 17.709427 | AE16: 0.55092947
A17: Czechia | B17: 5798 | C17: 82351.905 | D17: 73.511561 | E17: 3.5823869 | F17: 77.215762 | G17: 4187 | H17: 61559.238 | I17: 72.202693 | J17: 3.9098051 | K17: 9.9559988 | L17: 652 | M17: 8998.7514 | N17: 80.457796 | O17: 10.879958 | P17: -8.2551024 | Q17: 11.80199 | R17: -0.699467 | S17: 52.240139 | T17: 2429 | U17: 41539.655 | V17: 71.837387 | W17: 4.9380614 | X17: 18.697311 | Y17: 1063 | Z17: 14078.267 | AA17: 71.700987 | AB17: 8.2830038 | AC17: -0.13640008 | AD17: 9.4950824 | AE17: -0.014365339
A18: Denmark | B18: 1274 | C18: 25438.029 | D18: 56.58319 | E18: 4.9456216 | F18: 65.074226 | G18: 585 | H18: 12143.139 | I18: 52.750624 | J18: 7.1870907 | K18: 17.850214 | L18: 82 | M18: 1935.287 | N18: 31.394166 | O18: 11.788456 | P18: 21.356458 | Q18: 14.111164 | R18: 1.5134442 | S18: 50.33561 | T18: 517 | U18: 10507.169 | V18: 56.397859 | W18: 7.8662701 | X18: 22.436561 | Y18: 211 | Z18: 4395.2334 | AA18: 51.278809 | AB18: 12.64747 | AC18: -5.1190503 | AD18: 15.889599 | AE18: -0.3221636
A19: Germany | B19: 2195 | C19: 279993.45 | D19: 46.934688 | E19: 4.4455898 | F19: 29.722649 | G19: 687 | H19: 75942.321 | I19: 45.747319 | J19: 9.3118211 | K19: 51.698222 | L19: 917 | M19: 122875.31 | N19: 47.061913 | O19: 6.1081171 | P19: -1.314594 | Q19: 10.804147 | R19: -0.12167495 | S19: 23.01703 | T19: 209 | U19: 48830.8 | V19: 43.202647 | W19: 9.0822734 | X19: 31.271936 | Y19: 720 | Z19: 76420.54 | AA19: 44.773354 | AB19: 7.106684 | AC19: 1.5707075 | AD19: 11.011135 | AE19: 0.1426472
A20: Greece | B20: 1176 | C20: 29126.636 | D20: 35.490868 | E20: 4.1274296 | F20: 64.849305 | G20: 742 | H20: 16943.209 | I20: 35.54412 | J20: 4.6110382 | K20: 20.040077 | L20: 177 | M20: 5095.3842 | N20: 35.223528 | O20: 8.1564935 | P20: 0.32059228 | Q20: 8.6745676 | R20: 0.036957725 | S20: 27.592206 | T20: 315 | U20: 7102.619 | V20: 32.527951 | W20: 8.1601657 | X20: 29.182836 | Y20: 200 | Z20: 4261.8641 | AA20: 19.928406 | AB20: 6.0863769 | AC20: -12.599545 | AD20: 10.552034 | AE20: -1.1940394
A21: Spain | B21: 7745 | C21: 337603.27 | D21: 71.89124 | E21: 2.8825342 | F21: 68.390599 | G21: 5184 | H21: 210221.93 | I21: 72.560465 | J21: 3.5210005 | K21: 16.788733 | L21: 1283 | M21: 54803.66 | N21: 74.382464 | O21: 7.3690349 | P21: -1.8219995 | Q21: 8.367389 | R21: -0.21775007 | S21: 28.514488 | T21: 1800 | U21: 96073.513 | V21: 78.003528 | W21: 5.3574474 | X21: 37.613134 | Y21: 2920 | Z21: 116807.29 | AA21: 71.215182 | AB21: 4.4084727 | AC21: -6.7883466 | AD21: 6.7435535 | AE21: -1.0066424
A22: France | B22: 1098 | C22: 253581.55 | D22: 40.102745 | E22: 4.5884929 | F22: 38.075107 | G22: 504 | H22: 109503.85 | I22: 50.924176 | J22: 8.1573073 | K22: 46.603719 | L22: 384 | M22: 98652.165 | N22: 38.878901 | O22: 7.1541325 | P22: 12.045275 | Q22: 11.121895 | R22: 1.0830236 | S22: 49.41762 | T22: 478 | U22: 114507.32 | V22: 42.346129 | W22: 7.0184452 | X22: 14.308944 | Y22: 184 | Z22: 39268.381 | AA22: 53.023365 | AB22: 13.855469 | AC22: 10.677236 | AD22: 16.558542 | AE22: 0.64481743
A23: Croatia | B23: 1223 | C23: 14324.576 | D23: 41.569356 | E23: 4.2197365 | F23: 48.364748 | G23: 612 | H23: 6289.3919 | I23: 42.020674 | J23: 6.2356654 | K23: 25.86297 | L23: 203 | M23: 3088.9585 | N23: 40.219976 | O23: 8.9536682 | P23: 1.8006989 | Q23: 10.763836 | R23: 0.16729157 | S23: 50.958543 | T23: 554 | U23: 7047.1198 | V23: 43.786757 | W23: 6.4907238 | X23: 22.754847 | Y23: 228 | Z23: 2928.0702 | AA23: 41.1966 | AB23: 9.2399593 | AC23: -2.5901575 | AD23: 11.802644 | AE23: -0.2194557
A24: Italy | B24: 2891 | C24: 446003.64 | D24: 88.124415 | E24: 2.6055842 | F24: 40.303078 | G24: 1052 | H24: 159153.35 | I24: 90.440668 | J24: 4.1176817 | K24: 43.125409 | L24: 989 | M24: 165153.75 | N24: 87.376015 | O24: 4.2708005 | P24: 3.0646533 | Q24: 6.537402 | R24: 0.46878765 | S24: 40.477714 | T24: 909 | U24: 159982.41 | V24: 90.479239 | W24: 3.9820819 | X24: 24.352233 | Y24: 610 | Z24: 89357.914 | AA24: 79.556075 | AB24: 7.1458319 | AC24: -10.923165 | AD24: 7.9353224 | AE24: -1.3765244
A25: Cyprus | B25: 923 | C25: 2813.4211 | D25: 31.713966 | E25: 2.420597 | F25: 62.250489 | G25: 671 | H25: 2087.8421 | I25: 39.763438 | J25: 3.6886928 | K25: 18.43889 | L25: 96 | M25: 340 | N25: 21.323299 | O25: 4.4965638 | P25: 18.440139 | Q25: 5.8182358 | R25: 3.1693695 | S25: 35.160558 | T25: 341 | U25: 1025.2632 | V25: 32.921533 | W25: 3.5296358 | X25: 37.971513 | Y25: 377 | Z25: 1211.9211 | AA25: 39.975868 | AB25: 6.5476378 | AC25: 7.054336 | AD25: 8.4095839 | AE25: 0.83884483
A26: Latvia | B26: 1953 | C26: 13431.508 | D26: 74.284079 | E26: 3.9226516 | F26: 47.751106 | G26: 887 | H26: 5812.7849 | I26: 74.318672 | J26: 6.0489231 | K26: 28.087997 | L26: 463 | M26: 3595.0904 | N26: 75.617897 | O26: 7.4463997 | P26: -1.2992246 | Q26: 10.036436 | R26: -0.1294508 | S26: 41.983911 | T26: 681 | U26: 5313.2146 | V26: 76.257148 | W26: 5.0205795 | X26: 28.510198 | Y26: 491 | Z26: 3171.0938 | AA26: 65.496358 | AB26: 9.240965 | AC26: -10.76079 | AD26: 10.516732 | AE26: -1.0232066
A27: Luxembourg | B27: 2032 | C27: 2960.5899 | D27: 80.459787 | E27: 2.2540278 | F27: 26.003415 | G27: 129 | H27: 178.1 | I27: 55.912226 | J27: 7.9642223 | K27: 49.720352 | L27: 488 | M27: 679.59066 | N27: 90.163253 | O27: 2.4631624 | P27: -34.251027 | Q27: 8.3364265 | R27: -4.1085982 | S27: 48.715463 | T27: 832 | U27: 1155.828 | V27: 87.539943 | W27: 2.8904199 | X27: 23.671921 | Y27: 216 | Z27: 303.10989 | AA27: 68.338044 | AB27: 7.3124463 | AC27: -19.201899 | AD27: 7.918116 | AE27: -2.425059
A28: Hungary | B28: 1830 | C28: 41421.757 | D28: 59.920249 | E28: 4.1945357 | F28: 65.777387 | G28: 1235 | H28: 28088.572 | I28: 67.204474 | J28: 5.5840205 | K28: 17.873216 | L28: 156 | M28: 5126.3746 | N28: 65.496356 | O28: 11.767161 | P28: 1.7081187 | Q28: 13.583067 | R28: 0.12575354 | S28: 41.898927 | T28: 420 | U28: 12034.98 | V28: 52.193433 | W28: 8.2439315 | X28: 31.065132 | Y28: 610 | Z28: 13424.23 | AA28: 65.880498 | AB28: 8.9974137 | AC28: 13.687065 | AD28: 12.24302 | AE28: 1.1179484
A29: Malta | B29: 1694 | C29: 2403.5 | D29: 64.825137 | E29: 0.66871757 | F29: 63.556914 | G29: 988 | H29: 1607.5 | I29: 73.654066 | J29: 1.0102006 | K29: 10.173067 | L29: 0 | M29: 0 | N29: 0 | O29: 0 | P29: 88.224513 | Q29: : | R29: : | S29: 69.51524 | T29: 1037 | U29: 1363.6667 | V29: 55.907072 | W29: 0.80422965 | X29: : | Y29: : | Z29: : | AA29: : | AB29: : | AC29: : | AD29: : | AE29: :
A30: Austria | B30: 1779 | C30: 40476.46 | D30: 59.917623 | E30: 4.1136897 | F30: 39.136298 | G30: 789 | H30: 16678.209 | I30: 70.473753 | J30: 7.1968353 | K30: 43.174121 | L30: 590 | M30: 14184.428 | N30: 54.712829 | O30: 7.5139272 | P30: 15.760924 | Q30: 10.646888 | R30: 1.4803315 | S30: 59.898238 | T30: 1013 | U30: 25118.636 | V30: 69.169152 | W30: 5.8984839 | X30: 29.128402 | Y30: 350 | Z30: 6793.2064 | AA30: 36.202141 | AB30: 7.8063772 | AC30: -32.967011 | AD30: 10.061276 | AE30: -3.2766232
A31: Portugal | B31: 1880 | C31: 51815.506 | D31: 53.872227 | E31: 3.8718044 | F31: 40.951143 | G31: 673 | H31: 20071.016 | I31: 54.889892 | J31: 6.5114434 | K31: 41.486706 | L31: 782 | M31: 21146.973 | N31: 56.602153 | O31: 6.6395885 | P31: -1.7122608 | Q31: 9.4465481 | R31: -0.18125782 | S31: 26.91522 | T31: 459 | U31: 14046.995 | V31: 57.700796 | W31: 6.96967 | X31: 23.903578 | Y31: 446 | Z31: 11444.14 | AA31: 49.703786 | AB31: 7.674421 | AC31: -7.9970092 | AD31: 10.873034 | AE31: -0.73549014
A32: Romania | B32: 2057 | C32: 92698.953 | D32: 70.717736 | E32: 4.3052713 | F32: 40.988574 | G32: 897 | H32: 30679.806 | I32: 65.345311 | J32: 8.7438338 | K32: 43.034852 | L32: 399 | M32: 31657.287 | N32: 64.502504 | O32: 7.4942097 | P32: 0.84280721 | Q32: 11.802162 | R32: 0.071411254 | S32: 54.11195 | T32: 548 | U32: 40150.76 | V32: 61.739896 | W32: 6.6856292 | X32: 21.923392 | Y32: 764 | Z32: 22843.484 | AA32: 86.700161 | AB32: 6.259599 | AC32: 24.960265 | AD32: 8.6390574 | AE32: 2.8892348
A33: Slovenia | B33: 1738 | C33: 10951.359 | D33: 53.117453 | E33: 4.094648 | F33: 61.655185 | G33: 995 | H33: 6098.4713 | I33: 50.524235 | J33: 5.4352571 | K33: 17.775327 | L33: 333 | M33: 2374.9987 | N33: 68.248664 | O33: 8.5190101 | P33: -17.724429 | Q33: 10.205503 | R33: -1.736752 | S33: 73.139403 | T33: 1089 | U33: 7061.8463 | V33: 48.395561 | W33: 4.6987403 | X33: 11.473103 | Y33: 263 | Z33: 1585.7813 | AA33: 68.788893 | AB33: 11.427599 | AC33: 20.393332 | AD33: 12.245182 | AE33: 1.6654169
A34: Slovak Republic | B34: 1852 | C34: 30349.569 | D34: 62.458361 | E34: 3.5440321 | F34: 88.765922 | G34: 1673 | H34: 27350.253 | I34: 65.774012 | J34: 3.7105934 | K34: 7.3775017 | L34: 94 | M34: 1421.5595 | N34: 42.857722 | O34: 12.327435 | P34: 22.91629 | Q34: 12.619368 | R34: 1.8159618 | S34: 52.567315 | T34: 822 | U34: 14280.098 | V34: 57.154745 | W34: 5.1523187 | X34: 13.957999 | Y34: 271 | Z34: 4103.3919 | AA34: 60.806262 | AB34: 8.9907364 | AC34: 3.6515171 | AD34: 10.341214 | AE34: 0.35310333
A35: Finland | B35: 1930 | C35: 27246.595 | D35: 49.480365 | E35: 4.2604494 | F35: 39.800331 | G35: 844 | H35: 11846.327 | I35: 57.015877 | J35: 7.2011367 | K35: 31.027883 | L35: 513 | M35: 6185.2295 | N35: 41.367197 | O35: 7.9696675 | P35: 15.648681 | Q35: 10.408142 | R35: 1.5035037 | S35: 23.334255 | T35: 422 | U35: 6785.4898 | V35: 54.524544 | W35: 7.8342904 | X35: 32.627809 | Y35: 758 | Z35: 10016.51 | AA35: 61.142264 | AB35: 7.9508055 | AC35: 6.6177196 | AD35: 10.972811 | AE35: 0.60310159
A36: Sweden | B36: 1544 | C36: 51431.476 | D36: 54.066554 | E36: 4.7178653 | F36: 63.184828 | G36: 801 | H36: 25514.916 | I36: 55.476957 | J36: 5.8385687 | K36: 21.769992 | L36: 178 | M36: 6532.9025 | N36: 42.399501 | O36: 11.452047 | P36: 13.077457 | Q36: 12.630187 | R36: 1.0354127 | S36: 25.407581 | T36: 293 | U36: 9978.2009 | V36: 49.267399 | W36: 9.0905233 | X36: 34.904527 | Y36: 293 | Z36: 10286.381 | AA36: 39.485209 | AB36: 8.9602644 | AC36: -9.7821894 | AD36: 12.841579 | AE36: -0.76175909
A37: Bosnia and Herzegovina | B37: 432 | C37: 4011.0166 | D37: 37.636758 | E37: 6.8881413 | F37: 75.459988 | G37: 252 | H37: 2413.3922 | I37: 37.827906 | J37: 7.5040933 | K37: 11.061626 | L37: 38 | M37: 378.96172 | N37: 41.854958 | O37: 22.277178 | P37: -4.0270518 | Q37: 23.507107 | R37: -0.1713121 | S37: 66.129446 | T37: 266 | U37: 2663.8755 | V37: 44.636239 | W37: 9.015741 | X37: 15.221345 | Y37: 96 | Z37: 921.61848 | AA37: 49.966483 | AB37: 15.741433 | AC37: 5.3302441 | AD37: 17.516602 | AE37: 0.3042967
A38: Norway | B38: 1397 | C38: 19582.689 | D38: 40.662347 | E38: 4.6154614 | F38: : | G38: : | H38: : | I38: : | J38: : | K38: : | L38: : | M38: : | N38: : | O38: : | P38: : | Q38: : | R38: : | S38: 46.205448 | T38: 482 | U38: 8101.3078 | V38: 45.884251 | W38: 7.95854 | X38: 22.718868 | Y38: 351 | Z38: 4014.7999 | AA38: 39.243908 | AB38: 11.211306 | AC38: -6.6403424 | AD38: 14.565 | AE38: -0.45591091
A39: Serbia | B39: 980 | C39: 18550.011 | D39: 32.875915 | E39: 4.0390986 | F39: 38.233255 | G39: 305 | H39: 5467.9982 | I39: 25.917977 | J39: 6.2625334 | K39: 32.742481 | L39: 297 | M39: 5509.2599 | N39: 31.458675 | O39: 6.4785713 | P39: -5.5406971 | Q39: 8.7017553 | R39: -0.63673327 | S39: 41.969582 | T39: 361 | U39: 7162.0044 | V39: 30.66552 | W39: 4.6784503 | X39: 32.020467 | Y39: 347 | Z39: 6291.0082 | AA39: 36.669283 | AB39: 8.1577116 | AC39: 6.0037628 | AD39: 8.8633885 | AE39: 0.67736654
A40: Netherlands* | B40: 517 | C40: 80984.747 | D40: 61.989234 | E40: 10.255284 | F40: : | G40: : | H40: : | I40: : | J40: : | K40: : | L40: : | M40: : | N40: : | O40: : | P40: : | Q40: : | R40: : | S40: 13.389933 | T40: 25 | U40: 3500.9662 | V40: 26.145962 | W40: 35.617661 | X40: 35.698552 | Y40: 50 | Z40: 14453.697 | AA40: 55.397308 | AB40: 24.114034 | AC40: 29.251346 | AD40: 43.01284 | AE40: 0.68006079
A42: Notes:
A43: Variables | B43: ICT Resources/Availability of software resources/Interactive whiteboard software (II3G05P). Based on the question of the ICILS ICT Coordinator questionnaire: CQ05P “Are the following software resources made available by your school to teachers and students? – Interactive whiteboard software”. Percentages reflect the share of students in schools who chose option 1.
B44: School composition (P_COMP).
B45: School location (IP3G05): The original categories of the school location variable (IP3G05) were transformed, merging the two first categories “1: In a community with fewer than 3,000 people” and “2: In a town with at least 3,000 but less than 15,000 people” and the two last categories “4: In a city with at least 100,000 but less than 1,000,000 people” and “5: In a city with 1,000,000 or more people”. The gaps show percentage point differences between schools located in towns/communities with less than 15,000 people and schools located in towns/cities with more than 100,000 people.
A46: * | B46: Did not meet guideline for sampling participation rate for reporting.

Sheet Table 1.10
A1: Title: | B1: =Contents!B2 -> Digital education at school in Europe: Bridging gaps in access, teaching and learning - 2026 | K1: Contents
A2: Chapters: | B2: ='Table 1.1'!B2 -> Chapter 1: Top-level governance for digital technologies in schools
B3: ='Table 1.1'!B3 -> Chapter 2: Digital equity and inclusion
A4: Figures: | B4: Figure 1.9: Availability of digital platforms in schools to both teachers and students
B5: Figure 2.8: Percentage point gaps between schools with more affluent and more disadvantageous socio-economic mix in specific technology infrastructure resources made available to both teachers and students
B6: Figure 2.12: Percentage point gaps between schools in small villages/towns and in big cities in specific technology infrastructure resources made available to both teachers and students
A7: Reference year: | B7: 2023
A9: Table: | B9: Table 1.10: Percentage of students in schools where internet-based applications for collaborative work are made available to students and teachers
A10: Source: | B10: Eurydice, based on IEA, ICILS 2023 database.
B14: All schools | F14: Schools with more affluent than disadvantaged students | K14: Schools with more disadvantaged than affluent students | P14: Difference between the two sub-groups | S14: Schools in small communities/villages | X14: Schools in larger towns/cities | AC14: Difference between the two sub-groups
B15: Number of cases | C15: Weighted number of cases | D15: % | E15: S.E. | F15: Weighted percentage of students in this type of school | G15: Number of cases | H15: Weighted number of cases | I15: % | J15: S.E. | K15: Weighted percentage of students in this type of school | L15: Number of cases | M15: Weighted number of cases | N15: % | O15: S.E. | P15: Difference in percentage points | Q15: S.E. | R15: t value | S15: Weighted percentage of students in this type of school | T15: Number of cases | U15: Weighted number of cases | V15: % | W15: S.E. | X15: Weighted percentage of students in this type of school | Y15: Number of cases | Z15: Weighted number of cases | AA15: % | AB15: S.E. | AC15: Difference in percentage points | AD15: S.E. | AE15: t value
A16: Belgium (Flemish Community) | B16: 2932 | C16: 63989.797 | D16: 97.520055 | E16: 1.2617683 | F16: : | G16: : | H16: : | I16: : | J16: : | K16: : | L16: : | M16: : | N16: : | O16: : | P16: : | Q16: : | R16: : | S16: 14.323316 | T16: 349 | U16: 7855.2926 | V16: 100 | W16: 0 | X16: 15.59389 | Y16: 394 | Z16: 9188.2803 | AA16: 100 | AB16: 0 | AC16: 0 | AD16: 0 | AE16: :
A17: Czechia | B17: 7641 | C17: 105791.82 | D17: 94.43524 | E17: 1.7649469 | F17: 77.215762 | G17: 5682 | H17: 80521.33 | I17: 94.44329 | J17: 2.036791 | K17: 9.9559988 | L17: 699 | M17: 9688.0616 | N17: 86.620915 | O17: 7.5946047 | P17: 7.8223747 | Q17: 7.8517621 | R17: 0.99625722 | S17: 52.240139 | T17: 3399 | U17: 55017.284 | V17: 95.145181 | W17: 2.311013 | X17: 18.697311 | Y17: 1514 | Z17: 19209.181 | AA17: 97.832868 | AB17: 2.1791091 | AC17: 2.6876874 | AD17: 3.1413621 | AE17: 0.85558027
A18: Denmark | B18: 2230 | C18: 44504.884 | D18: 94.087112 | E18: 2.4374395 | F18: 65.074226 | G18: 1120 | H18: 22723.828 | I18: 92.864677 | J18: 3.7414836 | K18: 17.850214 | L18: 303 | M18: 6476.3075 | N18: 100 | O18: 0 | P18: -7.135323 | Q18: 3.7414836 | R18: -1.9070839 | S18: 50.33561 | T18: 941 | U18: 18856.551 | V18: 95.433685 | W18: 3.5088365 | X18: 22.436561 | Y18: 367 | Z18: 8093.5534 | AA18: 94.42679 | AB18: 5.7162339 | AC18: -1.0068943 | AD18: 6.730626 | AE18: -0.14959892
A19: Germany | B19: 2873 | C19: 356691.67 | D19: 59.973659 | E19: 4.5857956 | F19: 29.722649 | G19: 875 | H19: 94208.613 | I19: 56.750852 | J19: 8.0922039 | K19: 51.698222 | L19: 1187 | M19: 146030.5 | N19: 55.009495 | O19: 6.6200863 | P19: 1.7413565 | Q19: 9.8566743 | R19: 0.17666775 | S19: 23.01703 | T19: 303 | U19: 65422.195 | V19: 57.881747 | W19: 12.127259 | X19: 31.271936 | Y19: 956 | Z19: 85335.593 | AA19: 49.650867 | AB19: 7.9186666 | AC19: -8.2308796 | AD19: 14.36279 | AE19: -0.57306971
A20: Greece | B20: 1506 | C20: 39784.379 | D20: 48.47735 | E20: 4.3213971 | F20: 64.849305 | G20: 930 | H20: 23510.938 | I20: 49.322158 | J20: 5.9293519 | K20: 20.040077 | L20: 294 | M20: 8454.3438 | N20: 58.443446 | O20: 10.179555 | P20: -9.121288 | Q20: 12.544 | R20: -0.72714349 | S20: 27.592206 | T20: 422 | U20: 10334.331 | V20: 47.328263 | W20: 7.7180672 | X20: 29.182836 | Y20: 335 | Z20: 9772.2998 | AA20: 45.695112 | AB20: 9.0910344 | AC20: -1.6331502 | AD20: 11.981549 | AE20: -0.13630543
A21: Spain | B21: 10317 | C21: 425696.27 | D21: 90.650286 | E21: 2.0518573 | F21: 68.390599 | G21: 6681 | H21: 259616.97 | I21: 89.609721 | J21: 2.8799545 | K21: 16.788733 | L21: 1584 | M21: 70588.187 | N21: 95.806071 | O21: 2.3038411 | P21: -6.1963497 | Q21: 3.5740969 | R21: -1.7336827 | S21: 28.514488 | T21: 2405 | U21: 111022.02 | V21: 90.140446 | W21: 5.3405074 | X21: 37.613134 | Y21: 3879 | Z21: 149184.74 | AA21: 90.955094 | AB21: 3.4485755 | AC21: 0.81464865 | AD21: 6.3848027 | AE21: 0.12759183
A22: France | B22: 1462 | C22: 319552.42 | D22: 50.162191 | E22: 4.8617471 | F22: 38.075107 | G22: 693 | H22: 149128.01 | I22: 67.865079 | J22: 7.5910559 | K22: 46.603719 | L22: 445 | M22: 103017.53 | N22: 40.599294 | O22: 7.9261977 | P22: 27.265785 | Q22: 11.093229 | R22: 2.4578764 | S22: 49.41762 | T22: 611 | U22: 136417.98 | V22: 49.585483 | W22: 7.0763189 | X22: 14.308944 | Y22: 268 | Z22: 56075.408 | AA22: 75.717581 | AB22: 11.502084 | AC22: 26.132098 | AD22: 14.15516 | AE22: 1.8461182
A23: Croatia | B23: 2702 | C23: 34874.811 | D23: 98.357948 | E23: 1.0464221 | F23: 48.364748 | G23: 1185 | H23: 14455.125 | I23: 96.577559 | J23: 2.4147166 | K23: 25.86297 | L23: 536 | M23: 8067.4674 | N23: 99.140106 | O23: 0.86782222 | P23: -2.5625468 | Q23: 2.5719654 | R23: -0.99633795 | S23: 50.958543 | T23: 1129 | U23: 16481.488 | V23: 99.577238 | W23: 0.42521242 | X23: 22.754847 | Y23: 593 | Z23: 7107.5529 | AA23: 100 | AB23: 0 | AC23: 0.42276246 | AD23: 0.42521242 | AE23: 0.99423826
A24: Italy | B24: 2898 | C24: 449900.02 | D24: 88.894288 | E24: 2.4842586 | F24: 40.303078 | G24: 1023 | H24: 155762.71 | I24: 88.5139 | J24: 4.6559351 | K24: 43.125409 | L24: 1027 | M24: 172490.18 | N24: 91.257416 | O24: 3.9033586 | P24: -2.7435155 | Q24: 6.02202 | R24: -0.45558059 | S24: 40.477714 | T24: 918 | U24: 159755.49 | V24: 90.3509 | W24: 4.171525 | X24: 24.352233 | Y24: 665 | Z24: 96463.529 | AA24: 85.882261 | AB24: 6.4510582 | AC24: -4.4686382 | AD24: 8.4662017 | AE24: -0.52782091
A25: Cyprus | B25: 2842 | C25: 8589.2368 | D25: 96.821187 | E25: 0.52474155 | F25: 62.250489 | G25: 1599 | H25: 5103.6579 | I25: 97.200351 | J25: 0.12536685 | K25: 18.43889 | L25: 578 | M25: 1549.5 | N25: 97.177799 | O25: 2.9109154 | P25: 0.02255215 | Q25: 2.9135156 | R25: 0.0077405283 | S25: 35.160558 | T25: 966 | U25: 2845.2632 | V25: 91.362323 | W25: 1.3897189 | X25: 37.971513 | Y25: 976 | Z25: 3018.6316 | AA25: 99.571188 | AB25: 0.040745693 | AC25: 8.2088652 | AD25: 1.3875774 | AE25: 5.9159693
A26: Latvia | B26: 2318 | C26: 16044.059 | D26: 87.228301 | E26: 2.6130892 | F26: 47.751106 | G26: 1032 | H26: 6779.3977 | I26: 86.677186 | J26: 3.7134669 | K26: 28.087997 | L26: 514 | M26: 4038.6966 | N26: 84.948556 | O26: 5.9265116 | P26: 1.7286296 | Q26: 7.2375014 | R26: 0.23884342 | S26: 41.983911 | T26: 795 | U26: 6276.914 | V26: 88.549868 | W26: 3.8006813 | X26: 28.510198 | Y26: 710 | Z26: 4580.8457 | AA26: 94.613634 | AB26: 3.8872349 | AC26: 6.0637662 | AD26: 5.4365222 | AE26: 1.115376
A27: Luxembourg | B27: 2419 | C27: 3525.6509 | D27: 95.816418 | E27: 1.3188684 | F27: 26.003415 | G27: 230 | H27: 318.53498 | I27: 100 | J27: 0 | K27: 49.720352 | L27: 529 | M27: 753.73352 | N27: 100 | O27: 0 | P27: 0 | Q27: 0 | R27: : | S27: 48.715463 | T27: 829 | U27: 1166.4049 | V27: 88.341016 | W27: 3.53635 | X27: 23.671921 | Y27: 317 | Z27: 443.54487 | AA27: 100 | AB27: 0 | AC27: 11.658984 | AD27: 3.53635 | AE27: 3.2968976
A28: Hungary | B28: 2116 | C28: 44232.386 | D28: 62.069863 | E28: 4.3648253 | F28: 65.777387 | G28: 1296 | H28: 27701.553 | I28: 66.278497 | J28: 6.2932254 | K28: 17.873216 | L28: 109 | M28: 3269.9549 | N28: 38.717914 | O28: 13.025984 | P28: 27.560583 | Q28: 14.870597 | R28: 1.8533609 | S28: 41.898927 | T28: 479 | U28: 12827.576 | V28: 52.37218 | W28: 7.3845981 | X28: 31.065132 | Y28: 650 | Z28: 13374.346 | AA28: 65.635686 | AB28: 8.4474226 | AC28: 13.263506 | AD28: 11.207495 | AE28: 1.1834497
A29: Malta | B29: 2605 | C29: 3603.6667 | D29: 93.682842 | E29: 0.14637453 | F29: 63.556914 | G29: 1383 | H29: 2102.5 | I29: 92.235139 | J29: 0.2427548 | K29: 10.173067 | L29: 91 | M29: 192.5 | N29: 100 | O29: 0 | P29: -7.7648607 | Q29: 0.2427548 | R29: -31.986435 | S29: 69.51524 | T29: 1753 | U29: 2293.1667 | V29: 90.418611 | W29: 0.23130714 | X29: : | Y29: : | Z29: : | AA29: : | AB29: : | AC29: : | AD29: : | AE29: :
A30: Austria | B30: 3116 | C30: 68633.272 | D30: 98.99812 | E30: 0.87503956 | F30: 39.136298 | G30: 1147 | H30: 24502.622 | I30: 100 | J30: 0 | K30: 43.174121 | L30: 1126 | M30: 26264.369 | N30: 97.772287 | O30: 2.2365805 | P30: 2.2277127 | Q30: 2.2365805 | R30: 0.99603511 | S30: 59.898238 | T30: 1521 | U30: 37571.478 | V30: 99.744724 | W30: 0.25596217 | X30: 29.128402 | Y30: 978 | Z30: 18587.728 | AA30: 96.880949 | AB30: 3.1428199 | AC30: -2.8637754 | AD30: 3.1532041 | AE30: -0.90821122
A31: Portugal | B31: 3360 | C31: 92608.46 | D31: 96.284383 | E31: 1.4496155 | F31: 40.951143 | G31: 1223 | H31: 35672.223 | I31: 97.555822 | J31: 1.726745 | K31: 41.486706 | L31: 1336 | M31: 36045.313 | N31: 96.479168 | O31: 2.5093487 | P31: 1.0766536 | Q31: 3.0034766 | R31: 0.35846912 | S31: 26.91522 | T31: 782 | U31: 24344.543 | V31: 100 | W31: 0 | X31: 23.903578 | Y31: 843 | Z31: 22196.155 | AA31: 96.401556 | AB31: 2.5999707 | AC31: -3.5984437 | AD31: 2.5999707 | AE31: -1.3840324
A32: Romania | B32: 2293 | C32: 105095.61 | D32: 80.977828 | E32: 3.9549243 | F32: 40.988574 | G32: 1063 | H32: 38393.485 | I32: 82.993406 | J32: 6.0187831 | K32: 43.034852 | L32: 499 | M32: 38345.304 | N32: 79.113509 | O32: 6.7008448 | P32: 3.8798967 | Q32: 8.8966324 | R32: 0.43610846 | S32: 54.11195 | T32: 699 | U32: 50154.761 | V32: 77.853863 | W32: 5.9902836 | X32: 21.923392 | Y32: 805 | Z32: 23889.865 | AA32: 90.671595 | AB32: 6.4843267 | AC32: 12.817732 | AD32: 8.8788727 | AE32: 1.4436216
A33: Slovenia | B33: 2955 | C33: 18661.497 | D33: 90.058397 | E33: 2.3391165 | F33: 61.655185 | G33: 1791 | H33: 11153.453 | I33: 92.403434 | J33: 2.7161244 | K33: 17.775327 | L33: 488 | M33: 3362.3736 | N33: 96.622161 | O33: 3.2208533 | P33: -4.2187268 | Q33: 4.0584561 | R33: -1.0394905 | S33: 73.139403 | T33: 2040 | U33: 13184.057 | V33: 90.351699 | W33: 2.6063019 | X33: 11.473103 | Y33: 361 | Z33: 2187.7407 | AA33: 94.901021 | AB33: 5.2481143 | AC33: 4.5493218 | AD33: 5.8101103 | AE33: 0.78300095
A34: Slovak Republic | B34: 2034 | C34: 32552.519 | D34: 66.404512 | E34: 3.6254896 | F34: 88.765922 | G34: 1786 | H34: 28589.382 | I34: 68.312856 | J34: 4.1025226 | K34: 7.3775017 | L34: 78 | M34: 1140.0943 | N34: 32.777469 | O34: 14.974437 | P34: 35.535387 | Q34: 15.680238 | R34: 2.2662531 | S34: 52.567315 | T34: 947 | U34: 15972.191 | V34: 62.845932 | W34: 5.0508095 | X34: 13.957999 | Y34: 374 | Z34: 5811.0514 | AA34: 86.111277 | AB34: 6.5103692 | AC34: 23.265345 | AD34: 7.9010479 | AE34: 2.9445898
A35: Finland | B35: 3951 | C35: 54268.86 | D35: 97.21271 | E35: 0.84461968 | F35: 39.800331 | G35: 1422 | H35: 20107.844 | I35: 96.778212 | J35: 2.2987536 | K35: 31.027883 | L35: 1121 | M35: 14374.468 | N35: 94.190432 | O35: 3.9794704 | P35: 2.5877808 | Q35: 5.7726466 | R35: 0.44828326 | S35: 23.334255 | T35: 848 | U35: 12145.09 | V35: 97.591408 | W35: 2.4239728 | X35: 32.627809 | Y35: 1270 | Z35: 16691.357 | AA35: 100 | AB35: 0 | AC35: 2.4085916 | AD35: 2.4239728 | AE35: 0.99365459
A36: Sweden | B36: 2862 | C36: 93786.354 | D36: 93.671823 | E36: 2.2718529 | F36: 63.184828 | G36: 1454 | H36: 44980.606 | I36: 91.96289 | J36: 3.5467572 | K36: 21.769992 | L36: 423 | M36: 15407.97 | N36: 95.221073 | O36: 4.8511632 | P36: -3.2581832 | Q36: 5.9431792 | R36: -0.54822227 | S36: 25.407581 | T36: 554 | U36: 19709.396 | V36: 91.706556 | W36: 5.5348118 | X36: 34.904527 | Y36: 897 | Z36: 28133.81 | AA36: 97.324911 | AB36: 2.705014 | AC36: 5.6183557 | AD36: 6.1879175 | AE36: 0.90795582
A37: Bosnia and Herzegovina | B37: 569 | C37: 5005.0243 | D37: 46.218126 | E37: 5.7132439 | F37: 75.459988 | G37: 323 | H37: 2941.833 | I37: 46.110773 | J37: 7.2134909 | K37: 11.061626 | L37: 14 | M37: 182.23116 | N37: 20.126776 | O37: 21.417275 | P37: 25.983998 | Q37: 22.599427 | R37: 1.1497635 | S37: 66.129446 | T37: 239 | U37: 2130.1524 | V37: 35.693106 | W37: 8.2647181 | X37: 15.221345 | Y37: 170 | Z37: 1476.9558 | AA37: 80.074662 | AB37: 11.756756 | AC37: 44.381555 | AD37: 14.593507 | AE37: 3.0411851
A38: Norway | B38: 3389 | C38: 44700.879 | D38: 91.654062 | E38: 2.8581112 | F38: : | G38: : | H38: : | I38: : | J38: : | K38: : | L38: : | M38: : | N38: : | O38: : | P38: : | Q38: : | R38: : | S38: 46.205448 | T38: 990 | U38: 15809.81 | V38: 87.815969 | W38: 5.3466513 | X38: 22.718868 | Y38: 989 | Z38: 9516.8474 | AA38: 93.025381 | AB38: 6.1688518 | AC38: 5.2094124 | AD38: 8.1493809 | AE38: 0.63924026
A39: Serbia | B39: 2158 | C39: 41123.252 | D39: 72.922987 | E39: 4.0991807 | F39: 38.233255 | G39: 859 | H39: 15529.891 | I39: 73.721171 | J39: 6.4973482 | K39: 32.742481 | L39: 624 | M39: 11490.492 | N39: 65.612378 | O39: 7.0330457 | P39: 8.1087928 | Q39: 9.3491219 | R39: 0.86733203 | S39: 41.969582 | T39: 796 | U39: 16177.622 | V39: 69.267644 | W39: 6.2641222 | X39: 32.020467 | Y39: 598 | Z39: 10983.773 | AA39: 62.457584 | AB39: 8.2926351 | AC39: -6.8100607 | AD39: 10.117773 | AE39: -0.67307905
A40: Netherlands* | B40: 972 | C40: 130643.24 | D40: 100 | E40: 0 | F40: : | G40: : | H40: : | I40: : | J40: : | K40: : | L40: : | M40: : | N40: : | O40: : | P40: : | Q40: : | R40: : | S40: 13.389933 | T40: 58 | U40: 13390.084 | V40: 100 | W40: 0 | X40: 35.698552 | Y40: 132 | Z40: 26090.974 | AA40: 100 | AB40: 0 | AC40: 0 | AD40: 0 | AE40: :
A42: Notes:
A43: Variables | B43: ICT Resources/Availability of technology resources/Internet-based applications for collaborative work (II3G04G). Based on the question of the ICILS ICT Coordinator questionnaire: CQ04G “Are the following technology resources made available by your school to teachers and students? – Internet-based applications for collaborative work”. Percentages reflect the share of students in schools who chose option 1.
B44: School composition (P_COMP).
B45: School location (IP3G05): The original categories of the school location variable (IP3G05) were transformed, merging the two first categories “1: In a community with fewer than 3,000 people” and “2: In a town with at least 3,000 but less than 15,000 people” and the two last categories “4: In a city with at least 100,000 but less than 1,000,000 people” and “5: In a city with 1,000,000 or more people”. The gaps show percentage point differences between schools located in towns/communities with less than 15,000 people and schools located in towns/cities with more than 100,000 people.
A46: * | B46: Did not meet guideline for sampling participation rate for reporting.

Sheet Table 1.11
A1: Title: | B1: =Contents!B2 -> Digital education at school in Europe: Bridging gaps in access, teaching and learning - 2026 | K1: Contents
A2: Chapters: | B2: ='Table 1.1'!B2 -> Chapter 1: Top-level governance for digital technologies in schools
B3: ='Table 1.1'!B3 -> Chapter 2: Digital equity and inclusion
A4: Figures: | B4: Figure 1.9: Availability of digital platforms to both teachers and students in schools
B5: Figure 2.8: Percentage point gaps between schools with more affluent and more disadvantageous socioeconomic mix in specific technology infrastructure resources made available to both teachers and students
A7: Reference year: | B7: 2023
A9: Table: | B9: Table 1.11: Percentage of students in schools where a school intranet with applications and workspaces is made available to students and teachers
A10: Source: | B10: Eurydice, based on IEA, ICILS 2023 database.
B14: All schools | F14: Schools with more affluent than disadvantaged students | K14: Schools with more disadvantaged than affluent students | P14: Difference between the two sub-groups | S14: Schools in small communities/villages | X14: Schools in larger towns/cities | AC14: Difference between the two sub-groups
B15: Number of cases | C15: Weighted number of cases | D15: % | E15: S.E. | F15: Weighted percentage of students in this type of school | G15: Number of cases | H15: Weighted number of cases | I15: % | J15: S.E. | K15: Weighted percentage of students in this type of school | L15: Number of cases | M15: Weighted number of cases | N15: % | O15: S.E. | P15: Difference in percentage points | Q15: S.E. | R15: t value | S15: Weighted percentage of students in this type of school | T15: Number of cases | U15: Weighted number of cases | V15: % | W15: S.E. | X15: Weighted percentage of students in this type of school | Y15: Number of cases | Z15: Weighted number of cases | AA15: % | AB15: S.E. | AC15: Difference in percentage points | AD15: S.E. | AE15: t value
A16: Belgium (Flemish Community) | B16: 1613 | C16: 34749.496 | D16: 54.14176 | E16: 5.1592236 | F16: : | G16: : | H16: : | I16: : | J16: : | K16: : | L16: : | M16: : | N16: : | O16: : | P16: : | Q16: : | R16: : | S16: 14.323316 | T16: 115 | U16: 2370.4564 | V16: 30.176551 | W16: 13.036903 | X16: 15.59389 | Y16: 210 | Z16: 5122.4527 | AA16: 55.749853 | AB16: 11.100339 | AC16: 25.573301 | AD16: 15.054051 | AE16: 1.6987655
A17: Czechia | B17: 3257 | C17: 41451.106 | D17: 36.808315 | E17: 3.737423 | F17: 77.215762 | G17: 2512 | H17: 32915.72 | I17: 38.342501 | J17: 4.4894406 | K17: 9.9559988 | L17: 243 | M17: 3325.3289 | N17: 29.731751 | O17: 11.229898 | P17: 8.6107499 | Q17: 12.110166 | R17: 0.71103483 | S17: 52.240139 | T17: 1277 | U17: 19314.371 | V17: 33.065643 | W17: 5.3425378 | X17: 18.697311 | Y17: 624 | Z17: 7378.2991 | AA17: 37.577872 | AB17: 6.8659944 | AC17: 4.5122291 | AD17: 8.1272594 | AE17: 0.55519689
A18: Denmark | B18: 1610 | C18: 30917.924 | D18: 65.613804 | E18: 4.8012392 | F18: 65.074226 | G18: 850 | H18: 16459.263 | I18: 67.763957 | J18: 6.2417918 | K18: 17.850214 | L18: 252 | M18: 5250.0942 | N18: 81.066166 | O18: 10.525898 | P18: -13.302208 | Q18: 12.409917 | R18: -1.0719015 | S18: 50.33561 | T18: 787 | U18: 15408.18 | V18: 78.701172 | W18: 5.7945108 | X18: 22.436561 | Y18: 247 | Z18: 4532.613 | AA18: 52.881605 | AB18: 11.981724 | AC18: -25.819566 | AD18: 13.394583 | AE18: -1.9276125
A19: Germany | B19: 2982 | C19: 386130.57 | D19: 64.277103 | E19: 4.1901967 | F19: 29.722649 | G19: 895 | H19: 90112.361 | I19: 54.283288 | J19: 7.9814173 | K19: 51.698222 | L19: 1236 | M19: 177872.44 | N19: 67.004315 | O19: 6.4077866 | P19: -12.721028 | Q19: 10.396054 | R19: -1.22364 | S19: 23.01703 | T19: 294 | U19: 50175.919 | V19: 44.39273 | W19: 12.235014 | X19: 31.271936 | Y19: 1023 | Z19: 113644.41 | AA19: 66.661392 | AB19: 6.7509815 | AC19: 22.268662 | AD19: 13.650308 | AE19: 1.6313671
A20: Greece | B20: 594 | C20: 15727.227 | D20: 19.16366 | E20: 3.0431296 | F20: 64.849305 | G20: 321 | H20: 8237.7289 | I20: 17.281427 | J20: 3.8144074 | K20: 20.040077 | L20: 73 | M20: 2094.588 | N20: 14.479532 | O20: 7.9223514 | P20: 2.8018953 | Q20: 8.9437743 | R20: 0.31327885 | S20: 27.592206 | T20: 127 | U20: 3163.7152 | V20: 14.488905 | W20: 5.7079835 | X20: 29.182836 | Y20: 61 | Z20: 1472.9691 | AA20: 6.8875791 | AB20: 3.8421744 | AC20: -7.6013257 | AD20: 6.9323771 | AE20: -1.0964963
A21: Spain | B21: 3508 | C21: 145395.02 | D21: 31.251726 | E21: 2.5599454 | F21: 68.390599 | G21: 2370 | H21: 88343.296 | I21: 30.731784 | J21: 3.1121295 | K21: 16.788733 | L21: 526 | M21: 24431.428 | N21: 33.159643 | O21: 8.2786287 | P21: -2.427859 | Q21: 9.0821241 | R21: -0.26732281 | S21: 28.514488 | T21: 815 | U21: 33776.618 | V21: 27.934991 | W21: 6.3010227 | X21: 37.613134 | Y21: 1229 | Z21: 48369.883 | AA21: 29.490197 | AB21: 4.0735319 | AC21: 1.5552064 | AD21: 8.075083 | AE21: 0.19259325
A22: France | B22: 1993 | C22: 453177.67 | D22: 70.576588 | E22: 4.1254878 | F22: 38.075107 | G22: 718 | H22: 153882.68 | I22: 68.449756 | J22: 7.9143741 | K22: 46.603719 | L22: 830 | M22: 204602.65 | N22: 80.634077 | O22: 5.474716 | P22: -12.184321 | Q22: 9.7418896 | R22: -1.2507144 | S22: 49.41762 | T22: 991 | U22: 227489.14 | V22: 82.688215 | W22: 5.1483129 | X22: 14.308944 | Y22: 241 | Z22: 53344.37 | AA22: 72.029911 | AB22: 12.167725 | AC22: -10.658304 | AD22: 13.345378 | AE22: -0.79865132
A23: Croatia | B23: 722 | C23: 9100.7884 | D23: 25.853927 | E23: 3.8502845 | F23: 48.364748 | G23: 287 | H23: 3764.7787 | I23: 25.153233 | J23: 6.4897792 | K23: 25.86297 | L23: 149 | M23: 2056.3521 | N23: 25.270256 | O23: 6.4855595 | P23: -0.11702313 | Q23: 9.0519959 | R23: -0.012927881 | S23: 50.958543 | T23: 260 | U23: 3992.1923 | V23: 24.119878 | W23: 4.8431456 | X23: 22.754847 | Y23: 216 | Z23: 2616.4493 | AA23: 36.812237 | AB23: 10.95636 | AC23: 12.69236 | AD23: 11.702972 | AE23: 1.0845416
A24: Italy | B24: 466 | C24: 71982.166 | D24: 14.222723 | E24: 2.9078012 | F24: 40.303078 | G24: 44 | H24: 9170.0329 | I24: 5.2109737 | J24: 3.6735472 | K24: 43.125409 | L24: 312 | M24: 45903.311 | N24: 24.285542 | O24: 6.1636787 | P24: -19.074569 | Q24: 7.2248317 | R24: -2.6401402 | S24: 40.477714 | T24: 187 | U24: 31017.374 | V24: 17.542106 | W24: 5.5026321 | X24: 24.352233 | Y24: 41 | Z24: 6875.7938 | AA24: 6.1215749 | AB24: 4.3994505 | AC24: -11.420531 | AD24: 7.0551406 | AE24: -1.6187531
A25: Cyprus | B25: 747 | C25: 2309.8684 | D25: 26.037727 | E25: 2.7806256 | F25: 62.250489 | G25: 606 | H25: 1922.2895 | I25: 36.61045 | J25: 4.6230388 | K25: 18.43889 | L25: 89 | M25: 250 | N25: 15.678896 | O25: 2.0442827 | P25: 20.931554 | Q25: 5.045605 | R25: 4.1484725 | S25: 35.160558 | T25: 206 | U25: 619.26316 | V25: 19.884741 | W25: 4.0690533 | X25: 37.971513 | Y25: 275 | Z25: 864.28947 | AA25: 28.509054 | AB25: 4.8390322 | AC25: 8.6243128 | AD25: 5.4414921 | AE25: 1.5849169
A26: Latvia | B26: 719 | C26: 4933.4579 | D26: 27.006379 | E26: 4.1980897 | F26: 47.751106 | G26: 309 | H26: 2188.581 | I26: 27.981843 | J26: 6.6840944 | K26: 28.087997 | L26: 138 | M26: 1083.9051 | N26: 23.416265 | O26: 7.740804 | P26: 4.5655783 | Q26: 10.275834 | R26: 0.44430245 | S26: 41.983911 | T26: 217 | U26: 1631.4652 | V26: 23.430041 | W26: 6.2394662 | X26: 28.510198 | Y26: 223 | Z26: 1432.6958 | AA26: 29.591165 | AB26: 7.9353667 | AC26: 6.1611235 | AD26: 10.094602 | AE26: 0.61033845
A27: Luxembourg | B27: 1435 | C27: 2165.907 | D27: 55.982699 | E27: 2.5311454 | F27: 26.003415 | G27: 230 | H27: 318.53498 | I27: 100 | J27: 0 | K27: 49.720352 | L27: 194 | M27: 298.8956 | N27: 39.655342 | O27: 4.6049721 | P27: 60.344658 | Q27: 4.6049721 | R27: 13.10424 | S27: 48.715463 | T27: 284 | U27: 392.17876 | V27: 29.70278 | W27: 3.663668 | X27: 23.671921 | Y27: 254 | Z27: 365.18773 | AA27: 82.333886 | AB27: 2.6063383 | AC27: 52.631106 | AD27: 4.7911012 | AE27: 10.985179
A28: Hungary | B28: 712 | C28: 15518.829 | D28: 21.777066 | E28: 3.3690015 | F28: 65.777387 | G28: 485 | H28: 11441.802 | I28: 27.375557 | J28: 5.3715467 | K28: 17.873216 | L28: 11 | M28: 522.75519 | N28: 6.1896848 | O28: 6.3392065 | P28: 21.185872 | Q28: 8.3043284 | R28: 2.5511843 | S28: 41.898927 | T28: 154 | U28: 3420.4815 | V28: 13.965076 | W28: 4.9909193 | X28: 31.065132 | Y28: 185 | Z28: 4906.387 | AA28: 24.078492 | AB28: 7.5589919 | AC28: 10.113416 | AD28: 8.9516283 | AE28: 1.1297851
A29: Malta | B29: 1093 | C29: 1665.3333 | D29: 45.527863 | E29: 0.61235352 | F29: 63.556914 | G29: 722 | H29: 1212.6667 | I29: 58.003827 | J29: 0.72486628 | K29: 10.173067 | L29: 0 | M29: 0 | N29: 0 | O29: 0 | P29: =I29-N29 -> 58.003827 | Q29: : | R29: : | S29: 69.51524 | T29: 785 | U29: 1119.6667 | V29: 44.147992 | W29: 0.79319741 | X29: : | Y29: : | Z29: : | AA29: : | AB29: : | AC29: : | AD29: : | AE29: :
A30: Austria | B30: 1963 | C30: 43913.688 | D30: 63.802813 | E30: 4.5096737 | F30: 39.136298 | G30: 799 | H30: 15925.812 | I30: 64.996357 | J30: 7.9876243 | K30: 43.174121 | L30: 719 | M30: 17556.094 | N30: 66.595867 | O30: 6.4811058 | P30: -1.5995102 | Q30: 10.281732 | R30: -0.15556817 | S30: 59.898238 | T30: 957 | U30: 23200.902 | V30: 62.42343 | W30: 6.6558671 | X30: 29.128402 | Y30: 625 | Z30: 12766.417 | AA30: 66.53974 | AB30: 7.5296903 | AC30: 4.1163099 | AD30: 10.207726 | AE30: 0.40325436
A31: Portugal | B31: 935 | C31: 27888.363 | D31: 28.99534 | E31: 3.9079285 | F31: 40.951143 | G31: 304 | H31: 10724.732 | I31: 29.329823 | J31: 6.4107934 | K31: 41.486706 | L31: 404 | M31: 10504.983 | N31: 28.117721 | O31: 6.1925341 | P31: 1.2121022 | Q31: 8.5387595 | R31: 0.14195296 | S31: 26.91522 | T31: 366 | U31: 11217.859 | V31: 46.079565 | W31: 7.9760146 | X31: 23.903578 | Y31: 282 | Z31: 7604.7116 | AA31: 33.028515 | AB31: 9.3335352 | AC31: -13.05105 | AD31: 12.433018 | AE31: -1.0497089
A32: Romania | B32: 956 | C32: 45653.423 | D32: 34.990815 | E32: 5.2784453 | F32: 40.988574 | G32: 383 | H32: 13926.883 | I32: 29.663045 | J32: 8.4237499 | K32: 43.034852 | L32: 214 | M32: 18513.614 | N32: 38.197035 | O32: 9.0853004 | P32: -8.5339902 | Q32: 11.965253 | R32: -0.71323105 | S32: 54.11195 | T32: 215 | U32: 19001.29 | V32: 29.495182 | W32: 7.5380212 | X32: 21.923392 | Y32: 317 | Z32: 9244.7439 | AA32: 35.087502 | AB32: 13.000361 | AC32: 5.5923202 | AD32: 15.259477 | AE32: 0.36648177
A33: Slovenia | B33: 993 | C33: 6095.0724 | D33: 29.267355 | E33: 3.9161504 | F33: 61.655185 | G33: 619 | H33: 3785.223 | I33: 31.35958 | J33: 5.4640755 | K33: 17.775327 | L33: 140 | M33: 923.83523 | N33: 26.547602 | O33: 8.9068961 | P33: 4.8119778 | Q33: 9.6301575 | R33: 0.49967799 | S33: 73.139403 | T33: 667 | U33: 4216.5622 | V33: 28.692145 | W33: 4.3332968 | X33: 11.473103 | Y33: 147 | Z33: 855.19396 | AA33: 37.097074 | AB33: 12.129503 | AC33: 8.4049285 | AD33: 12.414415 | AE33: 0.67702975
A34: Slovak Republic | B34: 320 | C34: 4922.3658 | D34: 10.096531 | E34: 2.5590537 | F34: 88.765922 | G34: 288 | H34: 4395.3804 | I34: 10.570352 | J34: 2.8696429 | K34: 7.3775017 | L34: 10 | M34: 213.15 | N34: 6.128017 | O34: 6.1938044 | P34: 4.4423349 | Q34: 6.8454761 | R34: 0.64894462 | S34: 52.567315 | T34: 115 | U34: 2016.4491 | V34: 8.0188593 | W34: 3.1522075 | X34: 13.957999 | Y34: 99 | Z34: 1407.6476 | AA34: 20.859277 | AB34: 8.8123914 | AC34: 12.840418 | AD34: 9.366536 | AE34: 1.3708822
A35: Finland | B35: 1576 | C35: 20835.002 | D35: 37.322085 | E35: 3.9824506 | F35: 39.800331 | G35: 517 | H35: 6936.6933 | I35: 33.386015 | J35: 6.750745 | K35: 31.027883 | L35: 348 | M35: 4430.0303 | N35: 29.028307 | O35: 6.6914344 | P35: 4.3577082 | Q35: 9.5788491 | R35: 0.45493025 | S35: 23.334255 | T35: 300 | U35: 4216.7607 | V35: 33.88362 | W35: 8.0649171 | X35: 32.627809 | Y35: 444 | Z35: 6426.6167 | AA35: 38.502661 | AB35: 6.8372905 | AC35: 4.6190415 | AD35: 10.234301 | AE35: 0.45132945
A36: Sweden | B36: 1664 | C36: 53988.948 | D36: 53.923018 | E36: 4.249809 | F36: 63.184828 | G36: 856 | H36: 27079.072 | I36: 55.363186 | J36: 5.6275836 | K36: 21.769992 | L36: 212 | M36: 8021.1186 | N36: 49.570417 | O36: 9.0881124 | P36: 5.7927688 | Q36: 10.280819 | R36: 0.56345404 | S36: 25.407581 | T36: 326 | U36: 10968.719 | V36: 51.036744 | W36: 8.7933256 | X36: 34.904527 | Y36: 606 | Z36: 20063.303 | AA36: 69.406139 | AB36: 7.935817 | AC36: 18.369395 | AD36: 12.215389 | AE36: 1.5037913
A37: Bosnia and Herzegovina | B37: 361 | C37: 2756.936 | D37: 25.458501 | E37: 5.5686341 | F37: 75.459988 | G37: 225 | H37: 1846.6058 | I37: 28.944002 | J37: 7.322478 | K37: 11.061626 | L37: 14 | M37: 182.23116 | N37: 20.126776 | O37: 21.417275 | P37: 8.8172265 | Q37: 22.63445 | R37: 0.38954896 | S37: 66.129446 | T37: 148 | U37: 1031.5814 | V37: 17.285311 | W37: 6.2421005 | X37: 15.221345 | Y37: 81 | Z37: 695.39292 | AA37: 37.701435 | AB37: 15.493858 | AC37: 20.416124 | AD37: 16.554841 | AE37: 1.2332419
A38: Norway | B38: 1855 | C38: 22173.342 | D38: 45.463912 | E38: 4.5956564 | F38: : | G38: : | H38: : | I38: : | J38: : | K38: : | L38: : | M38: : | N38: : | O38: : | P38: : | Q38: : | R38: : | S38: 46.205448 | T38: 372 | U38: 7014.2599 | V38: 38.960875 | W38: 7.9442412 | X38: 22.718868 | Y38: 663 | Z38: 5358.7024 | AA38: 52.380301 | AB38: 9.880809 | AC38: 13.419426 | AD38: 13.013734 | AE38: 1.0311741
A39: Serbia | B39: 855 | C39: 16443.964 | D39: 29.159731 | E39: 3.8520066 | F39: 38.233255 | G39: 336 | H39: 5834.2233 | I39: 27.69535 | J39: 6.3062453 | K39: 32.742481 | L39: 218 | M39: 4315.8456 | N39: 24.644106 | O39: 6.6260979 | P39: 3.0512444 | Q39: 9.0682623 | R39: 0.33647509 | S39: 41.969582 | T39: 234 | U39: 5140.4822 | V39: 22.009978 | W39: 5.2480957 | X39: 32.020467 | Y39: 284 | Z39: 5377.3092 | AA39: 30.577265 | AB39: 7.6971742 | AC39: 8.5672868 | AD39: 9.2746889 | AE39: 0.92372767
A40: Netherlands* | B40: 714 | C40: 94945.205 | D40: 72.675174 | E40: 7.4447752 | F40: : | G40: : | H40: : | I40: : | J40: : | K40: : | L40: : | M40: : | N40: : | O40: : | P40: : | Q40: : | R40: : | S40: 13.389933 | T40: 47 | U40: 9600.4662 | V40: 71.698329 | W40: 38.23635 | X40: 35.698552 | Y40: 74 | Z40: 18583.129 | AA40: 71.22436 | AB40: 19.367831 | AC40: -0.4739682 | AD40: 42.86177 | AE40: -0.011058064
A42: Notes:
A43: Variables | B43: ICT Resources/Availability of technology resources/A school intranet with applications and workspaces (II3G04H). Based on the question of the ICILS ICT Coordinator questionnaire: CQ04H “Are the following technology resources made available by your school to teachers and students? – A school intranet with applications and workspaces”. Percentages reflect the share of students in schools who chose option 1.
B44: School composition (P_COMP).
B45: School location (IP3G05): The original categories of the school location variable (IP3G05) were transformed, merging the two first categories “1: In a community with fewer than 3,000 people” and “2: In a town with at least 3,000 but less than 15,000 people” and the two last categories “4: In a city with at least 100,000 but less than 1,000,000 people” and “5: In a city with 1,000,000 or more people”. The gaps show percentage point differences between schools located in towns/communities with less than 15,000 people and schools located in towns/cities with more than 100,000 people.
A46: * | B46: Did not meet guideline for sampling participation rate for reporting.

Sheet Table 1.12
A1: Title: | B1: =Contents!B2 -> Digital education at school in Europe: Bridging gaps in access, teaching and learning - 2026 | K1: Contents
A2: Chapters: | B2: ='Table 1.1'!B2 -> Chapter 1: Top-level governance for digital technologies in schools
B3: ='Table 1.1'!B3 -> Chapter 2: Digital equity and inclusion
A4: Figures: | B4: Figure 1.9: Availability of digital platforms in schools to both teachers and students
B5: Figure 2.8: Percentage point gaps between schools with more affluent and more disadvantageous socioeconomic mix in specific technology infrastructure resources made available to both teachers and students
B6: Figure 2.12: Percentage point gaps between schools in small villages/towns and in big cities in specific technology infrastructure resources made available to both teachers and students
A7: Reference year: | B7: 2023
A9: Table: | B9: Table 1.12: Percentage of students in schools where a learning management system is made available to students and teachers
A10: Source: | B10: Eurydice, based on IEA, ICILS 2023 database.
B14: All schools | F14: Schools with more affluent than disadvantaged students | K14: Schools with more disadvantaged than affluent students | P14: Difference between the two sub-groups | S14: Schools in small communities/villages | X14: Schools in larger towns/cities | AC14: Difference between the two sub-groups
B15: Number of cases | C15: Weighted number of cases | D15: % | E15: S.E. | F15: Weighted percentage of students in this type of school | G15: Number of cases | H15: Weighted number of cases | I15: % | J15: S.E. | K15: Weighted percentage of students in this type of school | L15: Number of cases | M15: Weighted number of cases | N15: % | O15: S.E. | P15: Difference in percentage points | Q15: S.E. | R15: t value | S15: Weighted percentage of students in this type of school | T15: Number of cases | U15: Weighted number of cases | V15: % | W15: S.E. | X15: Weighted percentage of students in this type of school | Y15: Number of cases | Z15: Weighted number of cases | AA15: % | AB15: S.E. | AC15: Difference in percentage points | AD15: S.E. | AE15: t value
A16: Belgium (Flemish Community) | B16: 2973 | C16: 64007.461 | D16: 97.546975 | E16: 1.7668359 | F16: : | G16: : | H16: : | I16: : | J16: : | K16: : | L16: : | M16: : | N16: : | O16: : | P16: : | Q16: : | R16: : | S16: 14.323316 | T16: 345 | U16: 7228.4037 | V16: 92.019535 | W16: 7.7364164 | X16: 15.59389 | Y16: 394 | Z16: 9188.2803 | AA16: 100 | AB16: 0 | AC16: 7.9804653 | AD16: 7.7364164 | AE16: 1.0315455
A17: Czechia | B17: 7434 | C17: 104804.32 | D17: 93.065561 | E17: 1.7748626 | F17: 77.215762 | G17: 5459 | H17: 79071.235 | I17: 92.107629 | J17: 2.1165367 | K17: 9.9559988 | L17: 715 | M17: 10150.656 | N17: 90.756972 | O17: 6.0704334 | P17: 1.3506575 | Q17: 6.2444771 | R17: 0.21629633 | S17: 52.240139 | T17: 3347 | U17: 55109.976 | V17: 94.34668 | W17: 2.1980811 | X17: 18.697311 | Y17: 1439 | Z17: 18808.209 | AA17: 95.790705 | AB17: 2.9896195 | AC17: 1.4440256 | AD17: 3.7240477 | AE17: 0.38775701
A18: Denmark | B18: 2113 | C18: 41707.197 | D18: 89.012754 | E18: 3.4738452 | F18: 65.074226 | G18: 1043 | H18: 21225.538 | I18: 88.353788 | J18: 4.7063202 | K18: 17.850214 | L18: 303 | M18: 6476.3075 | N18: 100 | O18: 0 | P18: -11.646212 | Q18: 4.7063202 | R18: -2.4745898 | S18: 50.33561 | T18: 872 | U18: 16896.377 | V18: 85.513174 | W18: 6.2117052 | X18: 22.436561 | Y18: 347 | Z18: 7520.6001 | AA18: 92.563894 | AB18: 1.819915 | AC18: 7.0507197 | AD18: 6.0901461 | AE18: 1.1577259
A19: Germany | B19: 3567 | C19: 470504.74 | D19: 78.322424 | E19: 2.8827078 | F19: 29.722649 | G19: 1151 | H19: 147861.48 | I19: 89.0711 | J19: 4.8123265 | K19: 51.698222 | L19: 1415 | M19: 192504.96 | N19: 72.516366 | O19: 5.9233105 | P19: 16.554734 | Q19: 7.7929787 | R19: 2.1243141 | S19: 23.01703 | T19: 379 | U19: 75595.568 | V19: 66.882554 | W19: 9.0186445 | X19: 31.271936 | Y19: 1226 | Z19: 121531.11 | AA19: 71.287563 | AB19: 5.3615378 | AC19: 4.4050087 | AD19: 10.726721 | AE19: 0.41065753
A20: Greece | B20: 1051 | C20: 28673.084 | D20: 34.938213 | E20: 4.3144198 | F20: 64.849305 | G20: 579 | H20: 15395.015 | I20: 32.296259 | J20: 5.470506 | K20: 20.040077 | L20: 224 | M20: 7160.4822 | N20: 49.4992 | O20: 9.9053344 | P20: -17.202942 | Q20: 11.041118 | R20: -1.5580797 | S20: 27.592206 | T20: 294 | U20: 7519.4314 | V20: 34.436832 | W20: 8.5681941 | X20: 29.182836 | Y20: 242 | Z20: 6876.9263 | AA20: 32.156394 | AB20: 8.5411544 | AC20: -2.2804376 | AD20: 11.930528 | AE20: -0.19114306
A21: Spain | B21: 10266 | C21: 438812.28 | D21: 93.443288 | E21: 1.7857368 | F21: 68.390599 | G21: 6556 | H21: 269872.42 | I21: 93.149505 | J21: 2.3403678 | K21: 16.788733 | L21: 1620 | M21: 70401.233 | N21: 95.552327 | O21: 3.0811078 | P21: -2.402822 | Q21: 3.6428509 | R21: -0.65959932 | S21: 28.514488 | T21: 2477 | U21: 122697.95 | V21: 99.620312 | W21: 0.34618784 | X21: 37.613134 | Y21: 3695 | Z21: 148156.43 | AA21: 90.328156 | AB21: 3.6274692 | AC21: -9.292156 | AD21: 3.6539218 | AE21: -2.5430637
A22: France | B22: 1092 | C22: 254251.66 | D22: 39.596422 | E22: 4.3705384 | F22: 38.075107 | G22: 506 | H22: 110423.21 | I22: 49.118211 | J22: 7.8646304 | K22: 46.603719 | L22: 376 | M22: 94283.191 | N22: 37.157085 | O22: 7.1479252 | P22: 11.961126 | Q22: 10.587349 | R22: 1.1297564 | S22: 49.41762 | T22: 526 | U22: 120365.52 | V22: 43.750705 | W22: 7.5806852 | X22: 14.308944 | Y22: 157 | Z22: 37003.565 | AA22: 49.965225 | AB22: 13.846073 | AC22: 6.2145206 | AD22: 15.746574 | AE22: 0.39465859
A23: Croatia | B23: 1920 | C23: 24646.485 | D23: 69.510848 | E23: 4.2371205 | F23: 48.364748 | G23: 865 | H23: 11242.238 | I23: 75.111618 | J23: 5.5958418 | K23: 25.86297 | L23: 319 | M23: 4292.2075 | N23: 52.746405 | O23: 9.2730301 | P23: 22.365213 | Q23: 10.082334 | R23: 2.2182576 | S23: 50.958543 | T23: 742 | U23: 10961.579 | V23: 66.227257 | W23: 6.759413 | X23: 22.754847 | Y23: 426 | Z23: 5334.13 | AA23: 75.048755 | AB23: 8.1767857 | AC23: 8.8214983 | AD23: 10.749026 | AE23: 0.82067884
A24: Italy | B24: 2951 | C24: 467823.38 | D24: 92.435708 | E24: 2.351763 | F24: 40.303078 | G24: 992 | H24: 155273.4 | I24: 88.235847 | J24: 4.7964535 | K24: 43.125409 | L24: 1082 | M24: 180824.36 | N24: 95.666687 | O24: 3.2709657 | P24: -7.4308398 | Q24: 5.7777405 | R24: -1.2861152 | S24: 40.477714 | T24: 914 | U24: 159633.27 | V24: 90.28178 | W24: 4.1950776 | X24: 24.352233 | Y24: 673 | Z24: 102966.53 | AA24: 91.671938 | AB24: 5.5969411 | AC24: 1.3901572 | AD24: 6.8879406 | AE24: 0.2018248
A25: Cyprus | B25: 800 | C25: 2256.7895 | D25: 25.439401 | E25: 2.046345 | F25: 62.250489 | G25: 432 | H25: 1358.2105 | I25: 25.867435 | J25: 3.0857918 | K25: 18.43889 | L25: 153 | M25: 432 | N25: 27.093133 | O25: 4.1680512 | P25: -1.2256975 | Q25: 5.1839684 | R25: -0.23644 | S25: 35.160558 | T25: 299 | U25: 765.26316 | V25: 24.572848 | W25: 3.8201403 | X25: 37.971513 | Y25: 200 | Z25: 551.68421 | AA25: 18.197601 | AB25: 4.0370408 | AC25: -6.3752474 | AD25: 4.7787864 | AE25: -1.3340725
A26: Latvia | B26: 1312 | C26: 8681.7736 | D26: 47.922883 | E26: 4.1356339 | F26: 47.751106 | G26: 637 | H26: 4026.8495 | I26: 51.484807 | J26: 5.8390636 | K26: 28.087997 | L26: 245 | M26: 1792.3702 | N26: 40.032937 | O26: 8.4024122 | P26: 11.45187 | Q26: 10.384709 | R26: 1.1027627 | S26: 41.983911 | T26: 434 | U26: 3194.2302 | V26: 46.894546 | W26: 6.7651737 | X26: 28.510198 | Y26: 284 | Z26: 1778.6234 | AA26: 36.736017 | AB26: 7.0718472 | AC26: -10.158529 | AD26: 9.786654 | AE26: -1.0379982
A27: Luxembourg | B27: 1318 | C27: 1789.9469 | D27: 46.265172 | E27: 2.2329953 | F27: 26.003415 | G27: 230 | H27: 318.53498 | I27: 100 | J27: 0 | K27: 49.720352 | L27: 257 | M27: 377.25275 | N27: 50.05121 | O27: 4.9362458 | P27: 49.94879 | Q27: 4.9362458 | R27: 10.118781 | S27: 48.715463 | T27: 243 | U27: 332.03864 | V27: 25.147897 | W27: 3.4824112 | X27: 23.671921 | Y27: 317 | Z27: 443.54487 | AA27: 100 | AB27: 0 | AC27: 74.852103 | AD27: 3.4824112 | AE27: 21.494332
A28: Hungary | B28: 2492 | C28: 57180.867 | D28: 80.240042 | E28: 3.0156666 | F28: 65.777387 | G28: 1529 | H28: 33388.67 | I28: 79.885442 | J28: 4.0889735 | K28: 17.873216 | L28: 239 | M28: 8033.2471 | N28: 95.117693 | O28: 4.5518175 | P28: -15.232251 | Q28: 6.1960043 | R28: -2.458399 | S28: 41.898927 | T28: 583 | U28: 17508.491 | V28: 71.483328 | W28: 5.6413247 | X28: 31.065132 | Y28: 840 | Z28: 18582.025 | AA28: 91.192791 | AB28: 2.4077376 | AC28: 19.709463 | AD28: 6.1351276 | AE28: 3.2125596
A29: Malta | B29: 2477 | C29: 3455 | D29: 90.809532 | E29: 0.28574748 | F29: 63.556914 | G29: 1430 | H29: 2208.5 | I29: 96.885282 | J29: 0.074418563 | K29: 10.173067 | L29: 91 | M29: 192.5 | N29: 100 | O29: 0 | P29: -3.1147181 | Q29: 0.074418563 | R29: -41.854049 | S29: 69.51524 | T29: 1859 | U29: 2465.1667 | V29: 97.200499 | W29: 0.055700429 | X29: : | Y29: : | Z29: : | AA29: : | AB29: : | AC29: : | AD29: : | AE29: :
A30: Austria | B30: 3105 | C30: 68355.688 | D30: 98.597727 | E30: 1.0402948 | F30: 39.136298 | G30: 1147 | H30: 24502.622 | I30: 100 | J30: 0 | K30: 43.174121 | L30: 1112 | M30: 25890.629 | N30: 96.380996 | O30: 2.6846396 | P30: 3.6190037 | Q30: 2.6846396 | R30: 1.3480408 | S30: 59.898238 | T30: 1524 | U30: 37667.634 | V30: 100 | W30: 0 | X30: 29.128402 | Y30: 964 | Z30: 18213.988 | AA30: 94.932984 | AB30: 3.7014097 | AC30: -5.0670163 | AD30: 3.7014097 | AE30: -1.3689423
A31: Portugal | B31: 3233 | C31: 88652.667 | D31: 92.171572 | E31: 2.4177384 | F31: 40.951143 | G31: 1199 | H31: 34818.444 | I31: 95.220919 | J31: 2.8030458 | K31: 41.486706 | L31: 1274 | M31: 35027.478 | N31: 93.754822 | O31: 3.063095 | P31: 1.4660975 | Q31: 4.0517905 | R31: 0.3618394 | S31: 26.91522 | T31: 755 | U31: 23463.526 | V31: 96.38105 | W31: 2.5478373 | X31: 23.903578 | Y31: 707 | Z31: 19269.326 | AA31: 83.689856 | AB31: 6.1726008 | AC31: -12.691195 | AD31: 6.6489835 | AE31: -1.9087421
A32: Romania | B32: 2169 | C32: 95233.839 | D32: 72.991453 | E32: 4.2544084 | F32: 40.988574 | G32: 1014 | H32: 34299.069 | I32: 73.054024 | J32: 8.7345145 | K32: 43.034852 | L32: 420 | M32: 31342.045 | N32: 64.664481 | O32: 6.9594006 | P32: 8.3895433 | Q32: 11.393474 | R32: 0.73634636 | S32: 54.11195 | T32: 655 | U32: 44111.244 | V32: 68.472677 | W32: 5.2769374 | X32: 21.923392 | Y32: 737 | Z32: 20728.121 | AA32: 78.671515 | AB32: 9.3090579 | AC32: 10.198838 | AD32: 10.388474 | AE32: 0.98174555
A33: Slovenia | B33: 3048 | C33: 19243.582 | D33: 92.403945 | E33: 2.0826375 | F33: 61.655185 | G33: 1751 | H33: 10818.931 | I33: 89.632003 | J33: 3.0921914 | K33: 17.775327 | L33: 488 | M33: 3357.7073 | N33: 96.488069 | O33: 3.573518 | P33: -6.8560654 | Q33: 4.6966532 | R33: -1.4597768 | S33: 73.139403 | T33: 2113 | U33: 13587.205 | V33: 92.455901 | W33: 2.4167982 | X33: 11.473103 | Y33: 383 | Z33: 2305.2868 | AA33: 100 | AB33: 0 | AC33: 7.544099 | AD33: 2.4167982 | AE33: 3.1215262
A34: Slovak Republic | B34: 2803 | C34: 45455.267 | D34: 92.725077 | E34: 1.8685486 | F34: 88.765922 | G34: 2480 | H34: 40154.193 | I34: 95.946377 | J34: 1.7308568 | K34: 7.3775017 | L34: 132 | M34: 1926.8792 | N34: 55.397364 | O34: 14.569514 | P34: 40.549013 | Q34: 14.789203 | R34: 2.7417983 | S34: 52.567315 | T34: 1400 | U34: 23632.412 | V34: 92.986677 | W34: 2.165492 | X34: 13.957999 | Y34: 393 | Z34: 6123.0022 | AA34: 90.733931 | AB34: 6.1301284 | AC34: -2.2527468 | AD34: 6.3748959 | AE34: -0.35337781
A35: Finland | B35: 3817 | C35: 52399.12 | D35: 94.435972 | E35: 1.803959 | F35: 39.800331 | G35: 1362 | H35: 18816.009 | I35: 90.560665 | J35: 4.5456031 | K35: 31.027883 | L35: 1126 | M35: 14608.179 | N35: 97.892933 | O35: 2.0383574 | P35: -7.3322686 | Q35: 4.994158 | R35: -1.4681691 | S35: 23.334255 | T35: 800 | U35: 11708.79 | V35: 94.085537 | W35: 4.0659455 | X35: 32.627809 | Y35: 1191 | Z35: 15725.889 | AA35: 94.215761 | AB35: 4.0349414 | AC35: 0.13022367 | AD35: 5.7413421 | AE35: 0.022681747
A36: Sweden | B36: 2766 | C36: 89889.171 | D36: 89.7794 | E36: 2.7990491 | F36: 63.184828 | G36: 1400 | H36: 42953.99 | I36: 87.819471 | J36: 4.1487481 | K36: 21.769992 | L36: 408 | M36: 14929.917 | N36: 92.266707 | O36: 5.8484371 | P36: -4.4472363 | Q36: 7.110346 | R36: -0.62545991 | S36: 25.407581 | T36: 586 | U36: 20431.597 | V36: 95.066911 | W36: 3.4783223 | X36: 34.904527 | Y36: 755 | Z36: 23820.772 | AA36: 82.404568 | AB36: 6.5330767 | AC36: -12.662343 | AD36: 7.3257537 | AE36: -1.7284696
A37: Bosnia and Herzegovina | B37: 495 | C37: 4173.9734 | D37: 38.543915 | E37: 5.6228151 | F37: 75.459988 | G37: 308 | H37: 2648.1074 | I37: 41.50687 | J37: 7.6910904 | K37: 11.061626 | L37: 14 | M37: 182.23116 | N37: 20.126776 | O37: 21.417275 | P37: 21.380095 | Q37: 22.756373 | R37: 0.93952117 | S37: 66.129446 | T37: 271 | U37: 2299.3142 | V37: 38.527604 | W37: 7.3597478 | X37: 15.221345 | Y37: 81 | Z37: 752.6525 | AA37: 40.805821 | AB37: 15.872699 | AC37: 2.2782166 | AD37: 16.240175 | AE37: 0.14028276
A38: Norway | B38: 2502 | C38: 33030.26 | D38: 67.724786 | E38: 4.1877235 | F38: : | G38: : | H38: : | I38: : | J38: : | K38: : | L38: : | M38: : | N38: : | O38: : | P38: : | Q38: : | R38: : | S38: 46.205448 | T38: 646 | U38: 12567.919 | V38: 69.808811 | W38: 6.483222 | X38: 22.718868 | Y38: 843 | Z38: 7809.5355 | AA38: 76.336731 | AB38: 8.6489489 | AC38: 6.5279198 | AD38: 10.50714 | AE38: 0.62128416
A39: Serbia | B39: 950 | C39: 18641.136 | D39: 33.055931 | E39: 3.7430931 | F39: 38.233255 | G39: 220 | H39: 4280.1062 | I39: 20.317878 | J39: 6.3186665 | K39: 32.742481 | L39: 284 | M39: 5260.4398 | N39: 30.037876 | O39: 7.1414436 | P39: -9.7199973 | Q39: 9.9865485 | R39: -0.97330898 | S39: 41.969582 | T39: 301 | U39: 6184.2954 | V39: 26.479268 | W39: 5.3302122 | X39: 32.020467 | Y39: 261 | Z39: 5040.3921 | AA39: 28.661436 | AB39: 8.0847051 | AC39: 2.1821683 | AD39: 9.659367 | AE39: 0.22591215
A40: Netherlands* | B40: 972 | C40: 130643.24 | D40: 100 | E40: 0 | F40: : | G40: : | H40: : | I40: : | J40: : | K40: : | L40: : | M40: : | N40: : | O40: : | P40: : | Q40: : | R40: : | S40: 13.389933 | T40: 58 | U40: 13390.084 | V40: 100 | W40: 0 | X40: 35.698552 | Y40: 132 | Z40: 26090.974 | AA40: 100 | AB40: 0 | AC40: 0 | AD40: 0 | AE40: :
A42: Notes:
A43: Variables | B43: ICT Resources/Availability of technology resources/A learning management system (II3G04K). Based on the question of the ICILS ICT Coordinator questionnaire: CQ04K “Are the following technology resources made available by your school to teachers and students? – A learning management system”. Percentages reflect the share of students in schools who chose option 1.
B44: School composition (P_COMP).
B45: School location (IP3G05): The original categories of the school location variable (IP3G05) were transformed, merging the two first categories “1: In a community with fewer than 3,000 people” and “2: In a town with at least 3,000 but less than 15,000 people” and the two last categories “4: In a city with at least 100,000 but less than 1,000,000 people” and “5: In a city with 1,000,000 or more people”. The gaps show percentage point differences between schools located in towns/communities with less than 15,000 people and schools located in towns/cities with more than 100,000 people.
A46: * | B46: Did not meet guideline for sampling participation rate for reporting.

Sheet Table 1.13
A1: Title: | B1: =Contents!B2 -> Digital education at school in Europe: Bridging gaps in access, teaching and learning - 2026 | K1: Contents
A2: Chapters: | B2: ='Table 1.1'!B2 -> Chapter 1: Top-level governance for digital technologies in schools
B3: ='Table 1.1'!B3 -> Chapter 2: Digital equity and inclusion
A4: Figures: | B4: Figure 1.14: Availability of emerging technologies for teachers and students
B5: Figure 2.11: Percentage point gaps between schools in small villages/towns and in big cities in specific software resources made available to both teachers and students
A7: Reference year: | B7: 2023
A9: Table: | B9: Table 1.13: Percentage of students in schools where simulations and modelling software is made available to students and teachers
A10: Source: | B10: Eurydice, based on IEA, ICILS 2023 database.
B14: All schools | F14: Schools with more affluent than disadvantaged students | K14: Schools with more disadvantaged than affluent students | P14: Difference between the two sub-groups | S14: Schools in small communities/villages | X14: Schools in larger towns/cities | AC14: Difference between the two sub-groups
B15: Number of cases | C15: Weighted number of cases | D15: % | E15: S.E. | F15: Weighted percentage of students in this type of school | G15: Number of cases | H15: Weighted number of cases | I15: % | J15: S.E. | K15: Weighted percentage of students in this type of school | L15: Number of cases | M15: Weighted number of cases | N15: % | O15: S.E. | P15: Difference in percentage points | Q15: S.E. | R15: t value | S15: Weighted percentage of students in this type of school | T15: Number of cases | U15: Weighted number of cases | V15: % | W15: S.E. | X15: Weighted percentage of students in this type of school | Y15: Number of cases | Z15: Weighted number of cases | AA15: % | AB15: S.E. | AC15: Difference in percentage points | AD15: S.E. | AE15: t value
A16: Belgium (Flemish Community) | B16: 2113 | C16: 46264.129 | D16: 75.748384 | E16: 4.2346415 | F16: : | G16: : | H16: : | I16: : | J16: : | K16: : | L16: : | M16: : | N16: : | O16: : | P16: : | Q16: : | R16: : | S16: 14.323316 | T16: 221 | U16: 5289.9944 | V16: 67.34306 | W16: 13.45509 | X16: 15.59389 | Y16: 249 | Z16: 5737.0227 | AA16: 65.474488 | AB16: 11.834044 | AC16: -1.8685718 | AD16: 17.353049 | AE16: -0.10767974
A17: Czechia | B17: 1126 | C17: 10422.002 | D17: 9.3416327 | E17: 1.4029628 | F17: 77.215762 | G17: 766 | H17: 6557.1155 | I17: 7.7326085 | J17: 1.7611965 | K17: 9.9559988 | L17: 150 | M17: 1640.3085 | N17: 14.665991 | O17: 7.4930518 | P17: -6.9333821 | Q17: 8.2067524 | R17: -0.84483871 | S17: 52.240139 | T17: 438 | U17: 3617.2804 | V17: 6.3058509 | W17: 2.000407 | X17: 18.697311 | Y17: 191 | Z17: 2003.7431 | AA17: 10.205116 | AB17: 3.1530296 | AC17: 3.8992656 | AD17: 3.6695552 | AE17: 1.062599
A18: Denmark | B18: 1465 | C18: 29535.375 | D18: 66.951467 | E18: 3.8275301 | F18: 65.074226 | G18: 763 | H18: 16261.136 | I18: 72.036663 | J18: 5.9178065 | K18: 17.850214 | L18: 123 | M18: 2742.5173 | N18: 47.541353 | O18: 14.256118 | P18: 24.495309 | Q18: 15.89937 | R18: 1.5406466 | S18: 50.33561 | T18: 651 | U18: 12414.391 | V18: 66.634988 | W18: 6.8781727 | X18: 22.436561 | Y18: 268 | Z18: 6142.729 | AA18: 75.604993 | AB18: 9.5406035 | AC18: 8.9700056 | AD18: 13.582943 | AE18: 0.66038748
A19: Germany | B19: 1206 | C19: 160446.14 | D19: 27.20304 | E19: 3.9478446 | F19: 29.722649 | G19: 442 | H19: 59063.94 | I19: 36.470257 | J19: 9.098103 | K19: 51.698222 | L19: 425 | M19: 45284.425 | N19: 17.431375 | O19: 4.7787879 | P19: 19.038882 | Q19: 10.298155 | R19: 1.8487663 | S19: 23.01703 | T19: 154 | U19: 24311.474 | V19: 22.309336 | W19: 8.9585162 | X19: 31.271936 | Y19: 297 | Z19: 41998.822 | AA19: 25.669364 | AB19: 6.92442 | AC19: 3.3600275 | AD19: 11.160791 | AE19: 0.30105638
A20: Greece | B20: 527 | C20: 13490.54 | D20: 16.438252 | E20: 3.233064 | F20: 64.849305 | G20: 400 | H20: 10454.574 | I20: 21.932012 | J20: 4.8219848 | K20: 20.040077 | L20: 34 | M20: 753.20319 | N20: 5.206766 | O20: 3.735315 | P20: 16.725246 | Q20: 5.8896401 | R20: 2.8397738 | S20: 27.592206 | T20: 115 | U20: 2378.4143 | V20: 10.892453 | W20: 5.2020474 | X20: 29.182836 | Y20: 118 | Z20: 2743.6717 | AA20: 12.829364 | AB20: 4.7565875 | AC20: 1.9369107 | AD20: 6.8600157 | AE20: 0.28234785
A21: Spain | B21: 2969 | C21: 131475.36 | D21: 28.032845 | E21: 2.9064745 | F21: 68.390599 | G21: 1958 | H21: 85901.601 | I21: 29.71124 | J21: 4.2148203 | K21: 16.788733 | L21: 363 | M21: 16692.972 | N21: 22.656597 | O21: 6.73102 | P21: 7.0546431 | Q21: 8.3629321 | R21: 0.84356096 | S21: 28.514488 | T21: 629 | U21: 34655.087 | V21: 28.136986 | W21: 7.6406354 | X21: 37.613134 | Y21: 1214 | Z21: 47256.646 | AA21: 28.811478 | AB21: 4.4205046 | AC21: 0.67449186 | AD21: 8.9264868 | AE21: 0.075560731
