Workbook

Sheet CONTENTS
A1: Digital education at school in Europe: Bridging gaps in access, teaching and learning - 2026
A3: ='Table 1.1'!B2 -> Chapter 1: Top-level governance for digital technologies in schools
A4: ='Table 1.1'!$B$3 -> Table 1.1: Key aspects of top-level frameworks supporting access to and the use of digital technologies in schools, ISCED 24
A5: ='Table 1.2'!$B$3 -> Table 1.2: Governance models for internet connectivity in schools, ISCED 24
A6: ='Table 1.3'!$B$3 -> Table 1.3: Governance models for the provision of digital hardware in schools, ISCED 24
A7: ='Table 1.4'!$B$3 -> Table 1.4: Governance models for the provision of digital software in schools, ISCED 24
A8: ='Table 1.5'!$B$3 -> Table 1.5: Governance models for ensuring interoperability, ISCED 24
A9: ='Table 1.6'!$B$3 -> Table 1.6: Governance models for IT maintenance and technical support, ISCED 24
A10: ='Table 1.7'!$B$3 -> Table 1.7: Top-level frameworks on the integration of AI and other emerging technologies in schools, ISCED 24
A11: ='Table 1.8'!$B$3 -> Table 1.8: Large-scale initiatives supporting AI use in schools, ISCED 24
A13: ='Table 2.1'!B2 -> Chapter 2: Digital equity and inclusion
A14: ='Table 2.1'!$B$3 -> Table 2.1: Supporting internet connectivity and/or the provision of digital devices for home learning, ISCED 24
A15: ='Table 2.2'!$B$3 -> Table 2.2: Earmarked funding to support disadvantaged schools or schools in rural/remote areas, ISCED 24
A16: ='Table 2.3'!$B$3 -> Table 2.3: Access to assistive technologies for students with special needs within the school environment, ISCED 24
A18: ='Table 3.1'!B2 -> Chapter 3: School-level digital planning and quality assurance
A19: ='Table 3.1'!$B$3 -> Table 3.1: Top-level requirements or guidance for school digital plans, ISCED 24
A20: ='Table 3.2'!$B$3 -> Table 3.2: Top-level policy requirements or guidance for school-level use of digital technologies, ISCED 24
A21: ='Table 3.3'!$B$3 -> Table 3.3: Dedicated bodies/agencies supporting digital education in schools, ISCED 24
A22: ='Table 3.4'!$B$3 -> Table 3.4: Responsibilities of dedicated bodies/agencies for digital education in schools, ISCED 24
A23: ='Table 3.5'!$B$3 -> Table 3.5: Top-level requirements or guidance on quality assurance of digital education in schools, ISCED 24
A24: ='Table 3.6'!$B$3 -> Table 3.6: Aspects of top-level frameworks or recommendations on quality assurance (QA) of digital education in schools, ISCED 24
A25: ='Table 3.7'!$B$3 -> Table 3.7: Approaches to evaluation of digital education in schools, ISCED 24
A26: ='Table 3.8'!$B$3 -> Table 3.8: Mechanisms to support monitoring and continuous improvement in digital education in schools, ISCED 24
A28: ='Table 4.1'!$B$2 -> Chapter 4: Digital competence in national curricula and assessment frameworks
A29: ='Table 4.1'!$B$3 -> Table 4.1: Curriculum approaches to teaching digital competence, ISCED 24
A30: ='Table 4.2'!$B$3 -> Table 4.2: Compulsory starting level for teaching digital competence, ISCED 1, 24 and 34
A31: ='Table 4.3'!$B$3 -> Table 4.3: Inclusion of artificial intellegence (AI) related competences into national lower secondary education curricula, ISCED 24
A32: ='Table 4.4'!$B$3 -> Table 4.4: Integration of student's digital competence into top-level assessment frameworks and specified provisions, ISCED 24
A33: ='Table 4.5'!$B$3 -> Table 4.5: Assessment of student's digital competence through national/standardised tests, ISCED 24
A35: ='Table 5.1'!B2 -> Chapter 5: Integrating digital technologies into teaching
A36: ='Table 5.1'!$B$3 -> Table 5.1: Digital competence frameworks for ITE, ISCED 24
A37: ='Table 5.2'!$B$3 -> Table 5.2: Digital competence areas covered in ITE frameworks, ISCED 24
A38: ='Table 5.3'!$B$3 -> Table 5.3: Digital competence frameworks for CPD, ISCED 24
A39: ='Table 5.4'!$B$3 -> Table 5.4: Digital competence areas covered in CPD frameworks, ISCED 24
A40: ='Table 5.5'!$B$3 -> Table 5.5: Measures to promote the continuing development of teacher digital competences, ISCED 24
A41: ='Table 5.6'!$B$3 -> Table 5.6: Guidelines on emerging issues associated with the use of digital technologies, ISCED 24
A42: ='Table 5.7'!$B$3 -> Table 5.7: CPD and guidance documents on the integration of digital technologies for school leaders, ISCED 24
A43: ='Table 5.8'!$B$3 -> Table 5.8: Main role of school digital coordinators, ISCED 24

Sheet Table 1.1
A1: Title: | B1: Digital education at school in Europe 2026: Bridging gaps in access, teaching and learning
A2: Chapter: | B2: Chapter 1: Top-level governance for digital technologies in schools
A3: Table: | B3: Table 1.1: Key aspects of top-level frameworks supporting access to and the use of digital technologies in schools, ISCED 24
A4: Reference year: | B4: 2024/2025
A5: Figure in report: | B5: Figure 1 of the Executive summary, Figure 1.1
A6: Source: | B6: Eurydice
A7: Back to the contents
B9: Speed and reliability of internet connectivity | C9: Availability and technical specifications of digital hardware, device per student ratio | D9: Availability and technical specifications of digital software | E9: Interoperability guidelines to ensure compatibility between platforms and systems | F9: Technical support and IT maintenance in schools
A10: Belgium (French Community) | B10: 1 | C10: 1 | D10: 1 | E10: 1 | F10: 1
A11: Belgium (German-speaking Community) | B11: 1 | C11: 1 | D11: 1 | E11: 1 | F11: 1
A12: Belgium (Flemish Community) | B12: 1 | C12: 1 | D12: 1 | F12: 1
A13: Bulgaria | B13: 1 | C13: 1 | D13: 1 | E13: 1 | F13: 1
A14: Czechia | B14: 1 | C14: 1 | D14: 1 | F14: 1
A15: Denmark | B15: (-) | C15: (-) | D15: (-) | E15: (-) | F15: (-)
A16: Germany | B16: 1 | C16: 1 | D16: 1 | E16: 1 | F16: 1
A17: Estonia | B17: 1 | C17: 1 | D17: 1 | E17: 1 | F17: 1
A18: Ireland | B18: 1 | C18: 1 | D18: 1 | E18: 1 | F18: 1
A19: Greece | B19: 1 | C19: 1 | D19: 1
A20: Spain | B20: 1 | C20: 1 | D20: 1 | E20: 1 | F20: 1
A21: France | B21: 1 | C21: 1 | D21: 1 | E21: 1
A22: Croatia | B22: 1 | C22: 1 | D22: 1 | E22: 1 | F22: 1
A23: Italy | B23: 1 | C23: 1 | D23: 1 | E23: 1 | F23: 1
A24: Cyprus | B24: 1 | C24: 1 | D24: 1 | E24: 1 | F24: 1
A25: Latvia | B25: 1 | C25: 1 | D25: 1 | E25: 1 | F25: 1
A26: Lithuania | B26: 1 | C26: 1 | D26: 1 | E26: 1
A27: Luxembourg | B27: 1 | C27: 1 | D27: 1 | F27: 1
A28: Hungary | B28: 1 | C28: 1 | D28: 1 | E28: 1 | F28: 1
A29: Malta | B29: 1 | C29: 1 | D29: 1 | E29: 1 | F29: 1
A30: Netherlands | B30: 1 | D30: 1 | E30: 1 | F30: 1
A31: Austria | B31: 1 | C31: 1 | D31: 1 | E31: 1 | F31: 1
A32: Poland | B32: 1 | C32: 1 | D32: 1 | F32: 1
A33: Portugal | B33: 1 | C33: 1 | D33: 1 | E33: 1 | F33: 1
A34: Romania | B34: 1 | C34: 1 | D34: 1 | E34: 1 | F34: 1
A35: Slovenia | B35: 1 | C35: 1 | D35: 1 | F35: 1
A36: Slovakia | B36: 1 | C36: 1 | D36: 1
A37: Finland | B37: 1 | C37: 1 | D37: 1 | E37: 1
A38: Sweden | B38: 1 | C38: 1 | E38: 1
A39: Bosnia and Herzegovina
A40: Switzerland | B40: 1 | C40: 1 | D40: 1 | E40: 1 | F40: 1
A41: Iceland | B41: (-) | C41: (-) | D41: (-) | E41: (-) | F41: (-)
...

Sheet Table 1.2
A1: Title: | B1: Digital education at school in Europe 2026: Bridging gaps in access, teaching and learning
A2: Chapter: | B2: Chapter 1: Top-level governance for digital technologies in schools
A3: Table: | B3: Table 1.2: Governance models for internet connectivity in schools, ISCED 24
A4: Reference year: | B4: 2024/2025
A5: Figure in report: | B5: Figure 1.2
A6: Source: | B6: Eurydice
A7: Back to the contents
B9: Centralised governance with national implementation | C9: Multi-level governance with shared implementation | D9: No top-level requirements
A10: Belgium (French Community) | C10: 1
A11: Belgium (German-speaking Community) | B11: 1
A12: Belgium (Flemish Community) | C12: 1
A13: Bulgaria | B13: 1
A14: Czechia | C14: 1
A15: Denmark | D15: 1
A16: Germany | C16: 1
A17: Estonia | C17: 1
A18: Ireland | B18: 1
A19: Greece | B19: 1
A20: Spain | C20: 1
A21: France | C21: 1
A22: Croatia | B22: 1
A23: Italy | C23: 1
A24: Cyprus | C24: 1
A25: Latvia | C25: 1
A26: Lithuania | B26: 1
A27: Luxembourg | B27: 1
A28: Hungary | B28: 1
A29: Malta | C29: 1
A30: Netherlands | C30: 1
A31: Austria | C31: 1
A32: Poland | B32: 1
A33: Portugal | B33: 1
A34: Romania | B34: 1
A35: Slovenia | B35: 1
A36: Slovakia | C36: 1
A37: Finland | C37: 1
A38: Sweden | C38: 1
A39: Bosnia and Herzegovina | C39: 1 | D39: 1
A40: Switzerland | D40: 1
A41: Iceland | B41: 1
...

Sheet Table 1.3
A1: Title: | B1: Digital education at school in Europe 2026: Bridging gaps in access, teaching and learning
A2: Chapter: | B2: Chapter 1: Top-level governance for digital technologies in schools
A3: Table: | B3: Table 1.3: Governance models for the provision of digital hardware in schools, ISCED 24
A4: Reference year: | B4: 2024/2025
A5: Figure in report: | B5: Figure 1.5
A6: Source: | B6: Eurydice
A7: Back to the contents
B9: Centralised governance with national implementation | C9: Multi-level governance with shared implementation | D9: No top-level requirements
A10: Belgium (French Community) | C10: 1
A11: Belgium (German-speaking Community) | B11: 1
A12: Belgium (Flemish Community) | C12: 1
A13: Bulgaria | B13: 1
A14: Czechia | C14: 1
A15: Denmark | D15: 1
A16: Germany | C16: 1
A17: Estonia | C17: 1
A18: Ireland | C18: 1
A19: Greece | B19: 1
A20: Spain | C20: 1
A21: France | C21: 1
A22: Croatia | B22: 1
A23: Italy | C23: 1
A24: Cyprus | B24: 1
A25: Latvia | C25: 1
A26: Lithuania | C26: 1
A27: Luxembourg | B27: 1
A28: Hungary | B28: 1
A29: Malta | C29: 1
A30: Netherlands | D30: 1
A31: Austria | C31: 1
A32: Poland | C32: 1
A33: Portugal | B33: 1
A34: Romania | B34: 1
A35: Slovenia | B35: 1
A36: Slovakia | C36: 1
A37: Finland | C37: 1
A38: Sweden | C38: 1
A39: Bosnia and Herzegovina | D39: 1
A40: Switzerland | C40: 1
A41: Iceland | D41: 1
...

Sheet Table 1.4
A1: Title: | B1: Digital education at school in Europe 2026: Bridging gaps in access, teaching and learning
A2: Chapter: | B2: Chapter 1: Top-level governance for digital technologies in schools
A3: Table: | B3: Table 1.4: Governance models for the provision of digital software in schools, ISCED 24
A4: Reference year: | B4: 2024/2025
A5: Figure in report: | B5: Figure 1.7
A6: Source: | B6: Eurydice
A7: Back to the contents
B9: Centralised governance with national implementation | C9: Multi-level governance with shared implementation | D9: No top-level requirements
A10: Belgium (French Community) | C10: 1
A11: Belgium (German-speaking Community) | B11: 1
A12: Belgium (Flemish Community) | C12: 1
A13: Bulgaria | B13: 1
A14: Czechia | C14: 1
A15: Denmark | D15: 1
A16: Germany | C16: 1
A17: Estonia | B17: 1
A18: Ireland | C18: 1
A19: Greece | C19: 1
A20: Spain | C20: 1
A21: France | C21: 1
A22: Croatia | C22: 1
A23: Italy | C23: 1
A24: Cyprus | C24: 1
A25: Latvia | C25: 1
A26: Lithuania | C26: 1
A27: Luxembourg | C27: 1
A28: Hungary | B28: 1
A29: Malta | C29: 1
A30: Netherlands | C30: 1
A31: Austria | C31: 1
A32: Poland | C32: 1
A33: Portugal | C33: 1
A34: Romania | C34: 1
A35: Slovenia | B35: 1
A36: Slovakia | C36: 1
A37: Finland | C37: 1
A38: Sweden | D38: 1
A39: Bosnia and Herzegovina | D39: 1
A40: Switzerland | C40: 1
A41: Iceland | D41: 1
...

Sheet Table 1.5
A1: Title: | B1: Digital education at school in Europe 2026: Bridging gaps in access, teaching and learning
A2: Chapter: | B2: Chapter 1: Top-level governance for digital technologies in schools
A3: Table: | B3: Table 1.5: Governance models for ensuring interoperability, ISCED 24
A4: Reference year: | B4: 2024/2025
A5: Figure in report: | B5: Figure 1.10
A6: Source: | B6: Eurydice
A7: Back to the contents
B9: Centralised governance with national implementation | C9: Multi-level governance with shared implementation | D9: No top-level requirements
A10: Belgium (French Community) | C10: 1
A11: Belgium (German-speaking Community) | B11: 1
A12: Belgium (Flemish Community) | D12: 1
A13: Bulgaria | B13: 1
A14: Czechia | D14: 1
A15: Denmark | D15: 1
A16: Germany | B16: 1
A17: Estonia | B17: 1
A18: Ireland | C18: 1
A19: Greece | D19: 1
A20: Spain | C20: 1
A21: France | B21: 1
A22: Croatia | C22: 1
A23: Italy | C23: 1
A24: Cyprus | C24: 1
A25: Latvia | C25: 1
A26: Lithuania | C26: 1
A27: Luxembourg | D27: 1
A28: Hungary | B28: 1
A29: Malta | C29: 1
A30: Netherlands | C30: 1
A31: Austria | B31: 1
A32: Poland | D32: 1
A33: Portugal | C33: 1
A34: Romania | C34: 1
A35: Slovenia | D35: 1
A36: Slovakia | D36: 1
A37: Finland | C37: 1
A38: Sweden | C38: 1
A39: Bosnia and Herzegovina | D39: 1
A40: Switzerland | C40: 1
A41: Iceland | D41: 1
...

Sheet Table 1.6
A1: Title: | B1: Digital education at school in Europe 2026: Bridging gaps in access, teaching and learning
A2: Chapter: | B2: Chapter 1: Top-level governance for digital technologies in schools
A3: Table: | B3: Table 1.6: Governance models for IT maintenance and technical support, ISCED 24
A4: Reference year: | B4: 2024/2025
A5: Figure in report: | B5: Figure 1.11
A6: Source: | B6: Eurydice
A7: Back to the contents
B9: Centralised governance with national implementation | C9: Multi-level governance with shared implementation | D9: No top-level requirements
A10: Belgium (French Community) | C10: 1
A11: Belgium (German-speaking Community) | B11: 1
A12: Belgium (Flemish Community) | B12: 1
A13: Bulgaria | B13: 1
A14: Czechia | C14: 1
A15: Denmark | D15: 1
A16: Germany | C16: 1
A17: Estonia | C17: 1
A18: Ireland | B18: 1
A19: Greece | D19: 1
A20: Spain | C20: 1
A21: France | D21: 1
A22: Croatia | B22: 1
A23: Italy | C23: 1
A24: Cyprus | C24: 1
A25: Latvia | B25: 1
A26: Lithuania | D26: 1
A27: Luxembourg | B27: 1
A28: Hungary | B28: 1
A29: Malta | C29: 1
A30: Netherlands | C30: 1
A31: Austria | B31: 1
A32: Poland | C32: 1
A33: Portugal | C33: 1
A34: Romania | C34: 1
A35: Slovenia | C35: 1
A36: Slovakia | D36: 1
A37: Finland | D37: 1
A38: Sweden | D38: 1
A39: Bosnia and Herzegovina | D39: 1
A40: Switzerland | C40: 1
A41: Iceland | D41: 1
...

Sheet Table 1.7
A1: Title: | B1: Digital education at school in Europe 2026: Bridging gaps in access, teaching and learning
A2: Chapter: | B2: Chapter 1: Top-level governance for digital technologies in schools
A3: Table: | B3: Table 1.7: Top-level frameworks on the integration of AI and other emerging technologies in schools, ISCED 24
A4: Reference year: | B4: 2024/2025
A5: Figure in report: | B5: Figure 11 of the Executive summary, Figure 1.13
A6: Source: | B6: Eurydice
A7: Back to the contents
B9: Top-level framework reported | C9: Top-level framework set in a decentralised governance context | D9: No top-level framework reported
A10: Belgium (French Community) | B10: 1
A11: Belgium (German-speaking Community) | D11: 1
A12: Belgium (Flemish Community) | B12: 1
A13: Bulgaria | B13: 1
A14: Czechia | B14: 1
A15: Denmark | D15: 1
A16: Germany | B16: 1
A17: Estonia | B17: 1
A18: Ireland | B18: 1
A19: Greece | B19: 1
A20: Spain | B20: 1
A21: France | B21: 1
A22: Croatia | C22: 1
A23: Italy | B23: 1
A24: Cyprus | D24: 1
A25: Latvia | B25: 1
A26: Lithuania | B26: 1
A27: Luxembourg | D27: 1
A28: Hungary | B28: 1
A29: Malta | B29: 1
A30: Netherlands | B30: 1
A31: Austria | B31: 1
A32: Poland | B32: 1
A33: Portugal | C33: 1
A34: Romania | D34: 1
A35: Slovenia | C35: 1
A36: Slovakia | D36: 1
A37: Finland | B37: 1
A38: Sweden | C38: 1
A39: Bosnia and Herzegovina | D39: 1
A40: Switzerland | C40: 1
A41: Iceland | B41: 1
...

Sheet Table 1.8
A1: Title: | B1: Digital education at school in Europe 2026: Bridging gaps in access, teaching and learning
A2: Chapter: | B2: Chapter 1: Top-level governance for digital technologies in schools
A3: Table: | B3: Table 1.8: Large-scale initiatives supporting AI use in schools, ISCED 24
A4: Reference year: | B4: 2024/2025
A5: Figure in report: | B5: Figure 1.15
A6: Source: | B6: Eurydice
A7: Back to the contents
B9: At least one large-scale initiative reported | C9: No large-scale initiative reported
A10: Belgium (French Community) | C10: 1
A11: Belgium (German-speaking Community) | C11: 1
A12: Belgium (Flemish Community) | C12: 1
A13: Bulgaria | C13: 1
A14: Czechia | B14: 1
A15: Denmark | B15: 1
A16: Germany | C16: 1
A17: Estonia | C17: 1
A18: Ireland | B18: 1
A19: Greece | B19: 1
A20: Spain | B20: 1
A21: France | C21: 1
A22: Croatia | B22: 1
A23: Italy | B23: 1
A24: Cyprus | C24: 1
A25: Latvia | B25: 1
A26: Lithuania | C26: 1
A27: Luxembourg | B27: 1
A28: Hungary | C28: 1
A29: Malta | B29: 1
A30: Netherlands | B30: 1
A31: Austria | B31: 1
A32: Poland | B32: 1
A33: Portugal | C33: 1
A34: Romania | C34: 1
A35: Slovenia | B35: 1
A36: Slovakia | C36: 1
A37: Finland | B37: 1
A38: Sweden | C38: 1
A39: Bosnia and Herzegovina | C39: 1
A40: Switzerland | C40: 1
A41: Iceland | C41: 1
...

Sheet Table 2.1
A1: Title: | B1: Digital education at school in Europe 2026: Bridging gaps in access, teaching and learning
A2: Chapter: | B2: Chapter 2: Digital equity and inclusion
A3: Table: | B3: Table 2.1: Supporting internet connectivity and/or the provision of digital devices for home learning, ISCED 24
A4: Reference year: | B4: 2024/2025
A5: Figure in report: | B5: Figure 5 of the Executive summary, Figure 2.3
A6: Source: | B6: Eurydice
A7: Back to the contents
B9: Top-level measures/framework concerning the provision of digital devices for home learning | D9: Top-level measures concerning internet connectivity for home learning | F9: No top-level measures or framework
B10: Universal provision of digital devices for home learning | C10: Targeted provision of digital devices for home learning | D10: Universal internet connectivity measures | E10: Targeted measures concerning internet connectivity for home learning
A11: Belgium (French Community) | C11: 1
A12: Belgium (German-speaking Community) | F12: 1
A13: Belgium (Flemish Community) | C13: 1
A14: Bulgaria | F14: 1
A15: Czechia | C15: 1
A16: Denmark | B16: 1
A17: Germany | F17: 1
A18: Estonia | F18: 1
A19: Ireland | C19: 1
A20: Greece | C20: 1
A21: Spain | C21: 1
A22: France | F22: 1
A23: Croatia | C23: 1
A24: Italy | C24: 1
A25: Cyprus | C25: 1
A26: Latvia | C26: 1 | E26: 1
A27: Lithuania | C27: 1
A28: Luxembourg | C28: 1
A29: Hungary | C29: 1
A30: Malta | B30: 1
A31: Netherlands | C31: 1
A32: Austria | C32: 1
A33: Poland | C33: 1
A34: Portugal | C34: 1 | E34: 1
A35: Romania | C35: 1
A36: Slovenia | C36: 1
A37: Slovakia | E37: 1
A38: Finland | B38: 1
A39: Sweden | B39: 1
A40: Bosnia and Herzegovina | F40: 1
A41: Switzerland | F41: 1
...

Sheet Table 2.2
A1: Title: | B1: Digital education at school in Europe 2026: Bridging gaps in access, teaching and learning
A2: Chapter: | B2: Chapter 2: Digital equity and inclusion
A3: Table: | B3: Table 2.2: Earmarked funding to support disadvantaged schools or schools in rural/remote areas, ISCED 24
A4: Reference year: | B4: 2024/2025
A5: Figure in report: | B5: Figure 2.13
A6: Source: | B6: Eurydice
A7: Back to the contents
B9: Earmarked top-level funding to support socioeconomically disadvantaged schools | C9: Earmarked top-level funding to support schools in rural/remote areas | D9: No targeted top-level funding
A10: Belgium (French Community) | D10: 1
A11: Belgium (German-speaking Community) | D11: 1
A12: Belgium (Flemish Community) | D12: 1
A13: Bulgaria | D13: 1
A14: Czechia | D14: 1
A15: Denmark | D15: 1
A16: Germany | D16: 1
A17: Estonia | D17: 1
A18: Ireland | B18: 1
A19: Greece | D19: 1
A20: Spain | D20: 1
A21: France | B21: 1 | C21: 1
A22: Croatia | B22: 1 | C22: 1
A23: Italy | C23: 1
A24: Cyprus | C24: 1
A25: Latvia | C25: 1
A26: Lithuania | D26: 1
A27: Luxembourg | D27: 1
A28: Hungary | C28: 1
A29: Malta | D29: 1
A30: Netherlands | D30: 1
A31: Austria | D31: 1
A32: Poland | C32: 1
A33: Portugal | D33: 1
A34: Romania | D34: 1
A35: Slovenia | D35: 1
A36: Slovakia | D36: 1
A37: Finland | D37: 1
A38: Sweden | D38: 1
A39: Bosnia and Herzegovina | D39: 1
A40: Switzerland | D40: 1
A41: Iceland | D41: 1
...

Sheet Table 2.3
A1: Title: | B1: Digital education at school in Europe 2026: Bridging gaps in access, teaching and learning
A2: Chapter: | B2: Chapter 2: Digital equity and inclusion
A3: Table: | B3: Table 2.3: Access to assistive technologies for students with special needs within the school environment, ISCED 24
A4: Reference year: | B4: 2024/2025
A5: Figure in report: | B5: Figure 2.14
A6: Source: | B6: Eurydice
A7: Back to the contents
B9: Top-level measures ensuring access to assistive technologies for students with special needs within the school environment | C9: No top-level measures
A10: Belgium (French Community) | B10: 1
A11: Belgium (German-speaking Community) | B11: 1
A12: Belgium (Flemish Community) | B12: 1
A13: Bulgaria | C13: 1
A14: Czechia | B14: 1
A15: Denmark | B15: 1
A16: Germany | B16: 1
A17: Estonia | B17: 1
A18: Ireland | B18: 1
A19: Greece | B19: 1
A20: Spain | B20: 1
A21: France | B21: 1
A22: Croatia | B22: 1
A23: Italy | B23: 1
A24: Cyprus | B24: 1
A25: Latvia | B25: 1
... A33: Portugal | B33: 1
A34: Romania | C34: 1
A35: Slovenia | B35: 1
A36: Slovakia | B36: 1
A37: Finland | B37: 1
A38: Sweden | B38: 1
A39: Bosnia and Herzegovina | C39: 1
A40: Switzerland | B40: 1
A41: Iceland | B41: 1
A42: Liechtenstein | C42: 1
A43: Montenegro | B43: 1
A44: North Macedonia | B44: 1
A45: Norway | B45: 1
A46: Serbia | C46: 1
A47: Türkiye | B47: 1

Sheet Table 3.1
A1: Title: | B1: Digital education at school in Europe 2026: Bridging gaps in access, teaching and learning
A2: Chapter: | B2: Chapter 3: School-level digital planning and quality assurance
A3: Table: | B3: Table 3.1: Top-level requirements or guidance for school digital plans, ISCED 24
A4: Reference year: | B4: 2024/2025
A5: Figure in report: | B5: Figure 3.1
A6: Source: | B6: Eurydice
A7: Back to the contents
B9: Mandatory top-level requirements or guidance for a school digital strategy/plan | C9: Non-mandatory top-level guidance for a school digital strategy/plan | D9: No top-level requirements or guidance reported
A10: Belgium (French Community) | C10: 1
A11: Belgium (German-speaking Community) | B11: 1
A12: Belgium (Flemish Community) | C12: 1
A13: Bulgaria | C13: 1
A14: Czechia | C14: 1
A15: Denmark | D15: 1
A16: Germany | C16: 1
A17: Estonia | C17: 1
A18: Ireland | B18: 1
A19: Greece | C19: 1
A20: Spain | B20: 1
A21: France | C21: 1
A22: Croatia | C22: 1
A23: Italy | B23: 1
A24: Cyprus | C24: 1
A25: Latvia | B25: 1
A26: Lithuania | C26: 1
A27: Luxembourg | B27: 1
A28: Hungary | C28: 1
A29: Malta | C29: 1
A30: Netherlands | D30: 1
A31: Austria | B31: 1
A32: Poland | B32: 1
A33: Portugal | C33: 1
A34: Romania | C34: 1
A35: Slovenia | C35: 1
A36: Slovakia | C36: 1
A37: Finland | C37: 1
A38: Sweden | C38: 1
A39: Bosnia and Herzegovina | D39: 1
A40: Switzerland | C40: 1
A41: Iceland | D41: 1
...

Sheet Table 3.2
A1: Title: | B1: Digital education at school in Europe 2026: Bridging gaps in access, teaching and learning
A2: Chapter: | B2: Chapter 3: School-level digital planning and quality assurance
A3: Table: | B3: Table 3.2: Top-level policy requirements or guidance for school-level use of digital technologies, ISCED 24
A4: Reference year: | B4: 2024/2025
A5: Figure in report: | B5: Figure 2 of the Executive summary, Figure 3.5
A6: Source: | B6: Eurydice
A7: Back to the contents
B9: Regulated use of digital devices | C9: Digital infrastructure and resource planning | D9: Use of digital learning resources | E9: Cybersecurity and data protection | F9: Parental engagement in children’s digital learning | G9: Collaboration with stakeholders, including educational technology
A10: Belgium (French Community) | B10: 1 | C10: 2 | D10: 2 | E10: 2
A11: Belgium (German-speaking Community) | B11: 1 | C11: 1 | D11: 2 | E11: 1 | G11: 1
A12: Belgium (Flemish Community) | B12: 1 | D12: 2 | E12: 2 | F12: 2
A13: Bulgaria | B13: 1 | C13: 2 | D13: 2 | E13: 2 | G13: 2
A14: Czechia | B14: 2 | C14: 2 | D14: 2 | E14: 1 | F14: 2 | G14: 2
A15: Denmark | B15: 2 | C15: 2 | D15: 2 | E15: 1
A16: Germany | B16: 2 | C16: 2 | D16: 2 | E16: 2 | F16: 2 | G16: 2
A17: Estonia | B17: 1 | C17: 2 | D17: 1 | E17: 2 | F17: 2 | G17: 2
A18: Ireland | B18: 1 | C18: 2 | D18: 2 | E18: 2 | F18: 2
A19: Greece | B19: 1 | C19: 2 | D19: 2 | E19: 2 | F19: 2 | G19: 1
A20: Spain | B20: 2 | C20: 1 | D20: 2 | E20: 1 | F20: 2 | G20: 2
A21: France | B21: 1 | D21: 2 | E21: 1 | F21: 2 | G21: 2
A22: Croatia | B22: 1 | C22: 2 | D22: 2 | E22: 2 | F22: 2
A23: Italy | B23: 1 | C23: 1 | D23: 2 | E23: 1 | F23: 2 | G23: 2
A24: Cyprus | B24: 1 | C24: 1 | D24: 1 | E24: 1 | F24: 2 | G24: 2
A25: Latvia | B25: 1 | C25: 2 | D25: 2 | E25: 1 | F25: 2 | G25: 2
A26: Lithuania | B26: 1 | C26: 1 | D26: 2 | E26: 1 | G26: 1
A27: Luxembourg | B27: 1 | C27: 2 | E27: 2 | F27: 2
A28: Hungary | B28: 1 | C28: 2 | D28: 2 | E28: 2 | F28: 2 | G28: 2
A29: Malta | B29: 1 | C29: 2 | D29: 2 | E29: 2 | F29: 2 | G29: 2
A30: Netherlands | B30: 2 | C30: 2 | D30: 2 | E30: 1 | G30: 2
A31: Austria | B31: 1 | C31: 1 | D31: 2 | E31: 1 | F31: 2
A32: Poland | B32: 1 | C32: 1 | D32: 2 | E32: 1 | F32: 2
A33: Portugal | B33: 1 | C33: 2 | D33: 2 | E33: 1 | F33: 2 | G33: 2
A34: Romania | B34: 1 | C34: 2 | D34: 2 | E34: 2 | F34: 2 | G34: 2
A35: Slovenia | B35: 1 | C35: 2 | E35: 1 | F35: 2 | G35: 2
A36: Slovakia | B36: 1 | C36: 2 | D36: 2 | E36: 2 | F36: 2 | G36: 2
A37: Finland | B37: 1 | C37: 1 | D37: 2 | E37: 1
A38: Sweden | B38: 1 | C38: 1 | D38: 2 | E38: 1
A39: Bosnia and Herzegovina | B39: 2 | C39: 2
A40: Switzerland | B40: 2 | C40: 1 | E40: 1 | F40: 2
A41: Iceland | B41: 2 | E41: 1 | F41: 2
...

Sheet Table 3.3
A1: Title: | B1: Digital education at school in Europe 2026: Bridging gaps in access, teaching and learning
A2: Chapter: | B2: Chapter 3: School-level digital planning and quality assurance
A3: Table: | B3: Table 3.3: Dedicated bodies/agencies supporting digital education in schools, ISCED 24
A4: Reference year: | B4: 2024/2025
A5: Figure in report: | B5: Figure 3.6
A6: Source: | B6: Eurydice
A7: Back to the contents
B9: Reported a body/agency supporting digital education in schools | C9: No body/agency reported
A10: Belgium (French Community) | B10: 1
A11: Belgium (German-speaking Community) | B11: 1
A12: Belgium (Flemish Community) | B12: 1
A13: Bulgaria | C13: 1
A14: Czechia | B14: 1
A15: Denmark | B15: 1
A16: Germany | B16: 1
A17: Estonia | B17: 1
A18: Ireland | B18: 1
A19: Greece | B19: 1
A20: Spain | B20: 1
A21: France | B21: 1
A22: Croatia | B22: 1
A23: Italy | B23: 1
A24: Cyprus | B24: 1
A25: Latvia | B25: 1
... A33: Portugal | B33: 1
A34: Romania | C34: 1
A35: Slovenia | B35: 1
A36: Slovakia | B36: 1
A37: Finland | B37: 1
A38: Sweden | B38: 1
A39: Bosnia and Herzegovina | C39: 1
A40: Switzerland | B40: 1
A41: Iceland | C41: 1
A42: Liechtenstein | B42: 1
A43: Montenegro | C43: 1
A44: North Macedonia | C44: 1
A45: Norway | B45: 1
A46: Serbia | B46: 1
A47: Türkiye | B47: 1
A49: Explanatory note:
...

Sheet Table 3.4
A1: Title: | B1: Digital education at school in Europe 2026: Bridging gaps in access, teaching and learning
A2: Chapter: | B2: Chapter 3: School-level digital planning and quality assurance
A3: Table: | B3: Table 3.4: Responsibilities of dedicated bodies/agencies for digital education in schools, ISCED 24
A4: Reference year: | B4: 2024/2025
A5: Figure in report: | B5: Figure 3.7
A6: Source: | B6: Eurydice
A7: Back to the contents
B9: Training of teachers | C9: Management of online platforms | D9: Quality assurance | E9: Technical support | F9: Monitoring and evaluation | G9: Other (e.g. data governance, stakeholder coordination)
A10: Belgium (French Community) | B10: 1 | C10: 1 | G10: 1
A11: Belgium (German-speaking Community) | B11: 1 | C11: 1 | D11: 1 | E11: 1 | F11: 1
A12: Belgium (Flemish Community) | B12: 1 | E12: 1 | F12: 1 | G12: 1
A13: Bulgaria
A14: Czechia | B14: 1 | C14: 1 | E14: 1
A15: Denmark | B15: 1
A16: Germany | B16: 1 | D16: 1 | F16: 1
A17: Estonia | B17: 1 | C17: 1 | E17: 1
A18: Ireland | B18: 1 | C18: 1 | E18: 1
A19: Greece | B19: 1 | C19: 1 | D19: 1 | E19: 1 | F19: 1 | G19: 1
A20: Spain | B20: 1 | C20: 1 | E20: 1 | G20: 1
A21: France | B21: 1 | D21: 1 | F21: 1
A22: Croatia | B22: 1 | C22: 1 | D22: 1 | E22: 1 | F22: 1 | G22: 1
A23: Italy | B23: 1 | C23: 1 | D23: 1 | E23: 1 | F23: 1
A24: Cyprus | B24: 1 | C24: 1 | E24: 1
A25: Latvia | B25: 1 | C25: 1 | D25: 1 | E25: 1 | F25: 1
A26: Lithuania | C26: 1 | F26: 1 | G26: 1
A27: Luxembourg | B27: 1 | C27: 1 | E27: 1 | F27: 1
A28: Hungary | B28: 1 | E28: 1
A29: Malta | B29: 1 | C29: 1 | D29: 1 | E29: 1
A30: Netherlands | B30: 1 | C30: 1 | D30: 1
A31: Austria | B31: 1 | C31: 1 | D31: 1 | G31: 1
A32: Poland | B32: 1 | C32: 1 | D32: 1 | E32: 1 | F32: 1 | G32: 1
A33: Portugal | B33: 1 | C33: 1 | G33: 1
A34: Romania
A35: Slovenia | B35: 1 | C35: 1 | D35: 1 | E35: 1
A36: Slovakia | B36: 1 | F36: 1 | G36: 1
A37: Finland | B37: 1 | G37: 1
A38: Sweden | B38: 1 | G38: 1
A39: Bosnia and Herzegovina
A40: Switzerland | D40: 1 | G40: 1
A41: Iceland
...

Sheet Table 3.5
A1: Title: | B1: Digital education at school in Europe 2026: Bridging gaps in access, teaching and learning
A2: Chapter: | B2: Chapter 3: School-level digital planning and quality assurance
A3: Table: | B3: Table 3.5: Top-level requirements or guidance on quality assurance of digital education in schools, ISCED 24
A4: Reference year: | B4: 2024/2025
A5: Figure in report: | B5: Figure 3.8
A6: Source: | B6: Eurydice
A7: Back to the contents
B9: Mandatory top-level requirements | C9: Non-mandatory top-level guidance | D9: Requirements or guidance set in a decentralised governance context | E9: No top-level requirements or guidance reported
A10: Belgium (French Community) | E10: 1
A11: Belgium (German-speaking Community) | D11: 1
A12: Belgium (Flemish Community) | D12: 1
A13: Bulgaria | E13: 1
A14: Czechia | B14: 1
A15: Denmark | D15: 1
A16: Germany | E16: 1
A17: Estonia | C17: 1
A18: Ireland | E18: 1
A19: Greece | C19: 1
A20: Spain | B20: 1
A21: France | C21: 1
A22: Croatia | E22: 1
A23: Italy | B23: 1
A24: Cyprus | B24: 1
A25: Latvia | B25: 1
A26: Lithuania | C26: 1
A27: Luxembourg | E27: 1
A28: Hungary | B28: 1
A29: Malta | C29: 1
A30: Netherlands | E30: 1
A31: Austria | B31: 1
A32: Poland | B32: 1
A33: Portugal | B33: 1
A34: Romania | B34: 1
A35: Slovenia | E35: 1
A36: Slovakia | E36: 1
A37: Finland | E37: 1
A38: Sweden | B38: 1
A39: Bosnia and Herzegovina | E39: 1
A40: Switzerland | D40: 1
A41: Iceland | E41: 1
...

Sheet Table 3.6
A1: Title: | B1: Digital education at school in Europe 2026: Bridging gaps in access, teaching and learning
A2: Chapter: | B2: Chapter 3: School-level digital planning and quality assurance
A3: Table: | B3: Table 3.6: Aspects of top-level frameworks or recommendations on quality assurance (QA) of digital education in schools, ISCED 24
A4: Reference year: | B4: 2024/2025
A5: Figure in report: | B5: Figure 3.9
A6: Source: | B6: Eurydice
A7: Back to the contents
B9: Quality of digital infrastructure | C9: Digital learning resources and integration of digital technologies | D9: Data privacy, cybersecurity and ethical use of technology | E9: Digital technologies in school management | F9: Resource planning and sustainability of digital tools | G9: Other
A10: Belgium (French Community)
A11: Belgium (German-speaking Community)
A12: Belgium (Flemish Community)
A13: Bulgaria
A14: Czechia | B14: 1 | C14: 1 | D14: 1 | F14: 1 | G14: 1
A15: Denmark
A16: Germany
A17: Estonia | B17: 1 | C17: 1 | D17: 1 | E17: 1 | F17: 1 | G17: 1
A18: Ireland
A19: Greece | B19: 1 | C19: 1 | D19: 1 | E19: 1 | F19: 1 | G19: 1
A20: Spain | B20: 1 | C20: 1 | D20: 1 | E20: 1 | F20: 1 | G20: 1
A21: France | B21: 1 | C21: 1 | D21: 1 | E21: 1
A22: Croatia
A23: Italy | B23: 1 | C23: 1 | D23: 1 | E23: 1 | F23: 1 | G23: 1
A24: Cyprus | B24: 1 | F24: 1
A25: Latvia | B25: 1 | C25: 1 | D25: 1 | E25: 1 | F25: 1 | G25: 1
A26: Lithuania | B26: 1 | C26: 1 | D26: 1 | F26: 1
A27: Luxembourg
A28: Hungary | B28: 1 | C28: 1 | D28: 1 | E28: 1 | F28: 1 | G28: 1
A29: Malta | B29: 1 | C29: 1 | D29: 1 | E29: 1 | F29: 1 | G29: 1
A30: Netherlands
A31: Austria | C31: 1 | D31: 1 | E31: 1
A32: Poland | C32: 1 | D32: 1 | G32: 1
A33: Portugal | B33: 1 | C33: 1 | D33: 1 | E33: 1 | G33: 1
A34: Romania | B34: 1 | C34: 1 | G34: 1
A35: Slovenia
A36: Slovakia
A37: Finland
A38: Sweden | C38: 1
A39: Bosnia and Herzegovina
A40: Switzerland
A41: Iceland
...

Sheet Table 3.7
A1: Title: | B1: Digital education at school in Europe 2026: Bridging gaps in access, teaching and learning
A2: Chapter: | B2: Chapter 3: School-level digital planning and quality assurance
A3: Table: | B3: Table 3.7: Approaches to evaluation of digital education in schools, ISCED 24
A4: Reference year: | B4: 2024/2025
A5: Figure in report: | B5: Figure 3.10
A6: Source: | B6: Eurydice
A7: Back to the contents
B9: Through a combination of external and internal evaluation | C9: Through external evaluation | D9: Through internal evaluation conducted at the school level | E9: No requirements or guidance
A10: Belgium (French Community) | E10: 1
A11: Belgium (German-speaking Community) | E11: 1
A12: Belgium (Flemish Community) | E12: 1
A13: Bulgaria | E13: 1
A14: Czechia | B14: 1
A15: Denmark | E15: 1
A16: Germany | E16: 1
A17: Estonia | D17: 1
A18: Ireland | E18: 1
A19: Greece | B19: 1
A20: Spain | B20: 1
A21: France | B21: 1
A22: Croatia | E22: 1
A23: Italy | B23: 1
A24: Cyprus | B24: 1
A25: Latvia | B25: 1
A26: Lithuania | B26: 1
A27: Luxembourg | E27: 1
A28: Hungary | C28: 1
A29: Malta | B29: 1
A30: Netherlands | E30: 1
A31: Austria | B31: 1
A32: Poland | B32: 1
A33: Portugal | B33: 1
A34: Romania | B34: 1
A35: Slovenia | E35: 1
A36: Slovakia | E36: 1
A37: Finland | E37: 1
A38: Sweden | B38: 1
A39: Bosnia and Herzegovina | E39: 1
A40: Switzerland | E40: 1
A41: Iceland | E41: 1
...

Sheet Table 3.8
A1: Title: | B1: Digital education at school in Europe 2026: Bridging gaps in access, teaching and learning
A2: Chapter: | B2: Chapter 3: School-level digital planning and quality assurance
A3: Table: | B3: Table 3.8: Mechanisms to support monitoring and continuous improvement in digital education in schools, ISCED 24
A4: Reference year: | B4: 2024/2025
A5: Figure in report: | B5: Figure 3.11
A6: Source: | B6: Eurydice
A7: Back to the contents
B9: Schools receive feedback reports from external evaluations with recommendations for improvement | C9: Schools are required to develop action plans based on internal or external evaluations | D9: No top-level quality assurance guidance
A10: Belgium (French Community) | D10: 1
A11: Belgium (German-speaking Community) | D11: 1
A12: Belgium (Flemish Community) | D12: 1
A13: Bulgaria | D13: 1
A14: Czechia | B14: 1
A15: Denmark | D15: 1
A16: Germany | D16: 1
A17: Estonia | C17: 1
A18: Ireland | D18: 1
A19: Greece | B19: 1 | C19: 1
A20: Spain | B20: 1 | C20: 1
A21: France | B21: 1
A22: Croatia | D22: 1
A23: Italy | C23: 1
A24: Cyprus | C24: 1
A25: Latvia | B25: 1 | C25: 1
A26: Lithuania | B26: 1 | C26: 1
A27: Luxembourg | D27: 1
A28: Hungary | C28: 1
A29: Malta | B29: 1 | C29: 1
A30: Netherlands | D30: 1
A31: Austria | B31: 1
A32: Poland | B32: 1 | C32: 1
A33: Portugal | B33: 1 | C33: 1
A34: Romania | B34: 1 | C34: 1
A35: Slovenia | D35: 1
A36: Slovakia | D36: 1
A37: Finland | D37: 1
A38: Sweden | B38: 1 | C38: 1
A39: Bosnia and Herzegovina | D39: 1
A40: Switzerland | D40: 1
A41: Iceland | D41: 1
...

Sheet Table 4.1
A1: Title: | B1: Digital education at school in Europe 2026: Bridging gaps in access, teaching and learning
A2: Chapter: | B2: Chapter 4: Digital competence in national curricula and assessment frameworks
A3: Table: | B3: Table 4.1: Curriculum approaches to teaching digital competence, ISCED 24
A4: Reference year: | B4: 2024/2025
A5: Figure in report: | B5: Figure 4 of the Executive summary, Figure 4.1
A6: Source: | B6: Eurydice
A7: Back to the contents
B9: Cross-curricular approach | C9: Separate (dedicated) compulsory subject | D9: Separate (dedicated) optional subject | E9: Digital competence is not a part of the curriculum in force
A10: Belgium (French Community) | E10: 1
A11: Belgium (German-speaking Community) | E11: 1
A12: Belgium (Flemish Community) | B12: 1
A13: Bulgaria | B13: 1 | C13: 1 | D13: 1
A14: Czechia | B14: 1 | C14: 1
A15: Denmark | B15: 1
A16: Germany | B16: 1 | C16: 1
A17: Estonia | B17: 1 | D17: 1
A18: Ireland | B18: 1 | D18: 1
A19: Greece | B19: 1 | C19: 1
A20: Spain | B20: 1 | C20: 1 | D20: 1
A21: France | B21: 1
A22: Croatia | B22: 1 | C22: 1 | D22: 1
A23: Italy | B23: 1
A24: Cyprus | C24: 1
A25: Latvia | B25: 1 | C25: 1
A26: Lithuania | B26: 1 | C26: 1
A27: Luxembourg | B27: 1 | C27: 1 | D27: 1
A28: Hungary | B28: 1 | C28: 1
A29: Malta | B29: 1 | C29: 1 | D29: 1
A30: Netherlands | E30: 1
A31: Austria | B31: 1 | C31: 1
A32: Poland | C32: 1
A33: Portugal | C33: 1
A34: Romania | B34: 1 | C34: 1
A35: Slovenia | B35: 1 | D35: 1
A36: Slovakia | B36: 1 | C36: 1
A37: Finland | B37: 1
A38: Sweden | B38: 1
A39: Bosnia and Herzegovina | C39: 1
A40: Switzerland | B40: 1 | C40: 1
A41: Iceland | C41: 1
...

Sheet Table 4.2
A1: Title: | B1: Digital education at school in Europe 2026: Bridging gaps in access, teaching and learning
A2: Chapter: | B2: Chapter 4: Digital competence in national curricula and assessment frameworks
A3: Table: | B3: Table 4.2: Compulsory starting level for teaching digital competence, ISCED 1, 24 and 34
A4: Reference year: | B4: 2024/2025
A5: Figure in report: | B5: Figure 4.2
A6: Source: | B6: Eurydice
A7: Back to the contents
B9: ISCED 1 | C9: ISCED 24 | D9: ISCED 34 | E9: Not defined by top-level authorities (school/local autonomy or top-level recommendation)
A10: Belgium (French Community) | B10: 1
A11: Belgium (German-speaking Community) | E11: 1
A12: Belgium (Flemish Community) | E12: 1
A13: Bulgaria | B13: 1
A14: Czechia | B14: 1
A15: Denmark | B15: 1
A16: Germany | E16: 1
A17: Estonia | B17: 1
A18: Ireland | B18: 1
A19: Greece | B19: 1
A20: Spain | B20: 1
A21: France | B21: 1
A22: Croatia | C22: 1
A23: Italy | E23: 1
A24: Cyprus | C24: 1
A25: Latvia | B25: 1
A26: Lithuania | B26: 1
A27: Luxembourg | B27: 1
A28: Hungary | B28: 1
A29: Malta | C29: 1
A30: Netherlands | E30: 1
A31: Austria | B31: 1
A32: Poland | B32: 1
A33: Portugal | B33: 1
A34: Romania | B34: 1
A35: Slovenia | D35: 1
A36: Slovakia | B36: 1
A37: Finland | B37: 1
A38: Sweden | B38: 1
A39: Bosnia and Herzegovina | B39: 1
A40: Switzerland | B40: 1
A41: Iceland | B41: 1
...

Sheet Table 4.3
A1: Title: | B1: Digital education at school in Europe 2026: Bridging gaps in access, teaching and learning
A2: Chapter: | B2: Chapter 4: Digital competence in national curricula and assessment frameworks
A3: Table: | B3: Table 4.3: Inclusion of artificial intellegence (AI) related competences into national lower secondary education curricula, ISCED 24
A4: Reference year: | B4: 2024/2025
A5: Figure in report: | B5: Figure 4.4
A6: Source: | B6: Eurydice
A7: Back to the contents
B9: AI related competences are included into curriculum | C9: AI related competences are not included into curriculum
A10: Belgium (French Community) | C10: 1
A11: Belgium (German-speaking Community) | C11: 1
A12: Belgium (Flemish Community) | C12: 1
A13: Bulgaria | C13: 1
A14: Czechia | C14: 1
A15: Denmark | C15: 1
A16: Germany | B16: 1
A17: Estonia | B17: 1
A18: Ireland | C18: 1
A19: Greece | B19: 1
A20: Spain | B20: 1
A21: France | B21: 1
A22: Croatia | C22: 1
A23: Italy | B23: 1
A24: Cyprus | B24: 1
A25: Latvia | C25: 1
A26: Lithuania | B26: 1
A27: Luxembourg | B27: 1
A28: Hungary | C28: 1
A29: Malta | C29: 1
A30: Netherlands | C30: 1
A31: Austria | B31: 1
A32: Poland | C32: 1
A33: Portugal | C33: 1
A34: Romania | C34: 1
A35: Slovenia | C35: 1
A36: Slovakia | C36: 1
A37: Finland | C37: 1
A38: Sweden | C38: 1
A39: Bosnia and Herzegovina | C39: 1
A40: Switzerland | C40: 1
A41: Iceland | B41: 1
...

Sheet Table 4.4
A1: Title: | B1: Digital education at school in Europe 2026: Bridging gaps in access, teaching and learning
A2: Chapter: | B2: Chapter 4: Digital competence in national curricula and assessment frameworks
A3: Table: | B3: Table 4.4: Integration of student's digital competence into top-level assessment frameworks and specified provisions, ISCED 24
A4: Reference year: | B4: 2024/2025
A5: Figure in report: | B5: Figure 4 of the Executive summary, Figure 4.5, table below the Figure 4.5
A6: Source: | B6: Eurydice
A7: Back to the contents
B9: Assessment of digital competence is set in top-level regulations | C9: Assessment of digital competence is set in top-level recommendations | D9: Top-level regulations or recommendations do not include digital competence | E9: No top-level regulations or recommendations on assessment | F9: Top-level assessment framework(s) specifies competences to be assessed | G9: Top-level assessment framework(s) specifies assessment criteria | H9: Top-level assessment framework(s) specifies assessment tools
A10: Belgium (French Community) | B10: 1 | F10: 1
A11: Belgium (German-speaking Community) | E11: 1
A12: Belgium (Flemish Community) | E12: 1
A13: Bulgaria | B13: 1 | F13: 1 | G13: 1
A14: Czechia | B14: 1 | F14: 1 | G14: 1 | H14: 1
A15: Denmark | E15: 1
A16: Germany | B16: 1
A17: Estonia | B17: 1 | F17: 1 | G17: 1 | H17: 1
A18: Ireland | C18: 1 | F18: 1 | G18: 1 | H18: 1
A19: Greece | C19: 1 | F19: 1
A20: Spain | B20: 1 | F20: 1 | G20: 1 | H20: 1
A21: France | B21: 1 | C21: 1 | F21: 1 | G21: 1 | H21: 1
A22: Croatia | C22: 1 | F22: 1 | G22: 1
A23: Italy | B23: 1 | F23: 1
A24: Cyprus | C24: 1 | F24: 1 | G24: 1 | H24: 1
A25: Latvia | B25: 1 | C25: 1 | F25: 1 | G25: 1
A26: Lithuania | B26: 1 | F26: 1 | G26: 1
A27: Luxembourg | B27: 1 | F27: 1
A28: Hungary | B28: 1 | F28: 1 | H28: 1
A29: Malta | C29: 1 | F29: 1 | G29: 1 | H29: 1
A30: Netherlands | D30: 1
A31: Austria | B31: 1 | F31: 1 | G31: 1
A32: Poland | B32: 1 | F32: 1 | G32: 1 | H32: 1
A33: Portugal | D33: 1
A34: Romania | D34: 1
A35: Slovenia | E35: 1
A36: Slovakia | B36: 1 | C36: 1
A37: Finland | C37: 1 | F37: 1
A38: Sweden | C38: 1 | F38: 1
A39: Bosnia and Herzegovina | E39: 1
A40: Switzerland | B40: 1 | F40: 1
A41: Iceland | B41: 1 | F41: 1 | G41: 1
...

Sheet Table 4.5
A1: Title: | B1: Digital education at school in Europe 2026: Bridging gaps in access, teaching and learning
A2: Chapter: | B2: Chapter 4: Digital competence in national curricula and assessment frameworks
A3: Table: | B3: Table 4.5: Assessment of student's digital competence through national/standardised tests, ISCED 24
A4: Reference year: | B4: 2024/2025
A5: Figure in report: | B5: Figure 4 of the Executive summary, Figure 4.6
A6: Source: | B6: Eurydice
A7: Back to the contents
B9: Digital competence of all students is assessed through national/standardised tests | C9: Digital competence of some students is assessed through national/standardised tests | D9: There are no national/standardised tests in lower secondary education | E9: Digital competence of students is not assessed through national/standardised tests
A10: Belgium (French Community) | E10: 1
A11: Belgium (German-speaking Community) | E11: 1
A12: Belgium (Flemish Community) | E12: 1
A13: Bulgaria | E13: 1
A14: Czechia | C14: 1
A15: Denmark | E15: 1
A16: Germany | E16: 1
A17: Estonia | E17: 1
A18: Ireland | E18: 1
A19: Greece | E19: 1
A20: Spain | E20: 1
A21: France | B21: 1
A22: Croatia | E22: 1
A23: Italy | D23: 1
A24: Cyprus | E24: 1
A25: Latvia | D25: 1
A26: Lithuania | E26: 1
A27: Luxembourg | E27: 1
A28: Hungary | B28: 1
A29: Malta | B29: 1
A30: Netherlands | D30: 1
A31: Austria | E31: 1
A32: Poland | E32: 1
A33: Portugal | E33: 1
A34: Romania | E34: 1
A35: Slovenia | E35: 1
A36: Slovakia | E36: 1
A37: Finland | D37: 1
A38: Sweden | E38: 1
A39: Bosnia and Herzegovina | E39: 1
A40: Switzerland | D40: 1
A41: Iceland | E41: 1
...

Sheet Table 5.1
A1: Title: | B1: Digital education at school in Europe 2026: Bridging gaps in access, teaching and learning
A2: Chapter: | B2: Chapter 5: Integrating digital technologies into teaching
A3: Table: | B3: Table 5.1: Digital competence frameworks for ITE, ISCED 24
A4: Reference year: | B4: 2024/2025
A5: Figure in report: | B5: Figure 5.1
A6: Source: | B6: Eurydice
A7: Back to the contents
B9: Teacher digital competences are laid out in regulations for ITE | C9: Teacher digital competences are laid out in guidelines for ITE | D9: Regulations or guidelines for ITE do not include digital competences | E9: There are no regulations or guidelines for ITE
A10: Belgium (French Community) | C10: 1
A11: Belgium (German-speaking Community) | E11: 1
A12: Belgium (Flemish Community) | D12: 1
A13: Bulgaria | D13: 1
A14: Czechia | B14: 1
A15: Denmark | B15: 1
A16: Germany | C16: 1
A17: Estonia | B17: 1
A18: Ireland | B18: 1
A19: Greece | D19: 1
A20: Spain | B20: 1 | C20: 1
A21: France | B21: 1
A22: Croatia | D22: 1
A23: Italy | B23: 1
A24: Cyprus | B24: 1
A25: Latvia | B25: 1 | C25: 1
A26: Lithuania | B26: 1
A27: Luxembourg | C27: 1
A28: Hungary | B28: 1
A29: Malta | E29: 1
A30: Netherlands | B30: 1
A31: Austria | C31: 1
A32: Poland | B32: 1
A33: Portugal | D33: 1
A34: Romania | B34: 1
A35: Slovenia | D35: 1
A36: Slovakia | B36: 1
A37: Finland | E37: 1
A38: Sweden | B38: 1
A39: Bosnia and Herzegovina | E39: 1
A40: Switzerland | D40: 1
A41: Iceland | B41: 1
...

Sheet Table 5.2
A1: Title: | B1: Digital education at school in Europe 2026: Bridging gaps in access, teaching and learning
A2: Chapter: | B2: Chapter 5: Integrating digital technologies into teaching
A3: Table: | B3: Table 5.2: Digital competence areas covered in ITE frameworks, ISCED 24
A4: Reference year: | B4: 2024/2025
A5: Figure in report: | B5: Figure 7 of the Executive summary, Figure 5.2
A6: Source: | B6: Eurydice
A7: Back to the contents
B9: Use of digital technologies to enhance teaching and learning | C9: Selecting, creating and managing digital content | D9: Use of digital technologies for communication, collaboration and professional development | E9: Use of digital technologies to enhance inclusion, personalisation and learners’ active engagement | F9: Enabling learners to use digital technologies responsibly | G9: Use of digital technologies to assess student learning | H9: Safe and ethical use of AI
A10: Belgium (French Community)
A11: Belgium (German-speaking Community) | B11: (-) | C11: (-) | D11: (-) | E11: (-) | F11: (-) | G11: (-) | H11: (-)
A12: Belgium (Flemish Community) | B12: (-) | C12: (-) | D12: (-) | E12: (-) | F12: (-) | G12: (-) | H12: (-)
A13: Bulgaria | B13: (-) | C13: (-) | D13: (-) | E13: (-) | F13: (-) | G13: (-) | H13: (-)
A14: Czechia | B14: 1 | C14: 1 | D14: 1 | E14: 1 | F14: 1 | G14: 1 | H14: 1
A15: Denmark | B15: 1 | C15: 1
A16: Germany | B16: 2 | C16: 2 | D16: 2 | E16: 2 | F16: 2 | G16: 2 | H16: 2
A17: Estonia | B17: 1 | C17: 1 | D17: 1 | E17: 1 | F17: 1 | G17: 1
A18: Ireland | B18: 1 | C18: 1 | D18: 1 | E18: 1 | F18: 1 | G18: 1
A19: Greece | B19: (-) | C19: (-) | D19: (-) | E19: (-) | F19: (-) | G19: (-) | H19: (-)
A20: Spain | B20: 2 | C20: 2 | D20: 2 | E20: 2 | F20: 2 | G20: 2 | H20: 2
A21: France | B21: 1 | C21: 1 | D21: 1 | E21: 1 | F21: 1 | G21: 1 | H21: 1
A22: Croatia | B22: (-) | C22: (-) | D22: (-) | E22: (-) | F22: (-) | G22: (-) | H22: (-)
A23: Italy | B23: 1 | C23: 1 | D23: 1 | E23: 1 | F23: 1 | G23: 1
A24: Cyprus | B24: 1 | C24: 1 | D24: 1 | E24: 1 | G24: 1
A25: Latvia | B25: 2 | C25: 2 | D25: 2 | E25: 2 | F25: 2 | G25: 2 | H25: 2
A26: Lithuania | B26: 1 | C26: 1 | D26: 1 | E26: 1 | F26: 1 | G26: 1
A27: Luxembourg | B27: 2 | C27: 2 | D27: 2 | E27: 2 | F27: 2
A28: Hungary | B28: 1 | C28: 1 | D28: 1 | E28: 1 | F28: 1 | G28: 1
A29: Malta | B29: (-) | C29: (-) | D29: (-) | E29: (-) | F29: (-) | G29: (-) | H29: (-)
A30: Netherlands | B30: 1 | C30: 1 | D30: 1
A31: Austria | B31: 2 | C31: 2 | D31: 2 | E31: 2 | F31: 2 | G31: 2
A32: Poland | B32: 1 | C32: 1 | D32: 1 | E32: 1 | F32: 1
A33: Portugal | B33: (-) | C33: (-) | D33: (-) | E33: (-) | F33: (-) | G33: (-) | H33: (-)
A34: Romania | B34: 1 | C34: 1 | D34: 1 | E34: 1 | F34: 1 | G34: 1 | H34: 1
A35: Slovenia | B35: (-) | C35: (-) | D35: (-) | E35: (-) | F35: (-) | G35: (-) | H35: (-)
A36: Slovakia
A37: Finland | B37: (-) | C37: (-) | D37: (-) | E37: (-) | F37: (-) | G37: (-) | H37: (-)
A38: Sweden | B38: 1 | G38: 1
A39: Bosnia and Herzegovina | B39: (-) | C39: (-) | D39: (-) | E39: (-) | F39: (-) | G39: (-) | H39: (-)
A40: Switzerland | B40: (-) | C40: (-) | D40: (-) | E40: (-) | F40: (-) | G40: (-) | H40: (-)
A41: Iceland | B41: 1
...

Sheet Table 5.3
A1: Title: | B1: Digital education at school in Europe 2026: Bridging gaps in access, teaching and learning
A2: Chapter: | B2: Chapter 5: Integrating digital technologies into teaching
A3: Table: | B3: Table 5.3: Digital competence frameworks for CPD, ISCED 24
A4: Reference year: | B4: 2024/2025
A5: Figure in report: | B5: Figure 5.6
A6: Source: | B6: Eurydice
A7: Back to the contents
B9: Teacher digital competences are laid out in regulations for CPD | C9: Teacher digital competences are laid out in guidelines for CPD | D9: Regulations or guidelines for CPD do not include digital competences | E9: There are no regulations or guidelines for CPD
A10: Belgium (French Community) | C10: 1
A11: Belgium (German-speaking Community) | E11: 1
A12: Belgium (Flemish Community) | C12: 1
A13: Bulgaria | D13: 1
A14: Czechia | C14: 1
A15: Denmark | D15: 1
A16: Germany | C16: 1
A17: Estonia | C17: 1
A18: Ireland | D18: 1
A19: Greece | D19: 1
A20: Spain | C20: 1
A21: France | C21: 1
A22: Croatia | C22: 1
A23: Italy | C23: 1
A24: Cyprus | C24: 1
A25: Latvia | C25: 1
A26: Lithuania | C26: 1
A27: Luxembourg | E27: 1
A28: Hungary | D28: 1
A29: Malta | E29: 1
A30: Netherlands | C30: 1
A31: Austria | C31: 1
A32: Poland | C32: 1
A33: Portugal | C33: 1
A34: Romania | B34: 1
A35: Slovenia | E35: 1
A36: Slovakia | D36: 1
A37: Finland | D37: 1
A38: Sweden | D38: 1
A39: Bosnia and Herzegovina | D39: 1
A40: Switzerland | D40: 1
A41: Iceland | C41: 1
...

Sheet Table 5.4
A1: Title: | B1: Digital education at school in Europe 2026: Bridging gaps in access, teaching and learning
A2: Chapter: | B2: Chapter 5: Integrating digital technologies into teaching
A3: Table: | B3: Table 5.4: Digital competence areas covered in CPD frameworks, ISCED 24
A4: Reference year: | B4: 2024/2025
A5: Figure in report: | B5: Figure 7 of the Executive summary, Figure 5.7
A6: Source: | B6: Eurydice
A7: Back to the contents
B9: Use of digital technologies to enhance teaching and learning | C9: Use of digital technologies for communication, collaboration and professional development | D9: Selecting, creating and managing digital content | E9: Use of digital technologies to enhance inclusion, personalisation and learners’ active engagement | F9: Enabling learners to use digital technologies responsibly | G9: Use of digital technologies to assess student learning | H9: Safe and ethical use of AI
A10: Belgium (French Community) | B10: 2 | C10: 2 | D10: 2 | E10: 2 | F10: 2 | G10: 2 | H10: 2
A11: Belgium (German-speaking Community) | B11: (-) | C11: (-) | D11: (-) | E11: (-) | F11: (-) | G11: (-) | H11: (-)
A12: Belgium (Flemish Community) | B12: 2 | C12: 2 | D12: 2 | E12: 2 | F12: 2 | G12: 2 | H12: 2
A13: Bulgaria | B13: (-) | C13: (-) | D13: (-) | E13: (-) | F13: (-) | G13: (-) | H13: (-)
A14: Czechia | B14: 2 | C14: 2 | D14: 2 | E14: 2 | F14: 2 | G14: 2 | H14: 2
A15: Denmark | B15: (-) | C15: (-) | D15: (-) | E15: (-) | F15: (-) | G15: (-) | H15: (-)
A16: Germany | B16: 2 | C16: 2 | D16: 2 | E16: 2 | F16: 2 | G16: 2 | H16: 2
A17: Estonia | B17: 2 | C17: 2 | D17: 2 | E17: 2 | F17: 2 | G17: 2
A18: Ireland | B18: (-) | C18: (-) | D18: (-) | E18: (-) | F18: (-) | G18: (-) | H18: (-)
A19: Greece | B19: (-) | C19: (-) | D19: (-) | E19: (-) | F19: (-) | G19: (-) | H19: (-)
A20: Spain | B20: 2 | C20: 2 | D20: 2 | E20: 2 | F20: 2 | G20: 2 | H20: 2
A21: France | B21: 2 | C21: 2 | D21: 2 | E21: 2 | F21: 2 | G21: 2 | H21: 2
A22: Croatia | B22: 2 | C22: 2 | D22: 2 | E22: 2 | F22: 2 | G22: 2
A23: Italy | B23: 2 | C23: 2 | D23: 2 | E23: 2 | F23: 2 | G23: 2 | H23: 2
A24: Cyprus | B24: 2 | C24: 2 | D24: 2 | E24: 2 | F24: 2 | G24: 2 | H24: 2
A25: Latvia | B25: 2 | C25: 2 | D25: 2 | E25: 2 | F25: 2 | G25: 2 | H25: 2
A26: Lithuania | B26: 2 | C26: 2 | D26: 2 | E26: 2 | F26: 2 | G26: 2
A27: Luxembourg | B27: (-) | C27: (-) | D27: (-) | E27: (-) | F27: (-) | G27: (-) | H27: (-)
A28: Hungary | B28: (-) | C28: (-) | D28: (-) | E28: (-) | F28: (-) | G28: (-) | H28: (-)
A29: Malta | B29: (-) | C29: (-) | D29: (-) | E29: (-) | F29: (-) | G29: (-) | H29: (-)
A30: Netherlands | B30: 2 | C30: 2 | D30: 2
A31: Austria | B31: 2 | C31: 2 | D31: 2 | E31: 2 | F31: 2 | G31: 2
A32: Poland | B32: 2 | C32: 2 | D32: 2 | E32: 2 | F32: 2 | G32: 2 | H32: 2
A33: Portugal | B33: 2 | C33: 2 | D33: 2 | E33: 2 | F33: 2 | G33: 2 | H33: 2
A34: Romania | B34: 1 | C34: 1 | D34: 1 | E34: 1 | F34: 1 | G34: 1 | H34: 1
A35: Slovenia | B35: (-) | C35: (-) | D35: (-) | E35: (-) | F35: (-) | G35: (-) | H35: (-)
A36: Slovakia | B36: (-) | C36: (-) | D36: (-) | E36: (-) | F36: (-) | G36: (-) | H36: (-)
A37: Finland | B37: (-) | C37: (-) | D37: (-) | E37: (-) | F37: (-) | G37: (-) | H37: (-)
A38: Sweden | B38: (-) | C38: (-) | D38: (-) | E38: (-) | F38: (-) | G38: (-) | H38: (-)
A39: Bosnia and Herzegovina | B39: (-) | C39: (-) | D39: (-) | E39: (-) | F39: (-) | G39: (-) | H39: (-)
A40: Switzerland | B40: (-) | C40: (-) | D40: (-) | E40: (-) | F40: (-) | G40: (-) | H40: (-)
A41: Iceland | B41: 2
...

Sheet Table 5.5
A1: Title: | B1: Digital education at school in Europe 2026: Bridging gaps in access, teaching and learning
A2: Chapter: | B2: Chapter 5: Integrating digital technologies into teaching
A3: Table: | B3: Table 5.5: Measures to promote the continuing development of teacher digital competences, ISCED 24
A4: Reference year: | B4: 2024/2025
A5: Figure in report: | B5: Figure 9 of the Executive summary, Figure 5.12
A6: Source: | B6: Eurydice
A7: Back to the contents
B9: Dedicated networks and communities of practice | C9: Self-assessment tools (including SELFIE for Teachers) | D9: Staff exchanges, peer learning and mentoring | E9: Systematic evaluation of CPD on digital competence, incorporating teacher feedback | F9: Personalised learning paths to develop teacher digital skills | G9: Recognition and rewards | H9: Evaluation of teachers' digital competences in appraisal
A10: Belgium (French Community) | B10: 1 | C10: 1 | E10: 1 | F10: 1 | G10: 1
A11: Belgium (German-speaking Community)
A12: Belgium (Flemish Community) | B12: 1 | C12: 1 | F12: 1
A13: Bulgaria | B13: 1 | C13: 1 | D13: 1 | E13: 1 | F13: 1 | H13: 1
A14: Czechia | B14: 1 | C14: 1 | D14: 1 | E14: 1
A15: Denmark
A16: Germany | B16: 1 | E16: 1
A17: Estonia | B17: 1 | C17: 1 | D17: 1 | E17: 1 | F17: 1 | H17: 1
A18: Ireland | B18: 1 | C18: 1 | D18: 1 | E18: 1 | F18: 1
A19: Greece
A20: Spain | B20: 1 | C20: 1 | D20: 1 | E20: 1 | F20: 1 | G20: 1 | H20: 1
A21: France | B21: 1 | C21: 1 | D21: 1 | E21: 1 | F21: 1 | G21: 1 | H21: 1
A22: Croatia | B22: 1 | C22: 1 | F22: 1 | G22: 1
A23: Italy | B23: 1 | C23: 1 | D23: 1 | E23: 1 | F23: 1 | G23: 1
A24: Cyprus | C24: 1 | F24: 1
A25: Latvia | B25: 1 | C25: 1 | D25: 1 | E25: 1 | G25: 1
A26: Lithuania | C26: 1
A27: Luxembourg | B27: 1 | D27: 1 | F27: 1 | G27: 1
A28: Hungary | B28: 1 | C28: 1 | E28: 1
A29: Malta | C29: 1 | E29: 1 | F29: 1 | G29: 1
A30: Netherlands | B30: 1
A31: Austria | B31: 1 | C31: 1 | D31: 1 | G31: 1
A32: Poland | B32: 1 | C32: 1 | D32: 1 | E32: 1 | G32: 1 | H32: 1
A33: Portugal | B33: 1 | C33: 1 | D33: 1 | E33: 1 | F33: 1 | G33: 1 | H33: 1
A34: Romania | B34: 1 | C34: 1 | D34: 1 | E34: 1 | F34: 1 | G34: 1 | H34: 1
A35: Slovenia | B35: 1 | C35: 1 | D35: 1 | G35: 1
A36: Slovakia | B36: 1 | C36: 1 | D36: 1
A37: Finland | B37: 1
A38: Sweden | C38: 1
A39: Bosnia and Herzegovina
A40: Switzerland | B40: 1 | C40: 1 | F40: 1
A41: Iceland | F41: 1
...

Sheet Table 5.6
A1: Title: | B1: Digital education at school in Europe 2026: Bridging gaps in access, teaching and learning
A2: Chapter: | B2: Chapter 5: Integrating digital technologies into teaching
A3: Table: | B3: Table 5.6: Guidelines on emerging issues associated with the use of digital technologies, ISCED 24
A4: Reference year: | B4: 2024/2025
A5: Figure in report: | B5: Figure 5.13
A6: Source: | B6: Eurydice
A7: Back to the contents
B9: Managing problems arising from digital communication | C9: Combating disinformation and promoting critical thinking | D9: Using AI in a responsible and effective manner | E9: Using digital materials effectively
A10: Belgium (French Community) | B10: 1 | C10: 1 | D10: 1
A11: Belgium (German-speaking Community)
A12: Belgium (Flemish Community) | B12: 1 | C12: 1 | D12: 1
A13: Bulgaria | D13: 1
A14: Czechia | B14: 1 | C14: 1 | D14: 1 | E14: 1
A15: Denmark | B15: 1 | D15: 1 | E15: 1
A16: Germany | B16: 1 | C16: 1 | D16: 1 | E16: 1
A17: Estonia | B17: 1 | C17: 1 | D17: 1 | E17: 1
A18: Ireland | B18: 1 | C18: 1 | D18: 1
A19: Greece
A20: Spain | B20: 1 | D20: 1 | E20: 1
A21: France | B21: 1 | C21: 1 | D21: 1
A22: Croatia | B22: 1 | E22: 1
A23: Italy | B23: 1 | C23: 1 | D23: 1
A24: Cyprus | B24: 1
A25: Latvia | B25: 1 | C25: 1
A26: Lithuania | B26: 1 | C26: 1 | D26: 1 | E26: 1
A27: Luxembourg | B27: 1 | C27: 1 | D27: 1
A28: Hungary
A29: Malta | B29: 1 | C29: 1 | E29: 1
A30: Netherlands
A31: Austria | B31: 1 | C31: 1 | D31: 1
A32: Poland | B32: 1 | C32: 1 | D32: 1
A33: Portugal | B33: 1 | C33: 1 | E33: 1
A34: Romania | B34: 1 | C34: 1 | E34: 1
A35: Slovenia | B35: 1 | C35: 1
A36: Slovakia | B36: 1 | C36: 1 | D36: 1
A37: Finland | B37: 1 | C37: 1 | D37: 1 | E37: 1
A38: Sweden | B38: 1 | C38: 1 | D38: 1 | E38: 1
A39: Bosnia and Herzegovina
A40: Switzerland | B40: 1 | C40: 1 | D40: 1 | E40: 1
A41: Iceland | B41: 1
...

Sheet Table 5.7
A1: Title: | B1: Digital education at school in Europe 2026: Bridging gaps in access, teaching and learning
A2: Chapter: | B2: Chapter 5: Integrating digital technologies into teaching
A3: Table: | B3: Table 5.7: CPD and guidance documents on the integration of digital technologies for school leaders, ISCED 24
A4: Reference year: | B4: 2024/2025
A5: Figure in report: | B5: Figure 10 of the Executive summary, Figure 5.14
A6: Source: | B6: Eurydice
A7: Back to the contents
B9: CPD opportunities and guidance documents | C9: CPD opportunities | D9: Guidance documents | E9: No specific CPD or guidelines for school leaders
A10: Belgium (French Community) | B10: 1
A11: Belgium (German-speaking Community) | C11: 1
A12: Belgium (Flemish Community) | E12: 1
A13: Bulgaria | E13: 1
A14: Czechia | B14: 1
A15: Denmark | E15: 1
A16: Germany | B16: 1
A17: Estonia | B17: 1
A18: Ireland | B18: 1
A19: Greece | C19: 1
A20: Spain | B20: 1
A21: France | B21: 1
A22: Croatia | B22: 1
A23: Italy | B23: 1
A24: Cyprus | B24: 1
A25: Latvia | B25: 1
A26: Lithuania | B26: 1
A27: Luxembourg | C27: 1
A28: Hungary | B28: 1
A29: Malta | B29: 1
A30: Netherlands | D30: 1
A31: Austria | B31: 1
A32: Poland | D32: 1
A33: Portugal | D33: 1
A34: Romania | E34: 1
A35: Slovenia | B35: 1
A36: Slovakia | B36: 1
A37: Finland | B37: 1
A38: Sweden | B38: 1
A39: Bosnia and Herzegovina | E39: 1
A40: Switzerland | B40: 1
A41: Iceland | E41: 1
...

Sheet Table 5.8
A1: Title: | B1: Digital education at school in Europe 2026: Bridging gaps in access, teaching and learning
A2: Chapter: | B2: Chapter 5: Integrating digital technologies into teaching
A3: Table: | B3: Table 5.8: Main role of school digital coordinators, ISCED 24
A4: Reference year: | B4: 2024/2025
A5: Figure in report: | B5: Figure 10 of the Executive summary, Figure 5.15
A6: Source: | B6: Eurydice
A7: Back to the contents
B9: School digital coordinators provide both technical and pedagogical support | C9: School digital coordinators provide mainly pedagogical support | D9: School digital coordinators provide mainly technical support | E9: The appointment of a digital coordinator at school is not centrally regulated
A10: Belgium (French Community) | B10: 1
A11: Belgium (German-speaking Community) | B11: 1
A12: Belgium (Flemish Community) | B12: 1
A13: Bulgaria | B13: 1
A14: Czechia | B14: 1
A15: Denmark | E15: 1
A16: Germany | E16: 1
A17: Estonia | B17: 1
A18: Ireland | E18: 1
